BEGIN:VCALENDAR
VERSION:2.0
PRODID:-//St John&#039;s Church, Ainsdale - ECPv6.15.20//NONSGML v1.0//EN
CALSCALE:GREGORIAN
METHOD:PUBLISH
X-ORIGINAL-URL:https://stjohnsainsdale.org.uk
X-WR-CALDESC:Events for St John&#039;s Church, Ainsdale
REFRESH-INTERVAL;VALUE=DURATION:PT1H
X-Robots-Tag:noindex
X-PUBLISHED-TTL:PT1H
BEGIN:VTIMEZONE
TZID:Europe/London
BEGIN:DAYLIGHT
TZOFFSETFROM:+0000
TZOFFSETTO:+0100
TZNAME:BST
DTSTART:20240331T010000
END:DAYLIGHT
BEGIN:STANDARD
TZOFFSETFROM:+0100
TZOFFSETTO:+0000
TZNAME:GMT
DTSTART:20241027T010000
END:STANDARD
BEGIN:DAYLIGHT
TZOFFSETFROM:+0000
TZOFFSETTO:+0100
TZNAME:BST
DTSTART:20250330T010000
END:DAYLIGHT
BEGIN:STANDARD
TZOFFSETFROM:+0100
TZOFFSETTO:+0000
TZNAME:GMT
DTSTART:20251026T010000
END:STANDARD
BEGIN:DAYLIGHT
TZOFFSETFROM:+0000
TZOFFSETTO:+0100
TZNAME:BST
DTSTART:20260329T010000
END:DAYLIGHT
BEGIN:STANDARD
TZOFFSETFROM:+0100
TZOFFSETTO:+0000
TZNAME:GMT
DTSTART:20261025T010000
END:STANDARD
END:VTIMEZONE
BEGIN:VEVENT
DTSTART;TZID=Europe/London:20250611T103000
DTEND;TZID=Europe/London:20250611T120000
DTSTAMP:20260424T213551
CREATED:20250606T091437Z
LAST-MODIFIED:20250606T091437Z
UID:13230-1749637800-1749643200@stjohnsainsdale.org.uk
SUMMARY:Little John's
DESCRIPTION:Baby & Toddler Group
URL:https://stjohnsainsdale.org.uk/event/little-johns-23/
LOCATION:St John’s Church\, Liverpool Road\, Southport\, PR8 3NG\, United Kingdom
CATEGORIES:Church Events,Little Johns
END:VEVENT
BEGIN:VEVENT
DTSTART;TZID=Europe/London:20250618T103000
DTEND;TZID=Europe/London:20250618T120000
DTSTAMP:20260424T213551
CREATED:20250606T093554Z
LAST-MODIFIED:20250606T093554Z
UID:13256-1750242600-1750248000@stjohnsainsdale.org.uk
SUMMARY:Little John's
DESCRIPTION:Baby & Toddler Group
URL:https://stjohnsainsdale.org.uk/event/little-johns-24/
LOCATION:St John’s Church\, Liverpool Road\, Southport\, PR8 3NG\, United Kingdom
CATEGORIES:Church Events,Little Johns
END:VEVENT
BEGIN:VEVENT
DTSTART;TZID=Europe/London:20250625T103000
DTEND;TZID=Europe/London:20250625T120000
DTSTAMP:20260424T213551
CREATED:20250606T101719Z
LAST-MODIFIED:20250606T101719Z
UID:13278-1750847400-1750852800@stjohnsainsdale.org.uk
SUMMARY:Little John's
DESCRIPTION:Baby & Toddler Group
URL:https://stjohnsainsdale.org.uk/event/little-johns-25/
LOCATION:St John’s Church\, Liverpool Road\, Southport\, PR8 3NG\, United Kingdom
CATEGORIES:Church Events,Little Johns
END:VEVENT
END:VCALENDAR