BEGIN:VCALENDAR
VERSION:2.0
PRODID:-//St John&#039;s Church, Ainsdale - ECPv6.15.20//NONSGML v1.0//EN
CALSCALE:GREGORIAN
METHOD:PUBLISH
X-WR-CALNAME:St John&#039;s Church, Ainsdale
X-ORIGINAL-URL:https://stjohnsainsdale.org.uk
X-WR-CALDESC:Events for St John&#039;s Church, Ainsdale
REFRESH-INTERVAL;VALUE=DURATION:PT1H
X-Robots-Tag:noindex
X-PUBLISHED-TTL:PT1H
BEGIN:VTIMEZONE
TZID:Europe/London
BEGIN:DAYLIGHT
TZOFFSETFROM:+0000
TZOFFSETTO:+0100
TZNAME:BST
DTSTART:20240331T010000
END:DAYLIGHT
BEGIN:STANDARD
TZOFFSETFROM:+0100
TZOFFSETTO:+0000
TZNAME:GMT
DTSTART:20241027T010000
END:STANDARD
BEGIN:DAYLIGHT
TZOFFSETFROM:+0000
TZOFFSETTO:+0100
TZNAME:BST
DTSTART:20250330T010000
END:DAYLIGHT
BEGIN:STANDARD
TZOFFSETFROM:+0100
TZOFFSETTO:+0000
TZNAME:GMT
DTSTART:20251026T010000
END:STANDARD
BEGIN:DAYLIGHT
TZOFFSETFROM:+0000
TZOFFSETTO:+0100
TZNAME:BST
DTSTART:20260329T010000
END:DAYLIGHT
BEGIN:STANDARD
TZOFFSETFROM:+0100
TZOFFSETTO:+0000
TZNAME:GMT
DTSTART:20261025T010000
END:STANDARD
END:VTIMEZONE
BEGIN:VEVENT
DTSTART;TZID=Europe/London:20251105T103000
DTEND;TZID=Europe/London:20251105T120000
DTSTAMP:20260424T135613
CREATED:20251030T150221Z
LAST-MODIFIED:20251030T150221Z
UID:13479-1762338600-1762344000@stjohnsainsdale.org.uk
SUMMARY:Little John's
DESCRIPTION:Baby & Todler Group
URL:https://stjohnsainsdale.org.uk/event/little-johns-31/
LOCATION:St John’s Church\, Liverpool Road\, Southport\, PR8 3NG\, United Kingdom
CATEGORIES:Church Events,Little Johns
END:VEVENT
BEGIN:VEVENT
DTSTART;TZID=Europe/London:20251112T103000
DTEND;TZID=Europe/London:20251112T120000
DTSTAMP:20260424T135613
CREATED:20251030T152043Z
LAST-MODIFIED:20251030T152043Z
UID:13500-1762943400-1762948800@stjohnsainsdale.org.uk
SUMMARY:Little John's
DESCRIPTION:Baby & Todler Group
URL:https://stjohnsainsdale.org.uk/event/little-johns-32/
LOCATION:St John’s Church\, Liverpool Road\, Southport\, PR8 3NG\, United Kingdom
CATEGORIES:Church Events,Little Johns
END:VEVENT
BEGIN:VEVENT
DTSTART;TZID=Europe/London:20251119T103000
DTEND;TZID=Europe/London:20251119T120000
DTSTAMP:20260424T135613
CREATED:20251030T155410Z
LAST-MODIFIED:20251030T155410Z
UID:13524-1763548200-1763553600@stjohnsainsdale.org.uk
SUMMARY:Little John's
DESCRIPTION:Baby & Todler Group
URL:https://stjohnsainsdale.org.uk/event/little-johns-33/
LOCATION:St John’s Church\, Liverpool Road\, Southport\, PR8 3NG\, United Kingdom
CATEGORIES:Church Events,Little Johns
END:VEVENT
BEGIN:VEVENT
DTSTART;TZID=Europe/London:20251126T103000
DTEND;TZID=Europe/London:20251126T120000
DTSTAMP:20260424T135613
CREATED:20251030T160529Z
LAST-MODIFIED:20251030T160529Z
UID:13542-1764153000-1764158400@stjohnsainsdale.org.uk
SUMMARY:Little John's
DESCRIPTION:Baby & Todler Group
URL:https://stjohnsainsdale.org.uk/event/little-johns-34/
LOCATION:St John’s Church\, Liverpool Road\, Southport\, PR8 3NG\, United Kingdom
CATEGORIES:Church Events,Little Johns
END:VEVENT
END:VCALENDAR