BEGIN:VCALENDAR
VERSION:2.0
PRODID:-//St John&#039;s Church, Ainsdale - ECPv6.15.20//NONSGML v1.0//EN
CALSCALE:GREGORIAN
METHOD:PUBLISH
X-WR-CALNAME:St John&#039;s Church, Ainsdale
X-ORIGINAL-URL:https://stjohnsainsdale.org.uk
X-WR-CALDESC:Events for St John&#039;s Church, Ainsdale
REFRESH-INTERVAL;VALUE=DURATION:PT1H
X-Robots-Tag:noindex
X-PUBLISHED-TTL:PT1H
BEGIN:VTIMEZONE
TZID:Europe/London
BEGIN:DAYLIGHT
TZOFFSETFROM:+0000
TZOFFSETTO:+0100
TZNAME:BST
DTSTART:20240331T010000
END:DAYLIGHT
BEGIN:STANDARD
TZOFFSETFROM:+0100
TZOFFSETTO:+0000
TZNAME:GMT
DTSTART:20241027T010000
END:STANDARD
BEGIN:DAYLIGHT
TZOFFSETFROM:+0000
TZOFFSETTO:+0100
TZNAME:BST
DTSTART:20250330T010000
END:DAYLIGHT
BEGIN:STANDARD
TZOFFSETFROM:+0100
TZOFFSETTO:+0000
TZNAME:GMT
DTSTART:20251026T010000
END:STANDARD
BEGIN:DAYLIGHT
TZOFFSETFROM:+0000
TZOFFSETTO:+0100
TZNAME:BST
DTSTART:20260329T010000
END:DAYLIGHT
BEGIN:STANDARD
TZOFFSETFROM:+0100
TZOFFSETTO:+0000
TZNAME:GMT
DTSTART:20261025T010000
END:STANDARD
BEGIN:DAYLIGHT
TZOFFSETFROM:+0000
TZOFFSETTO:+0100
TZNAME:BST
DTSTART:20270328T010000
END:DAYLIGHT
BEGIN:STANDARD
TZOFFSETFROM:+0100
TZOFFSETTO:+0000
TZNAME:GMT
DTSTART:20271031T010000
END:STANDARD
END:VTIMEZONE
BEGIN:VEVENT
DTSTART;TZID=Europe/London:20260415T103000
DTEND;TZID=Europe/London:20260415T120000
DTSTAMP:20260421T124917
CREATED:20260331T121454Z
LAST-MODIFIED:20260331T121454Z
UID:13891-1776249000-1776254400@stjohnsainsdale.org.uk
SUMMARY:Little John's
DESCRIPTION:Baby & Toddler Group
URL:https://stjohnsainsdale.org.uk/event/little-johns-45/
LOCATION:St John’s Church\, Liverpool Road\, Southport\, PR8 3NG\, United Kingdom
CATEGORIES:Church Events,Little Johns
END:VEVENT
BEGIN:VEVENT
DTSTART;TZID=Europe/London:20260318T103000
DTEND;TZID=Europe/London:20260318T120000
DTSTAMP:20260421T124917
CREATED:20260226T103124Z
LAST-MODIFIED:20260226T103124Z
UID:13825-1773829800-1773835200@stjohnsainsdale.org.uk
SUMMARY:Little John's
DESCRIPTION:Baby & Toddler Group
URL:https://stjohnsainsdale.org.uk/event/little-johns-44/
LOCATION:St John’s Church\, Liverpool Road\, Southport\, PR8 3NG\, United Kingdom
CATEGORIES:Church Events,Little Johns
END:VEVENT
BEGIN:VEVENT
DTSTART;TZID=Europe/London:20260311T103000
DTEND;TZID=Europe/London:20260311T120000
DTSTAMP:20260421T124917
CREATED:20260226T101332Z
LAST-MODIFIED:20260226T101332Z
UID:13805-1773225000-1773230400@stjohnsainsdale.org.uk
SUMMARY:Little John's
DESCRIPTION:Baby & Toddler Group
URL:https://stjohnsainsdale.org.uk/event/little-johns-43/
LOCATION:St John’s Church\, Liverpool Road\, Southport\, PR8 3NG\, United Kingdom
CATEGORIES:Church Events,Little Johns
END:VEVENT
BEGIN:VEVENT
DTSTART;TZID=Europe/London:20260304T103000
DTEND;TZID=Europe/London:20260304T120000
DTSTAMP:20260421T124917
CREATED:20260226T100029Z
LAST-MODIFIED:20260226T100029Z
UID:13787-1772620200-1772625600@stjohnsainsdale.org.uk
SUMMARY:Little John's
DESCRIPTION:Baby & Toddler Group
URL:https://stjohnsainsdale.org.uk/event/little-johns-42/
LOCATION:St John’s Church\, Liverpool Road\, Southport\, PR8 3NG\, United Kingdom
CATEGORIES:Church Events,Little Johns
END:VEVENT
BEGIN:VEVENT
DTSTART;TZID=Europe/London:20260225T103000
DTEND;TZID=Europe/London:20260225T120000
DTSTAMP:20260421T124917
CREATED:20260122T125124Z
LAST-MODIFIED:20260122T125124Z
UID:13764-1772015400-1772020800@stjohnsainsdale.org.uk
SUMMARY:Little John's
DESCRIPTION:Baby & Toddler Group
URL:https://stjohnsainsdale.org.uk/event/little-johns-41/
LOCATION:St John’s Church\, Liverpool Road\, Southport\, PR8 3NG\, United Kingdom
CATEGORIES:Church Events,Little Johns
END:VEVENT
BEGIN:VEVENT
DTSTART;TZID=Europe/London:20260211T103000
DTEND;TZID=Europe/London:20260211T120000
DTSTAMP:20260421T124917
CREATED:20260122T122231Z
LAST-MODIFIED:20260122T122231Z
UID:13736-1770805800-1770811200@stjohnsainsdale.org.uk
SUMMARY:Little John's
DESCRIPTION:Baby & Toddler Group
URL:https://stjohnsainsdale.org.uk/event/little-johns-40/
LOCATION:St John’s Church\, Liverpool Road\, Southport\, PR8 3NG\, United Kingdom
CATEGORIES:Church Events,Little Johns
END:VEVENT
BEGIN:VEVENT
DTSTART;TZID=Europe/London:20260204T103000
DTEND;TZID=Europe/London:20260204T120000
DTSTAMP:20260421T124917
CREATED:20260122T115308Z
LAST-MODIFIED:20260122T115308Z
UID:13715-1770201000-1770206400@stjohnsainsdale.org.uk
SUMMARY:Little John's
DESCRIPTION:Baby & Toddler Group
URL:https://stjohnsainsdale.org.uk/event/little-johns-39/
LOCATION:St John’s Church\, Liverpool Road\, Southport\, PR8 3NG\, United Kingdom
CATEGORIES:Church Events,Little Johns
END:VEVENT
BEGIN:VEVENT
DTSTART;TZID=Europe/London:20260128T103000
DTEND;TZID=Europe/London:20260128T120000
DTSTAMP:20260421T124917
CREATED:20260109T095334Z
LAST-MODIFIED:20260109T095334Z
UID:13696-1769596200-1769601600@stjohnsainsdale.org.uk
SUMMARY:Little John's
DESCRIPTION:Baby & Toddler Group
URL:https://stjohnsainsdale.org.uk/event/little-johns-38/
LOCATION:St John’s Church\, Liverpool Road\, Southport\, PR8 3NG\, United Kingdom
CATEGORIES:Church Events,Little Johns
END:VEVENT
BEGIN:VEVENT
DTSTART;TZID=Europe/London:20260121T103000
DTEND;TZID=Europe/London:20260121T120000
DTSTAMP:20260421T124917
CREATED:20260109T094206Z
LAST-MODIFIED:20260109T094206Z
UID:13678-1768991400-1768996800@stjohnsainsdale.org.uk
SUMMARY:Little John's
DESCRIPTION:Baby & Toddler Group
URL:https://stjohnsainsdale.org.uk/event/little-johns-37/
LOCATION:St John’s Church\, Liverpool Road\, Southport\, PR8 3NG\, United Kingdom
CATEGORIES:Church Events,Little Johns
END:VEVENT
BEGIN:VEVENT
DTSTART;TZID=Europe/London:20260114T103000
DTEND;TZID=Europe/London:20260114T120000
DTSTAMP:20260421T124917
CREATED:20260109T092615Z
LAST-MODIFIED:20260109T092615Z
UID:13658-1768386600-1768392000@stjohnsainsdale.org.uk
SUMMARY:Little John's
DESCRIPTION:Baby & Toddler Group
URL:https://stjohnsainsdale.org.uk/event/little-johns-36/
LOCATION:St John’s Church\, Liverpool Road\, Southport\, PR8 3NG\, United Kingdom
CATEGORIES:Church Events,Little Johns
END:VEVENT
BEGIN:VEVENT
DTSTART;TZID=Europe/London:20251210T103000
DTEND;TZID=Europe/London:20251210T120000
DTSTAMP:20260421T124917
CREATED:20251127T101420Z
LAST-MODIFIED:20251127T101420Z
UID:13583-1765362600-1765368000@stjohnsainsdale.org.uk
SUMMARY:Little John's - Scratch Nativity
DESCRIPTION:Baby & Toddler Group
URL:https://stjohnsainsdale.org.uk/event/little-johns-scratch-nativity/
LOCATION:St John’s Church\, Liverpool Road\, Southport\, PR8 3NG\, United Kingdom
CATEGORIES:Church Events,Little Johns
END:VEVENT
BEGIN:VEVENT
DTSTART;TZID=Europe/London:20251203T103000
DTEND;TZID=Europe/London:20251203T120000
DTSTAMP:20260421T124917
CREATED:20251127T095848Z
LAST-MODIFIED:20251127T095848Z
UID:13563-1764757800-1764763200@stjohnsainsdale.org.uk
SUMMARY:Little John's
DESCRIPTION:Baby & Toddler Group
URL:https://stjohnsainsdale.org.uk/event/little-johns-35/
LOCATION:St John’s Church\, Liverpool Road\, Southport\, PR8 3NG\, United Kingdom
CATEGORIES:Church Events,Little Johns
END:VEVENT
BEGIN:VEVENT
DTSTART;TZID=Europe/London:20251126T103000
DTEND;TZID=Europe/London:20251126T120000
DTSTAMP:20260421T124917
CREATED:20251030T160529Z
LAST-MODIFIED:20251030T160529Z
UID:13542-1764153000-1764158400@stjohnsainsdale.org.uk
SUMMARY:Little John's
DESCRIPTION:Baby & Todler Group
URL:https://stjohnsainsdale.org.uk/event/little-johns-34/
LOCATION:St John’s Church\, Liverpool Road\, Southport\, PR8 3NG\, United Kingdom
CATEGORIES:Church Events,Little Johns
END:VEVENT
BEGIN:VEVENT
DTSTART;TZID=Europe/London:20251119T103000
DTEND;TZID=Europe/London:20251119T120000
DTSTAMP:20260421T124917
CREATED:20251030T155410Z
LAST-MODIFIED:20251030T155410Z
UID:13524-1763548200-1763553600@stjohnsainsdale.org.uk
SUMMARY:Little John's
DESCRIPTION:Baby & Todler Group
URL:https://stjohnsainsdale.org.uk/event/little-johns-33/
LOCATION:St John’s Church\, Liverpool Road\, Southport\, PR8 3NG\, United Kingdom
CATEGORIES:Church Events,Little Johns
END:VEVENT
BEGIN:VEVENT
DTSTART;TZID=Europe/London:20251112T103000
DTEND;TZID=Europe/London:20251112T120000
DTSTAMP:20260421T124917
CREATED:20251030T152043Z
LAST-MODIFIED:20251030T152043Z
UID:13500-1762943400-1762948800@stjohnsainsdale.org.uk
SUMMARY:Little John's
DESCRIPTION:Baby & Todler Group
URL:https://stjohnsainsdale.org.uk/event/little-johns-32/
LOCATION:St John’s Church\, Liverpool Road\, Southport\, PR8 3NG\, United Kingdom
CATEGORIES:Church Events,Little Johns
END:VEVENT
BEGIN:VEVENT
DTSTART;TZID=Europe/London:20251105T103000
DTEND;TZID=Europe/London:20251105T120000
DTSTAMP:20260421T124917
CREATED:20251030T150221Z
LAST-MODIFIED:20251030T150221Z
UID:13479-1762338600-1762344000@stjohnsainsdale.org.uk
SUMMARY:Little John's
DESCRIPTION:Baby & Todler Group
URL:https://stjohnsainsdale.org.uk/event/little-johns-31/
LOCATION:St John’s Church\, Liverpool Road\, Southport\, PR8 3NG\, United Kingdom
CATEGORIES:Church Events,Little Johns
END:VEVENT
BEGIN:VEVENT
DTSTART;TZID=Europe/London:20250924T103000
DTEND;TZID=Europe/London:20250924T120000
DTSTAMP:20260421T124917
CREATED:20250901T121254Z
LAST-MODIFIED:20250901T121254Z
UID:13434-1758709800-1758715200@stjohnsainsdale.org.uk
SUMMARY:Little John's
DESCRIPTION:Baby & Toddler Group
URL:https://stjohnsainsdale.org.uk/event/little-johns-30/
LOCATION:St John’s Church\, Liverpool Road\, Southport\, PR8 3NG\, United Kingdom
CATEGORIES:Church Events,Little Johns
END:VEVENT
BEGIN:VEVENT
DTSTART;TZID=Europe/London:20250917T103000
DTEND;TZID=Europe/London:20250917T120000
DTSTAMP:20260421T124917
CREATED:20250901T115439Z
LAST-MODIFIED:20250901T115439Z
UID:13412-1758105000-1758110400@stjohnsainsdale.org.uk
SUMMARY:Little John's
DESCRIPTION:Baby & Toddler Group
URL:https://stjohnsainsdale.org.uk/event/little-johns-29/
LOCATION:St John’s Church\, Liverpool Road\, Southport\, PR8 3NG\, United Kingdom
CATEGORIES:Church Events,Little Johns
END:VEVENT
BEGIN:VEVENT
DTSTART;TZID=Europe/London:20250910T103000
DTEND;TZID=Europe/London:20250910T120000
DTSTAMP:20260421T124917
CREATED:20250901T110705Z
LAST-MODIFIED:20250901T110705Z
UID:13388-1757500200-1757505600@stjohnsainsdale.org.uk
SUMMARY:Little John's
DESCRIPTION:Baby & Toddler Group
URL:https://stjohnsainsdale.org.uk/event/little-johns-28/
LOCATION:St John’s Church\, Liverpool Road\, Southport\, PR8 3NG\, United Kingdom
CATEGORIES:Church Events,Little Johns
END:VEVENT
BEGIN:VEVENT
DTSTART;TZID=Europe/London:20250903T103000
DTEND;TZID=Europe/London:20250903T120000
DTSTAMP:20260421T124917
CREATED:20250901T105055Z
LAST-MODIFIED:20250901T105055Z
UID:13370-1756895400-1756900800@stjohnsainsdale.org.uk
SUMMARY:Little John's
DESCRIPTION:Baby & Toddler Group
URL:https://stjohnsainsdale.org.uk/event/little-johns-27/
LOCATION:St John’s Church\, Liverpool Road\, Southport\, PR8 3NG\, United Kingdom
CATEGORIES:Church Events,Little Johns
END:VEVENT
BEGIN:VEVENT
DTSTART;TZID=Europe/London:20250813T103000
DTEND;TZID=Europe/London:20250813T120000
DTSTAMP:20260421T124917
CREATED:20250717T085348Z
LAST-MODIFIED:20250717T085348Z
UID:13345-1755081000-1755086400@stjohnsainsdale.org.uk
SUMMARY:Little John's - Summer Session
DESCRIPTION:Baby & Toddler Group
URL:https://stjohnsainsdale.org.uk/event/little-johns-summer-session/
LOCATION:St John’s Church\, Liverpool Road\, Southport\, PR8 3NG\, United Kingdom
CATEGORIES:Church Events,Little Johns
END:VEVENT
BEGIN:VEVENT
DTSTART;TZID=Europe/London:20250806T103000
DTEND;TZID=Europe/London:20250806T120000
DTSTAMP:20260421T124917
CREATED:20250717T084748Z
LAST-MODIFIED:20250717T084748Z
UID:13339-1754476200-1754481600@stjohnsainsdale.org.uk
SUMMARY:Little John's
DESCRIPTION:Baby & Toddler Group
URL:https://stjohnsainsdale.org.uk/event/little-johns-26/
LOCATION:St John’s Church\, Liverpool Road\, Southport\, PR8 3NG\, United Kingdom
CATEGORIES:Church Events,Little Johns
END:VEVENT
BEGIN:VEVENT
DTSTART;TZID=Europe/London:20250625T103000
DTEND;TZID=Europe/London:20250625T120000
DTSTAMP:20260421T124917
CREATED:20250606T101719Z
LAST-MODIFIED:20250606T101719Z
UID:13278-1750847400-1750852800@stjohnsainsdale.org.uk
SUMMARY:Little John's
DESCRIPTION:Baby & Toddler Group
URL:https://stjohnsainsdale.org.uk/event/little-johns-25/
LOCATION:St John’s Church\, Liverpool Road\, Southport\, PR8 3NG\, United Kingdom
CATEGORIES:Church Events,Little Johns
END:VEVENT
BEGIN:VEVENT
DTSTART;TZID=Europe/London:20250618T103000
DTEND;TZID=Europe/London:20250618T120000
DTSTAMP:20260421T124917
CREATED:20250606T093554Z
LAST-MODIFIED:20250606T093554Z
UID:13256-1750242600-1750248000@stjohnsainsdale.org.uk
SUMMARY:Little John's
DESCRIPTION:Baby & Toddler Group
URL:https://stjohnsainsdale.org.uk/event/little-johns-24/
LOCATION:St John’s Church\, Liverpool Road\, Southport\, PR8 3NG\, United Kingdom
CATEGORIES:Church Events,Little Johns
END:VEVENT
BEGIN:VEVENT
DTSTART;TZID=Europe/London:20250611T103000
DTEND;TZID=Europe/London:20250611T120000
DTSTAMP:20260421T124917
CREATED:20250606T091437Z
LAST-MODIFIED:20250606T091437Z
UID:13230-1749637800-1749643200@stjohnsainsdale.org.uk
SUMMARY:Little John's
DESCRIPTION:Baby & Toddler Group
URL:https://stjohnsainsdale.org.uk/event/little-johns-23/
LOCATION:St John’s Church\, Liverpool Road\, Southport\, PR8 3NG\, United Kingdom
CATEGORIES:Church Events,Little Johns
END:VEVENT
BEGIN:VEVENT
DTSTART;TZID=Europe/London:20250528T103000
DTEND;TZID=Europe/London:20250528T120000
DTSTAMP:20260421T124917
CREATED:20250501T121804Z
LAST-MODIFIED:20250501T121804Z
UID:13162-1748428200-1748433600@stjohnsainsdale.org.uk
SUMMARY:Little John's
DESCRIPTION:Baby & Toddler Group
URL:https://stjohnsainsdale.org.uk/event/little-johns-22/
LOCATION:St John’s Church\, Liverpool Road\, Southport\, PR8 3NG\, United Kingdom
CATEGORIES:Church Events,Little Johns
END:VEVENT
BEGIN:VEVENT
DTSTART;TZID=Europe/London:20250521T103000
DTEND;TZID=Europe/London:20250521T120000
DTSTAMP:20260421T124917
CREATED:20250501T114318Z
LAST-MODIFIED:20250501T114318Z
UID:13142-1747823400-1747828800@stjohnsainsdale.org.uk
SUMMARY:Little John's
DESCRIPTION:Baby & Toddler Group
URL:https://stjohnsainsdale.org.uk/event/little-johns-21/
LOCATION:St John’s Church\, Liverpool Road\, Southport\, PR8 3NG\, United Kingdom
CATEGORIES:Church Events,Little Johns
END:VEVENT
BEGIN:VEVENT
DTSTART;TZID=Europe/London:20250514T103000
DTEND;TZID=Europe/London:20250514T120000
DTSTAMP:20260421T124917
CREATED:20250501T110956Z
LAST-MODIFIED:20250501T110956Z
UID:13119-1747218600-1747224000@stjohnsainsdale.org.uk
SUMMARY:Little John's
DESCRIPTION:Baby & Toddler Group
URL:https://stjohnsainsdale.org.uk/event/little-johns-20/
LOCATION:St John’s Church\, Liverpool Road\, Southport\, PR8 3NG\, United Kingdom
CATEGORIES:Church Events,Little Johns
END:VEVENT
BEGIN:VEVENT
DTSTART;TZID=Europe/London:20250507T103000
DTEND;TZID=Europe/London:20250507T120000
DTSTAMP:20260421T124917
CREATED:20250501T105522Z
LAST-MODIFIED:20250501T105522Z
UID:13100-1746613800-1746619200@stjohnsainsdale.org.uk
SUMMARY:Little John's
DESCRIPTION:Baby & Toddler Group
URL:https://stjohnsainsdale.org.uk/event/little-johns-19/
LOCATION:St John’s Church\, Liverpool Road\, Southport\, PR8 3NG\, United Kingdom
CATEGORIES:Church Events,Little Johns
END:VEVENT
BEGIN:VEVENT
DTSTART;TZID=Europe/London:20250430T103000
DTEND;TZID=Europe/London:20250430T120000
DTSTAMP:20260421T124917
CREATED:20250402T115339Z
LAST-MODIFIED:20250402T115339Z
UID:13053-1746009000-1746014400@stjohnsainsdale.org.uk
SUMMARY:Little John's
DESCRIPTION:Baby & Toddler Group
URL:https://stjohnsainsdale.org.uk/event/little-johns-18/
LOCATION:St John’s Church\, Liverpool Road\, Southport\, PR8 3NG\, United Kingdom
CATEGORIES:Church Events,Little Johns
END:VEVENT
END:VCALENDAR