BEGIN:VCALENDAR
VERSION:2.0
PRODID:-//St John&#039;s Church, Ainsdale - ECPv6.15.20//NONSGML v1.0//EN
CALSCALE:GREGORIAN
METHOD:PUBLISH
X-WR-CALNAME:St John&#039;s Church, Ainsdale
X-ORIGINAL-URL:https://stjohnsainsdale.org.uk
X-WR-CALDESC:Events for St John&#039;s Church, Ainsdale
REFRESH-INTERVAL;VALUE=DURATION:PT1H
X-Robots-Tag:noindex
X-PUBLISHED-TTL:PT1H
BEGIN:VTIMEZONE
TZID:Europe/London
BEGIN:DAYLIGHT
TZOFFSETFROM:+0000
TZOFFSETTO:+0100
TZNAME:BST
DTSTART:20220327T010000
END:DAYLIGHT
BEGIN:STANDARD
TZOFFSETFROM:+0100
TZOFFSETTO:+0000
TZNAME:GMT
DTSTART:20221030T010000
END:STANDARD
BEGIN:DAYLIGHT
TZOFFSETFROM:+0000
TZOFFSETTO:+0100
TZNAME:BST
DTSTART:20230326T010000
END:DAYLIGHT
BEGIN:STANDARD
TZOFFSETFROM:+0100
TZOFFSETTO:+0000
TZNAME:GMT
DTSTART:20231029T010000
END:STANDARD
BEGIN:DAYLIGHT
TZOFFSETFROM:+0000
TZOFFSETTO:+0100
TZNAME:BST
DTSTART:20240331T010000
END:DAYLIGHT
BEGIN:STANDARD
TZOFFSETFROM:+0100
TZOFFSETTO:+0000
TZNAME:GMT
DTSTART:20241027T010000
END:STANDARD
BEGIN:DAYLIGHT
TZOFFSETFROM:+0000
TZOFFSETTO:+0100
TZNAME:BST
DTSTART:20250330T010000
END:DAYLIGHT
BEGIN:STANDARD
TZOFFSETFROM:+0100
TZOFFSETTO:+0000
TZNAME:GMT
DTSTART:20251026T010000
END:STANDARD
BEGIN:DAYLIGHT
TZOFFSETFROM:+0000
TZOFFSETTO:+0100
TZNAME:BST
DTSTART:20260329T010000
END:DAYLIGHT
BEGIN:STANDARD
TZOFFSETFROM:+0100
TZOFFSETTO:+0000
TZNAME:GMT
DTSTART:20261025T010000
END:STANDARD
END:VTIMEZONE
BEGIN:VEVENT
DTSTART;TZID=Europe/London:20250611T103000
DTEND;TZID=Europe/London:20250611T120000
DTSTAMP:20260421T160233
CREATED:20250606T091437Z
LAST-MODIFIED:20250606T091437Z
UID:13230-1749637800-1749643200@stjohnsainsdale.org.uk
SUMMARY:Little John's
DESCRIPTION:Baby & Toddler Group
URL:https://stjohnsainsdale.org.uk/event/little-johns-23/
LOCATION:St John’s Church\, Liverpool Road\, Southport\, PR8 3NG\, United Kingdom
CATEGORIES:Church Events,Little Johns
END:VEVENT
BEGIN:VEVENT
DTSTART;TZID=Europe/London:20250528T103000
DTEND;TZID=Europe/London:20250528T120000
DTSTAMP:20260421T160233
CREATED:20250501T121804Z
LAST-MODIFIED:20250501T121804Z
UID:13162-1748428200-1748433600@stjohnsainsdale.org.uk
SUMMARY:Little John's
DESCRIPTION:Baby & Toddler Group
URL:https://stjohnsainsdale.org.uk/event/little-johns-22/
LOCATION:St John’s Church\, Liverpool Road\, Southport\, PR8 3NG\, United Kingdom
CATEGORIES:Church Events,Little Johns
END:VEVENT
BEGIN:VEVENT
DTSTART;TZID=Europe/London:20250521T103000
DTEND;TZID=Europe/London:20250521T120000
DTSTAMP:20260421T160233
CREATED:20250501T114318Z
LAST-MODIFIED:20250501T114318Z
UID:13142-1747823400-1747828800@stjohnsainsdale.org.uk
SUMMARY:Little John's
DESCRIPTION:Baby & Toddler Group
URL:https://stjohnsainsdale.org.uk/event/little-johns-21/
LOCATION:St John’s Church\, Liverpool Road\, Southport\, PR8 3NG\, United Kingdom
CATEGORIES:Church Events,Little Johns
END:VEVENT
BEGIN:VEVENT
DTSTART;TZID=Europe/London:20250514T103000
DTEND;TZID=Europe/London:20250514T120000
DTSTAMP:20260421T160233
CREATED:20250501T110956Z
LAST-MODIFIED:20250501T110956Z
UID:13119-1747218600-1747224000@stjohnsainsdale.org.uk
SUMMARY:Little John's
DESCRIPTION:Baby & Toddler Group
URL:https://stjohnsainsdale.org.uk/event/little-johns-20/
LOCATION:St John’s Church\, Liverpool Road\, Southport\, PR8 3NG\, United Kingdom
CATEGORIES:Church Events,Little Johns
END:VEVENT
BEGIN:VEVENT
DTSTART;TZID=Europe/London:20250507T103000
DTEND;TZID=Europe/London:20250507T120000
DTSTAMP:20260421T160233
CREATED:20250501T105522Z
LAST-MODIFIED:20250501T105522Z
UID:13100-1746613800-1746619200@stjohnsainsdale.org.uk
SUMMARY:Little John's
DESCRIPTION:Baby & Toddler Group
URL:https://stjohnsainsdale.org.uk/event/little-johns-19/
LOCATION:St John’s Church\, Liverpool Road\, Southport\, PR8 3NG\, United Kingdom
CATEGORIES:Church Events,Little Johns
END:VEVENT
BEGIN:VEVENT
DTSTART;TZID=Europe/London:20250430T103000
DTEND;TZID=Europe/London:20250430T120000
DTSTAMP:20260421T160233
CREATED:20250402T115339Z
LAST-MODIFIED:20250402T115339Z
UID:13053-1746009000-1746014400@stjohnsainsdale.org.uk
SUMMARY:Little John's
DESCRIPTION:Baby & Toddler Group
URL:https://stjohnsainsdale.org.uk/event/little-johns-18/
LOCATION:St John’s Church\, Liverpool Road\, Southport\, PR8 3NG\, United Kingdom
CATEGORIES:Church Events,Little Johns
END:VEVENT
BEGIN:VEVENT
DTSTART;TZID=Europe/London:20250423T103000
DTEND;TZID=Europe/London:20250423T120000
DTSTAMP:20260421T160233
CREATED:20250402T113338Z
LAST-MODIFIED:20250402T113338Z
UID:13028-1745404200-1745409600@stjohnsainsdale.org.uk
SUMMARY:Little John's
DESCRIPTION:Baby & Toddler Group
URL:https://stjohnsainsdale.org.uk/event/little-johns-17/
LOCATION:St John’s Church\, Liverpool Road\, Southport\, PR8 3NG\, United Kingdom
CATEGORIES:Church Events,Little Johns
END:VEVENT
BEGIN:VEVENT
DTSTART;TZID=Europe/London:20250326T103000
DTEND;TZID=Europe/London:20250326T120000
DTSTAMP:20260421T160233
CREATED:20250226T102138Z
LAST-MODIFIED:20250226T102138Z
UID:12960-1742985000-1742990400@stjohnsainsdale.org.uk
SUMMARY:Little John's
DESCRIPTION:Baby & Toddler Group
URL:https://stjohnsainsdale.org.uk/event/little-johns-16/
LOCATION:St John’s Church\, Liverpool Road\, Southport\, PR8 3NG\, United Kingdom
CATEGORIES:Church Events,Little Johns
END:VEVENT
BEGIN:VEVENT
DTSTART;TZID=Europe/London:20250319T103000
DTEND;TZID=Europe/London:20250319T120000
DTSTAMP:20260421T160233
CREATED:20250226T095759Z
LAST-MODIFIED:20250226T095759Z
UID:12942-1742380200-1742385600@stjohnsainsdale.org.uk
SUMMARY:Little John's
DESCRIPTION:Baby & Toddler Group
URL:https://stjohnsainsdale.org.uk/event/little-johns-15/
LOCATION:St John’s Church\, Liverpool Road\, Southport\, PR8 3NG\, United Kingdom
CATEGORIES:Church Events,Little Johns
END:VEVENT
BEGIN:VEVENT
DTSTART;TZID=Europe/London:20250312T103000
DTEND;TZID=Europe/London:20250312T120000
DTSTAMP:20260421T160233
CREATED:20250226T094117Z
LAST-MODIFIED:20250226T094117Z
UID:12922-1741775400-1741780800@stjohnsainsdale.org.uk
SUMMARY:Little John's
DESCRIPTION:Baby & Toddler Group
URL:https://stjohnsainsdale.org.uk/event/little-johns-14/
LOCATION:St John’s Church\, Liverpool Road\, Southport\, PR8 3NG\, United Kingdom
CATEGORIES:Church Events,Little Johns
END:VEVENT
BEGIN:VEVENT
DTSTART;TZID=Europe/London:20250226T103000
DTEND;TZID=Europe/London:20250226T120000
DTSTAMP:20260421T160233
CREATED:20250206T093708Z
LAST-MODIFIED:20250206T093708Z
UID:12875-1740565800-1740571200@stjohnsainsdale.org.uk
SUMMARY:Little John's
DESCRIPTION:Baby & Toddler Group
URL:https://stjohnsainsdale.org.uk/event/little-johns-13/
LOCATION:St John’s Church\, Liverpool Road\, Southport\, PR8 3NG\, United Kingdom
CATEGORIES:Church Events,Little Johns
END:VEVENT
BEGIN:VEVENT
DTSTART;TZID=Europe/London:20250212T103000
DTEND;TZID=Europe/London:20250212T120000
DTSTAMP:20260421T160233
CREATED:20250206T091248Z
LAST-MODIFIED:20250206T091248Z
UID:12837-1739356200-1739361600@stjohnsainsdale.org.uk
SUMMARY:Little John's
DESCRIPTION:Baby & Toddler Group
URL:https://stjohnsainsdale.org.uk/event/little-johns-12/
LOCATION:St John’s Church\, Liverpool Road\, Southport\, PR8 3NG\, United Kingdom
CATEGORIES:Church Events,Little Johns
END:VEVENT
BEGIN:VEVENT
DTSTART;TZID=Europe/London:20250129T103000
DTEND;TZID=Europe/London:20250129T120000
DTSTAMP:20260421T160233
CREATED:20250102T141749Z
LAST-MODIFIED:20250102T141749Z
UID:12804-1738146600-1738152000@stjohnsainsdale.org.uk
SUMMARY:Little John's
DESCRIPTION:Baby & Toddler Group
URL:https://stjohnsainsdale.org.uk/event/little-johns-11/
LOCATION:St John’s Church\, Liverpool Road\, Southport\, PR8 3NG\, United Kingdom
CATEGORIES:Church Events,Little Johns
END:VEVENT
BEGIN:VEVENT
DTSTART;TZID=Europe/London:20250122T103000
DTEND;TZID=Europe/London:20250122T120000
DTSTAMP:20260421T160233
CREATED:20250102T140229Z
LAST-MODIFIED:20250102T140229Z
UID:12784-1737541800-1737547200@stjohnsainsdale.org.uk
SUMMARY:Little John's
DESCRIPTION:Baby & Toddler Group
URL:https://stjohnsainsdale.org.uk/event/little-johns-10/
LOCATION:St John’s Church\, Liverpool Road\, Southport\, PR8 3NG\, United Kingdom
CATEGORIES:Church Events,Little Johns
END:VEVENT
BEGIN:VEVENT
DTSTART;TZID=Europe/London:20250115T103000
DTEND;TZID=Europe/London:20250115T120000
DTSTAMP:20260421T160233
CREATED:20250102T134436Z
LAST-MODIFIED:20250102T134436Z
UID:12762-1736937000-1736942400@stjohnsainsdale.org.uk
SUMMARY:Little John's
DESCRIPTION:Baby & Toddler Group
URL:https://stjohnsainsdale.org.uk/event/little-johns-9/
LOCATION:St John’s Church\, Liverpool Road\, Southport\, PR8 3NG\, United Kingdom
CATEGORIES:Church Events,Little Johns
END:VEVENT
BEGIN:VEVENT
DTSTART;TZID=Europe/London:20250108T103000
DTEND;TZID=Europe/London:20250108T120000
DTSTAMP:20260421T160233
CREATED:20250102T132727Z
LAST-MODIFIED:20250102T132727Z
UID:12740-1736332200-1736337600@stjohnsainsdale.org.uk
SUMMARY:Little John's
DESCRIPTION:Baby & Toddler Group
URL:https://stjohnsainsdale.org.uk/event/little-johns-8/
LOCATION:St John’s Church\, Liverpool Road\, Southport\, PR8 3NG\, United Kingdom
CATEGORIES:Church Events,Little Johns
END:VEVENT
BEGIN:VEVENT
DTSTART;TZID=Europe/London:20241218T103000
DTEND;TZID=Europe/London:20241218T123000
DTSTAMP:20260421T160233
CREATED:20241206T154847Z
LAST-MODIFIED:20241206T154847Z
UID:12689-1734517800-1734525000@stjohnsainsdale.org.uk
SUMMARY:Little John's
DESCRIPTION:Baby & Toddler Group (Fully Booked)
URL:https://stjohnsainsdale.org.uk/event/little-johns-7/
LOCATION:St John’s Church\, Liverpool Road\, Southport\, PR8 3NG\, United Kingdom
CATEGORIES:Church Events,Little Johns
END:VEVENT
BEGIN:VEVENT
DTSTART;TZID=Europe/London:20241211T103000
DTEND;TZID=Europe/London:20241211T120000
DTSTAMP:20260421T160233
CREATED:20241206T153511Z
LAST-MODIFIED:20241206T153511Z
UID:12677-1733913000-1733918400@stjohnsainsdale.org.uk
SUMMARY:Little John's
DESCRIPTION:Baby & Toddler Group
URL:https://stjohnsainsdale.org.uk/event/little-johns-6/
LOCATION:St John’s Church\, Liverpool Road\, Southport\, PR8 3NG\, United Kingdom
CATEGORIES:Church Events,Little Johns
END:VEVENT
BEGIN:VEVENT
DTSTART;TZID=Europe/London:20241120T103000
DTEND;TZID=Europe/London:20241120T120000
DTSTAMP:20260421T160233
CREATED:20241028T111448Z
LAST-MODIFIED:20241028T111448Z
UID:12623-1732098600-1732104000@stjohnsainsdale.org.uk
SUMMARY:Little John's
DESCRIPTION:Baby & Toddler Group
URL:https://stjohnsainsdale.org.uk/event/little-johns-5/
LOCATION:St John’s Church\, Liverpool Road\, Southport\, PR8 3NG\, United Kingdom
CATEGORIES:Church Events,Little Johns
END:VEVENT
BEGIN:VEVENT
DTSTART;TZID=Europe/London:20241113T103000
DTEND;TZID=Europe/London:20241113T120000
DTSTAMP:20260421T160233
CREATED:20241028T110105Z
LAST-MODIFIED:20241028T110105Z
UID:12603-1731493800-1731499200@stjohnsainsdale.org.uk
SUMMARY:Little John's
DESCRIPTION:Baby & Toddler Group
URL:https://stjohnsainsdale.org.uk/event/little-johns-4/
LOCATION:St John’s Church\, Liverpool Road\, Southport\, PR8 3NG\, United Kingdom
CATEGORIES:Church Events,Little Johns
END:VEVENT
BEGIN:VEVENT
DTSTART;TZID=Europe/London:20241106T103000
DTEND;TZID=Europe/London:20241106T120000
DTSTAMP:20260421T160233
CREATED:20241028T103820Z
LAST-MODIFIED:20241028T103820Z
UID:12583-1730889000-1730894400@stjohnsainsdale.org.uk
SUMMARY:Little John's
DESCRIPTION:Baby & Toddler Group
URL:https://stjohnsainsdale.org.uk/event/little-johns-3/
LOCATION:St John’s Church\, Liverpool Road\, Southport\, PR8 3NG\, United Kingdom
CATEGORIES:Church Events,Little Johns
END:VEVENT
BEGIN:VEVENT
DTSTART;TZID=Europe/London:20241023T103000
DTEND;TZID=Europe/London:20241023T120000
DTSTAMP:20260421T160233
CREATED:20241010T155434Z
LAST-MODIFIED:20241010T155434Z
UID:12537-1729679400-1729684800@stjohnsainsdale.org.uk
SUMMARY:Little John's
DESCRIPTION:Baby & Toddler Group
URL:https://stjohnsainsdale.org.uk/event/little-johns-2/
LOCATION:St John’s Church\, Liverpool Road\, Southport\, PR8 3NG\, United Kingdom
CATEGORIES:Church Events,Little Johns
END:VEVENT
BEGIN:VEVENT
DTSTART;TZID=Europe/London:20241016T103000
DTEND;TZID=Europe/London:20241016T120000
DTSTAMP:20260421T160233
CREATED:20241010T153922Z
LAST-MODIFIED:20241010T153922Z
UID:12517-1729074600-1729080000@stjohnsainsdale.org.uk
SUMMARY:Little John's
DESCRIPTION:Baby & Toddler Group
URL:https://stjohnsainsdale.org.uk/event/little-johns/
LOCATION:St John’s Church\, Liverpool Road\, Southport\, PR8 3NG\, United Kingdom
CATEGORIES:Church Events,Little Johns
END:VEVENT
BEGIN:VEVENT
DTSTART;TZID=Europe/London:20230614T103000
DTEND;TZID=Europe/London:20230614T103000
DTSTAMP:20260421T160233
CREATED:20230524T053529Z
LAST-MODIFIED:20230524T053529Z
UID:315-1686738600-1686738600@stjohnsainsdale.org.uk
SUMMARY:Little John's - Baby & Toddler Group
DESCRIPTION:
URL:https://stjohnsainsdale.org.uk/event/little-johns-baby-toddler-group-2/
LOCATION:St John’s Church\, Liverpool Road\, Southport\, PR8 3NG\, United Kingdom
CATEGORIES:Little Johns
END:VEVENT
BEGIN:VEVENT
DTSTART;TZID=Europe/London:20230607T103000
DTEND;TZID=Europe/London:20230607T103000
DTSTAMP:20260421T160233
CREATED:20230524T050043Z
LAST-MODIFIED:20230524T050043Z
UID:291-1686133800-1686133800@stjohnsainsdale.org.uk
SUMMARY:Little John's - Baby & Toddler Group
DESCRIPTION:
URL:https://stjohnsainsdale.org.uk/event/little-johns-baby-toddler-group/
LOCATION:St John’s Church\, Liverpool Road\, Southport\, PR8 3NG\, United Kingdom
CATEGORIES:Little Johns
END:VEVENT
END:VCALENDAR