BEGIN:VCALENDAR
VERSION:2.0
PRODID:-//St John&#039;s Church, Ainsdale - ECPv6.15.20//NONSGML v1.0//EN
CALSCALE:GREGORIAN
METHOD:PUBLISH
X-ORIGINAL-URL:https://stjohnsainsdale.org.uk
X-WR-CALDESC:Events for St John&#039;s Church, Ainsdale
REFRESH-INTERVAL;VALUE=DURATION:PT1H
X-Robots-Tag:noindex
X-PUBLISHED-TTL:PT1H
BEGIN:VTIMEZONE
TZID:Europe/London
BEGIN:DAYLIGHT
TZOFFSETFROM:+0000
TZOFFSETTO:+0100
TZNAME:BST
DTSTART:20230326T010000
END:DAYLIGHT
BEGIN:STANDARD
TZOFFSETFROM:+0100
TZOFFSETTO:+0000
TZNAME:GMT
DTSTART:20231029T010000
END:STANDARD
BEGIN:DAYLIGHT
TZOFFSETFROM:+0000
TZOFFSETTO:+0100
TZNAME:BST
DTSTART:20240331T010000
END:DAYLIGHT
BEGIN:STANDARD
TZOFFSETFROM:+0100
TZOFFSETTO:+0000
TZNAME:GMT
DTSTART:20241027T010000
END:STANDARD
BEGIN:DAYLIGHT
TZOFFSETFROM:+0000
TZOFFSETTO:+0100
TZNAME:BST
DTSTART:20250330T010000
END:DAYLIGHT
BEGIN:STANDARD
TZOFFSETFROM:+0100
TZOFFSETTO:+0000
TZNAME:GMT
DTSTART:20251026T010000
END:STANDARD
BEGIN:DAYLIGHT
TZOFFSETFROM:+0000
TZOFFSETTO:+0100
TZNAME:BST
DTSTART:20260329T010000
END:DAYLIGHT
BEGIN:STANDARD
TZOFFSETFROM:+0100
TZOFFSETTO:+0000
TZNAME:GMT
DTSTART:20261025T010000
END:STANDARD
END:VTIMEZONE
BEGIN:VEVENT
DTSTART;TZID=Europe/London:20251210T130000
DTEND;TZID=Europe/London:20251210T150000
DTSTAMP:20260421T124917
CREATED:20251127T101715Z
LAST-MODIFIED:20251127T101715Z
UID:13585-1765371600-1765378800@stjohnsainsdale.org.uk
SUMMARY:Light Group
DESCRIPTION:Bereavement & Grief drop-in \nThis will be held in Our Committee Room
URL:https://stjohnsainsdale.org.uk/event/light-group/
LOCATION:St John’s Church – Committee Room\, Liverpool Road\, Ainsdale\, Southport\, Merseyside\, PR8 3NG\, United Kingdom
CATEGORIES:Prayer Group
END:VEVENT
BEGIN:VEVENT
DTSTART;TZID=Europe/London:20251112T130000
DTEND;TZID=Europe/London:20251112T150000
DTSTAMP:20260421T124917
CREATED:20251030T152255Z
LAST-MODIFIED:20251030T152255Z
UID:13502-1762952400-1762959600@stjohnsainsdale.org.uk
SUMMARY:LIGHT
DESCRIPTION:Bereavement & grief drop-in \nHeld in Our Committee Room
URL:https://stjohnsainsdale.org.uk/event/light-6/
LOCATION:St John’s Church – Committee Room\, Liverpool Road\, Ainsdale\, Southport\, Merseyside\, PR8 3NG\, United Kingdom
CATEGORIES:Prayer Group
END:VEVENT
BEGIN:VEVENT
DTSTART;TZID=Europe/London:20250526T100000
DTEND;TZID=Europe/London:20250526T110000
DTSTAMP:20260421T124917
CREATED:20250501T115722Z
LAST-MODIFIED:20250501T115722Z
UID:13154-1748253600-1748257200@stjohnsainsdale.org.uk
SUMMARY:Prayers
DESCRIPTION:Refreshments from 9:30am \nThis is held in our Committee Room
URL:https://stjohnsainsdale.org.uk/event/prayers-28/
LOCATION:Merseyside
CATEGORIES:Prayer Group
END:VEVENT
BEGIN:VEVENT
DTSTART;TZID=Europe/London:20250519T100000
DTEND;TZID=Europe/London:20250519T110000
DTSTAMP:20260421T124917
CREATED:20250501T113247Z
LAST-MODIFIED:20250501T113247Z
UID:13134-1747648800-1747652400@stjohnsainsdale.org.uk
SUMMARY:Prayers
DESCRIPTION:Refreshments from 9:30am \nThis is held in our committee Room
URL:https://stjohnsainsdale.org.uk/event/prayers-27/
LOCATION:St John’s Church – Committee Room\, Liverpool Road\, Ainsdale\, Southport\, Merseyside\, PR8 3NG\, United Kingdom
CATEGORIES:Prayer Group
END:VEVENT
BEGIN:VEVENT
DTSTART;TZID=Europe/London:20250512T100000
DTEND;TZID=Europe/London:20250512T110000
DTSTAMP:20260421T124917
CREATED:20250501T110451Z
LAST-MODIFIED:20250501T110451Z
UID:13110-1747044000-1747047600@stjohnsainsdale.org.uk
SUMMARY:Prayers
DESCRIPTION:Refreshments will be served from 9:30am \nThis is held in our Committee Room
URL:https://stjohnsainsdale.org.uk/event/prayers-26/
LOCATION:St John’s Church – Committee Room\, Liverpool Road\, Ainsdale\, Southport\, Merseyside\, PR8 3NG\, United Kingdom
CATEGORIES:Prayer Group
END:VEVENT
BEGIN:VEVENT
DTSTART;TZID=Europe/London:20250428T100000
DTEND;TZID=Europe/London:20250428T110000
DTSTAMP:20260421T124917
CREATED:20250402T114624Z
LAST-MODIFIED:20250402T114624Z
UID:13043-1745834400-1745838000@stjohnsainsdale.org.uk
SUMMARY:Prayers
DESCRIPTION:Held in Our Committee Room \nRefreshments from 9:30am
URL:https://stjohnsainsdale.org.uk/event/prayers-25/
LOCATION:St John’s Church – Committee Room\, Liverpool Road\, Ainsdale\, Southport\, Merseyside\, PR8 3NG\, United Kingdom
CATEGORIES:Prayer Group
END:VEVENT
BEGIN:VEVENT
DTSTART;TZID=Europe/London:20250421T153000
DTEND;TZID=Europe/London:20250421T161500
DTSTAMP:20260421T124917
CREATED:20250402T112941Z
LAST-MODIFIED:20250402T112941Z
UID:13022-1745249400-1745252100@stjohnsainsdale.org.uk
SUMMARY:Prayers
DESCRIPTION:This is held in Our Committee Room \nRefreshments from 3pm
URL:https://stjohnsainsdale.org.uk/event/prayers-24/
LOCATION:St John’s Church – Committee Room\, Liverpool Road\, Ainsdale\, Southport\, Merseyside\, PR8 3NG\, United Kingdom
CATEGORIES:Prayer Group
END:VEVENT
BEGIN:VEVENT
DTSTART;TZID=Europe/London:20250414T153000
DTEND;TZID=Europe/London:20250414T161500
DTSTAMP:20260421T124917
CREATED:20250402T105210Z
LAST-MODIFIED:20250402T105210Z
UID:12993-1744644600-1744647300@stjohnsainsdale.org.uk
SUMMARY:Prayers
DESCRIPTION:This is held in Our Committee Room \nRefreshments from 3pm
URL:https://stjohnsainsdale.org.uk/event/prayers-23/
LOCATION:St John’s Church – Committee Room\, Liverpool Road\, Ainsdale\, Southport\, Merseyside\, PR8 3NG\, United Kingdom
CATEGORIES:Prayer Group
END:VEVENT
BEGIN:VEVENT
DTSTART;TZID=Europe/London:20250407T153000
DTEND;TZID=Europe/London:20250407T161500
DTSTAMP:20260421T124917
CREATED:20250402T101234Z
LAST-MODIFIED:20250402T101234Z
UID:12979-1744039800-1744042500@stjohnsainsdale.org.uk
SUMMARY:Prayers
DESCRIPTION:This is held in Our Committee Room \nRefreshments from 3pm
URL:https://stjohnsainsdale.org.uk/event/prayers-22/
LOCATION:St John’s Church – Committee Room\, Liverpool Road\, Ainsdale\, Southport\, Merseyside\, PR8 3NG\, United Kingdom
CATEGORIES:Prayer Group
END:VEVENT
BEGIN:VEVENT
DTSTART;TZID=Europe/London:20250324T150000
DTEND;TZID=Europe/London:20250324T161500
DTSTAMP:20260421T124917
CREATED:20250226T101751Z
LAST-MODIFIED:20250226T101751Z
UID:12954-1742828400-1742832900@stjohnsainsdale.org.uk
SUMMARY:Prayers
DESCRIPTION:Held in our Committee Room
URL:https://stjohnsainsdale.org.uk/event/prayers-21/
LOCATION:St John’s Church – Committee Room\, Liverpool Road\, Ainsdale\, Southport\, Merseyside\, PR8 3NG\, United Kingdom
CATEGORIES:Prayer Group
END:VEVENT
BEGIN:VEVENT
DTSTART;TZID=Europe/London:20250317T150000
DTEND;TZID=Europe/London:20250317T161500
DTSTAMP:20260421T124917
CREATED:20250226T095218Z
LAST-MODIFIED:20250226T095218Z
UID:12934-1742223600-1742228100@stjohnsainsdale.org.uk
SUMMARY:Prayers
DESCRIPTION:Held in our Committee Room
URL:https://stjohnsainsdale.org.uk/event/prayers-20/
LOCATION:St John’s Church – Committee Room\, Liverpool Road\, Ainsdale\, Southport\, Merseyside\, PR8 3NG\, United Kingdom
CATEGORIES:Prayer Group
END:VEVENT
BEGIN:VEVENT
DTSTART;TZID=Europe/London:20250310T150000
DTEND;TZID=Europe/London:20250310T161500
DTSTAMP:20260421T124917
CREATED:20250226T093532Z
LAST-MODIFIED:20250226T093532Z
UID:12914-1741618800-1741623300@stjohnsainsdale.org.uk
SUMMARY:Prayers
DESCRIPTION:Held in our Committee Room
URL:https://stjohnsainsdale.org.uk/event/prayers-19/
LOCATION:St John’s Church – Committee Room\, Liverpool Road\, Ainsdale\, Southport\, Merseyside\, PR8 3NG\, United Kingdom
CATEGORIES:Prayer Group
END:VEVENT
BEGIN:VEVENT
DTSTART;TZID=Europe/London:20250303T150000
DTEND;TZID=Europe/London:20250303T161500
DTSTAMP:20260421T124917
CREATED:20250226T091238Z
LAST-MODIFIED:20250226T091238Z
UID:12891-1741014000-1741018500@stjohnsainsdale.org.uk
SUMMARY:Prayers
DESCRIPTION:Held in our Committee Room
URL:https://stjohnsainsdale.org.uk/event/prayers-18/
LOCATION:St John’s Church – Committee Room\, Liverpool Road\, Ainsdale\, Southport\, Merseyside\, PR8 3NG\, United Kingdom
CATEGORIES:Prayer Group
END:VEVENT
BEGIN:VEVENT
DTSTART;TZID=Europe/London:20250224T150000
DTEND;TZID=Europe/London:20250224T161500
DTSTAMP:20260421T124917
CREATED:20250206T093333Z
LAST-MODIFIED:20250206T093333Z
UID:12869-1740409200-1740413700@stjohnsainsdale.org.uk
SUMMARY:Prayers
DESCRIPTION:This is held in our Committee Room
URL:https://stjohnsainsdale.org.uk/event/prayers-17/
LOCATION:St John’s Church – Committee Room\, Liverpool Road\, Ainsdale\, Southport\, Merseyside\, PR8 3NG\, United Kingdom
CATEGORIES:Prayer Group
END:VEVENT
BEGIN:VEVENT
DTSTART;TZID=Europe/London:20250217T150000
DTEND;TZID=Europe/London:20250217T161500
DTSTAMP:20260421T124917
CREATED:20250206T092251Z
LAST-MODIFIED:20250206T092251Z
UID:12851-1739804400-1739808900@stjohnsainsdale.org.uk
SUMMARY:Prayers
DESCRIPTION:This is held in our Committee Room
URL:https://stjohnsainsdale.org.uk/event/prayers-16/
LOCATION:St John’s Church – Committee Room\, Liverpool Road\, Ainsdale\, Southport\, Merseyside\, PR8 3NG\, United Kingdom
CATEGORIES:Prayer Group
END:VEVENT
BEGIN:VEVENT
DTSTART;TZID=Europe/London:20250210T150000
DTEND;TZID=Europe/London:20250210T161500
DTSTAMP:20260421T124917
CREATED:20250206T090742Z
LAST-MODIFIED:20250206T090742Z
UID:12829-1739199600-1739204100@stjohnsainsdale.org.uk
SUMMARY:Prayers
DESCRIPTION:This is held in our Committee Room
URL:https://stjohnsainsdale.org.uk/event/prayers-15/
LOCATION:St John’s Church – Committee Room\, Liverpool Road\, Ainsdale\, Southport\, Merseyside\, PR8 3NG\, United Kingdom
CATEGORIES:Prayer Group
END:VEVENT
BEGIN:VEVENT
DTSTART;TZID=Europe/London:20250127T150000
DTEND;TZID=Europe/London:20250127T161500
DTSTAMP:20260421T124917
CREATED:20250102T141337Z
LAST-MODIFIED:20250102T141337Z
UID:12798-1737990000-1737994500@stjohnsainsdale.org.uk
SUMMARY:Prayers
DESCRIPTION:This is held in our Committee Room
URL:https://stjohnsainsdale.org.uk/event/prayers-14/
LOCATION:St John’s Church – Committee Room\, Liverpool Road\, Ainsdale\, Southport\, Merseyside\, PR8 3NG\, United Kingdom
CATEGORIES:Prayer Group
END:VEVENT
BEGIN:VEVENT
DTSTART;TZID=Europe/London:20250120T150000
DTEND;TZID=Europe/London:20250120T161500
DTSTAMP:20260421T124917
CREATED:20250102T135708Z
LAST-MODIFIED:20250102T135708Z
UID:12776-1737385200-1737389700@stjohnsainsdale.org.uk
SUMMARY:Prayers
DESCRIPTION:This is held in our Committee Room
URL:https://stjohnsainsdale.org.uk/event/prayers-13/
LOCATION:St John’s Church – Committee Room\, Liverpool Road\, Ainsdale\, Southport\, Merseyside\, PR8 3NG\, United Kingdom
CATEGORIES:Prayer Group
END:VEVENT
BEGIN:VEVENT
DTSTART;TZID=Europe/London:20250113T150000
DTEND;TZID=Europe/London:20250113T161500
DTSTAMP:20260421T124917
CREATED:20250102T133908Z
LAST-MODIFIED:20250102T133908Z
UID:12754-1736780400-1736784900@stjohnsainsdale.org.uk
SUMMARY:Prayers
DESCRIPTION:This is held in our Committee Room
URL:https://stjohnsainsdale.org.uk/event/prayers-12/
LOCATION:St John’s Church – Committee Room\, Liverpool Road\, Ainsdale\, Southport\, Merseyside\, PR8 3NG\, United Kingdom
CATEGORIES:Prayer Group
END:VEVENT
BEGIN:VEVENT
DTSTART;TZID=Europe/London:20250106T150000
DTEND;TZID=Europe/London:20250106T161500
DTSTAMP:20260421T124917
CREATED:20250102T132209Z
LAST-MODIFIED:20250102T132209Z
UID:12732-1736175600-1736180100@stjohnsainsdale.org.uk
SUMMARY:Prayers
DESCRIPTION:This will be held in our Committee Room
URL:https://stjohnsainsdale.org.uk/event/prayers-11/
LOCATION:St John’s Church – Committee Room\, Liverpool Road\, Ainsdale\, Southport\, Merseyside\, PR8 3NG\, United Kingdom
CATEGORIES:Prayer Group
END:VEVENT
BEGIN:VEVENT
DTSTART;TZID=Europe/London:20241223T150000
DTEND;TZID=Europe/London:20241223T161500
DTSTAMP:20260421T124917
CREATED:20241206T160206Z
LAST-MODIFIED:20241206T160206Z
UID:12703-1734966000-1734970500@stjohnsainsdale.org.uk
SUMMARY:Prayers
DESCRIPTION:This is held in our Committee Room
URL:https://stjohnsainsdale.org.uk/event/prayers-10/
LOCATION:St John’s Church – Committee Room\, Liverpool Road\, Ainsdale\, Southport\, Merseyside\, PR8 3NG\, United Kingdom
CATEGORIES:Prayer Group
END:VEVENT
BEGIN:VEVENT
DTSTART;TZID=Europe/London:20241216T153000
DTEND;TZID=Europe/London:20241216T161500
DTSTAMP:20260421T124917
CREATED:20241206T154617Z
LAST-MODIFIED:20241206T154617Z
UID:12687-1734363000-1734365700@stjohnsainsdale.org.uk
SUMMARY:Prayers
DESCRIPTION:This will be held in our Committee Room
URL:https://stjohnsainsdale.org.uk/event/prayers-9/
LOCATION:St John’s Church – Committee Room\, Liverpool Road\, Ainsdale\, Southport\, Merseyside\, PR8 3NG\, United Kingdom
CATEGORIES:Prayer Group
END:VEVENT
BEGIN:VEVENT
DTSTART;TZID=Europe/London:20241209T150000
DTEND;TZID=Europe/London:20241209T161500
DTSTAMP:20260421T124917
CREATED:20241206T152953Z
LAST-MODIFIED:20241206T152953Z
UID:12673-1733756400-1733760900@stjohnsainsdale.org.uk
SUMMARY:Prayers
DESCRIPTION:This is held in our Committee Room
URL:https://stjohnsainsdale.org.uk/event/prayers-8/
LOCATION:St John’s Church – Committee Room\, Liverpool Road\, Ainsdale\, Southport\, Merseyside\, PR8 3NG\, United Kingdom
CATEGORIES:Prayer Group
END:VEVENT
BEGIN:VEVENT
DTSTART;TZID=Europe/London:20241125T150000
DTEND;TZID=Europe/London:20241125T161500
DTSTAMP:20260421T124917
CREATED:20241028T112334Z
LAST-MODIFIED:20241028T112334Z
UID:12635-1732546800-1732551300@stjohnsainsdale.org.uk
SUMMARY:Prayers
DESCRIPTION:
URL:https://stjohnsainsdale.org.uk/event/prayers-7/
LOCATION:St John’s Church\, Liverpool Road\, Southport\, PR8 3NG\, United Kingdom
CATEGORIES:Church Events,Prayer Group
END:VEVENT
BEGIN:VEVENT
DTSTART;TZID=Europe/London:20241118T150000
DTEND;TZID=Europe/London:20241118T161500
DTSTAMP:20260421T124917
CREATED:20241028T110948Z
LAST-MODIFIED:20241028T110948Z
UID:12615-1731942000-1731946500@stjohnsainsdale.org.uk
SUMMARY:Prayers
DESCRIPTION:This is held in our Committee Room
URL:https://stjohnsainsdale.org.uk/event/prayers-6/
LOCATION:St John’s Church – Committee Room\, Liverpool Road\, Ainsdale\, Southport\, Merseyside\, PR8 3NG\, United Kingdom
CATEGORIES:Prayer Group
END:VEVENT
BEGIN:VEVENT
DTSTART;TZID=Europe/London:20241111T150000
DTEND;TZID=Europe/London:20241111T161500
DTSTAMP:20260421T124917
CREATED:20241028T105614Z
LAST-MODIFIED:20241028T105614Z
UID:12595-1731337200-1731341700@stjohnsainsdale.org.uk
SUMMARY:Prayers
DESCRIPTION:This is held in our Committee Room
URL:https://stjohnsainsdale.org.uk/event/prayers-5/
LOCATION:St John’s Church – Committee Room\, Liverpool Road\, Ainsdale\, Southport\, Merseyside\, PR8 3NG\, United Kingdom
CATEGORIES:Prayer Group
END:VEVENT
BEGIN:VEVENT
DTSTART;TZID=Europe/London:20241104T150000
DTEND;TZID=Europe/London:20241104T161500
DTSTAMP:20260421T124917
CREATED:20241028T103210Z
LAST-MODIFIED:20241028T103210Z
UID:12575-1730732400-1730736900@stjohnsainsdale.org.uk
SUMMARY:Prayers
DESCRIPTION:This will be held in our Committee Room
URL:https://stjohnsainsdale.org.uk/event/prayers-4/
LOCATION:St John’s Church – Committee Room\, Liverpool Road\, Ainsdale\, Southport\, Merseyside\, PR8 3NG\, United Kingdom
CATEGORIES:Prayer Group
END:VEVENT
BEGIN:VEVENT
DTSTART;TZID=Europe/London:20241028T150000
DTEND;TZID=Europe/London:20241028T161500
DTSTAMP:20260421T124917
CREATED:20241010T160431Z
LAST-MODIFIED:20241010T160431Z
UID:12551-1730127600-1730132100@stjohnsainsdale.org.uk
SUMMARY:Prayers
DESCRIPTION:
URL:https://stjohnsainsdale.org.uk/event/prayers-3/
LOCATION:St John’s Church\, Liverpool Road\, Southport\, PR8 3NG\, United Kingdom
CATEGORIES:Church Events,Prayer Group
END:VEVENT
BEGIN:VEVENT
DTSTART;TZID=Europe/London:20241021T150000
DTEND;TZID=Europe/London:20241021T161500
DTSTAMP:20260421T124917
CREATED:20241010T154852Z
LAST-MODIFIED:20241010T154852Z
UID:12529-1729522800-1729527300@stjohnsainsdale.org.uk
SUMMARY:Prayers
DESCRIPTION:
URL:https://stjohnsainsdale.org.uk/event/prayers-2/
LOCATION:St John’s Church\, Liverpool Road\, Southport\, PR8 3NG\, United Kingdom
CATEGORIES:Church Events,Prayer Group
END:VEVENT
BEGIN:VEVENT
DTSTART;TZID=Europe/London:20241014T150000
DTEND;TZID=Europe/London:20241014T161500
DTSTAMP:20260421T124917
CREATED:20241010T153316Z
LAST-MODIFIED:20241010T153316Z
UID:12509-1728918000-1728922500@stjohnsainsdale.org.uk
SUMMARY:Prayers
DESCRIPTION:
URL:https://stjohnsainsdale.org.uk/event/prayers/
LOCATION:St John’s Church\, Liverpool Road\, Southport\, PR8 3NG\, United Kingdom
CATEGORIES:Church Events,Prayer Group
END:VEVENT
END:VCALENDAR