BEGIN:VCALENDAR
VERSION:2.0
PRODID:-//St John&#039;s Church, Ainsdale - ECPv6.15.20//NONSGML v1.0//EN
CALSCALE:GREGORIAN
METHOD:PUBLISH
X-ORIGINAL-URL:https://stjohnsainsdale.org.uk
X-WR-CALDESC:Events for St John&#039;s Church, Ainsdale
REFRESH-INTERVAL;VALUE=DURATION:PT1H
X-Robots-Tag:noindex
X-PUBLISHED-TTL:PT1H
BEGIN:VTIMEZONE
TZID:Europe/London
BEGIN:DAYLIGHT
TZOFFSETFROM:+0000
TZOFFSETTO:+0100
TZNAME:BST
DTSTART:20240331T010000
END:DAYLIGHT
BEGIN:STANDARD
TZOFFSETFROM:+0100
TZOFFSETTO:+0000
TZNAME:GMT
DTSTART:20241027T010000
END:STANDARD
BEGIN:DAYLIGHT
TZOFFSETFROM:+0000
TZOFFSETTO:+0100
TZNAME:BST
DTSTART:20250330T010000
END:DAYLIGHT
BEGIN:STANDARD
TZOFFSETFROM:+0100
TZOFFSETTO:+0000
TZNAME:GMT
DTSTART:20251026T010000
END:STANDARD
BEGIN:DAYLIGHT
TZOFFSETFROM:+0000
TZOFFSETTO:+0100
TZNAME:BST
DTSTART:20260329T010000
END:DAYLIGHT
BEGIN:STANDARD
TZOFFSETFROM:+0100
TZOFFSETTO:+0000
TZNAME:GMT
DTSTART:20261025T010000
END:STANDARD
END:VTIMEZONE
BEGIN:VEVENT
DTSTART;TZID=Europe/London:20250504T083000
DTEND;TZID=Europe/London:20250504T083000
DTSTAMP:20260423T151230
CREATED:20250501T104428Z
LAST-MODIFIED:20250501T104428Z
UID:13092-1746347400-1746347400@stjohnsainsdale.org.uk
SUMMARY:Holy Communion Service
DESCRIPTION:Easter 3 – BCP
URL:https://stjohnsainsdale.org.uk/event/holy-communion-service-62/
LOCATION:St John’s Church\, Liverpool Road\, Southport\, PR8 3NG\, United Kingdom
CATEGORIES:Church Events,Service
END:VEVENT
BEGIN:VEVENT
DTSTART;TZID=Europe/London:20250504T103000
DTEND;TZID=Europe/London:20250504T103000
DTSTAMP:20260423T151230
CREATED:20250501T104552Z
LAST-MODIFIED:20250501T104552Z
UID:13094-1746354600-1746354600@stjohnsainsdale.org.uk
SUMMARY:Praise & Worship Service
DESCRIPTION:With Baptism
URL:https://stjohnsainsdale.org.uk/event/praise-worship-service-5/
LOCATION:St John’s Church\, Liverpool Road\, Southport\, PR8 3NG\, United Kingdom
CATEGORIES:Church Events,Service
END:VEVENT
BEGIN:VEVENT
DTSTART;TZID=Europe/London:20250508T103000
DTEND;TZID=Europe/London:20250508T103000
DTSTAMP:20260423T151230
CREATED:20250501T105857Z
LAST-MODIFIED:20250501T105857Z
UID:13104-1746700200-1746700200@stjohnsainsdale.org.uk
SUMMARY:Holy Communion Service
DESCRIPTION:BCP
URL:https://stjohnsainsdale.org.uk/event/holy-communion-service-63/
LOCATION:St John’s Church\, Liverpool Road\, Southport\, PR8 3NG\, United Kingdom
CATEGORIES:Church Events,Service
END:VEVENT
BEGIN:VEVENT
DTSTART;TZID=Europe/London:20250511T083000
DTEND;TZID=Europe/London:20250511T083000
DTSTAMP:20260423T151230
CREATED:20250501T110050Z
LAST-MODIFIED:20250501T110050Z
UID:13106-1746952200-1746952200@stjohnsainsdale.org.uk
SUMMARY:Holy Communion Service
DESCRIPTION:Easter 4 – BCP
URL:https://stjohnsainsdale.org.uk/event/holy-communion-service-64/
LOCATION:St John’s Church\, Liverpool Road\, Southport\, PR8 3NG\, United Kingdom
CATEGORIES:Church Events,Service
END:VEVENT
BEGIN:VEVENT
DTSTART;TZID=Europe/London:20250511T103000
DTEND;TZID=Europe/London:20250511T103000
DTSTAMP:20260423T151230
CREATED:20250501T110157Z
LAST-MODIFIED:20250501T110157Z
UID:13108-1746959400-1746959400@stjohnsainsdale.org.uk
SUMMARY:Holy Communion Service
DESCRIPTION:Easter 4 – CW
URL:https://stjohnsainsdale.org.uk/event/holy-communion-service-65/
LOCATION:St John’s Church\, Liverpool Road\, Southport\, PR8 3NG\, United Kingdom
CATEGORIES:Church Events,Service
END:VEVENT
BEGIN:VEVENT
DTSTART;TZID=Europe/London:20250514T130000
DTEND;TZID=Europe/London:20250514T150000
DTSTAMP:20260423T151230
CREATED:20250501T111435Z
LAST-MODIFIED:20250501T111435Z
UID:13124-1747227600-1747234800@stjohnsainsdale.org.uk
SUMMARY:Light
DESCRIPTION:Bereavement & Grief Group
URL:https://stjohnsainsdale.org.uk/event/light-2/
LOCATION:St John’s Church\, Liverpool Road\, Southport\, PR8 3NG\, United Kingdom
CATEGORIES:Church Events,Service
END:VEVENT
BEGIN:VEVENT
DTSTART;TZID=Europe/London:20250515T103000
DTEND;TZID=Europe/London:20250515T103000
DTSTAMP:20260423T151230
CREATED:20250501T111747Z
LAST-MODIFIED:20250501T111747Z
UID:13128-1747305000-1747305000@stjohnsainsdale.org.uk
SUMMARY:Holy Communion Service
DESCRIPTION:BCP
URL:https://stjohnsainsdale.org.uk/event/holy-communion-service-66/
LOCATION:St John’s Church\, Liverpool Road\, Southport\, PR8 3NG\, United Kingdom
CATEGORIES:Church Events,Service
END:VEVENT
BEGIN:VEVENT
DTSTART;TZID=Europe/London:20250518T083000
DTEND;TZID=Europe/London:20250518T083000
DTSTAMP:20260423T151230
CREATED:20250501T111953Z
LAST-MODIFIED:20250501T111953Z
UID:13130-1747557000-1747557000@stjohnsainsdale.org.uk
SUMMARY:Holy Communion Service
DESCRIPTION:Easter 5 – BCP
URL:https://stjohnsainsdale.org.uk/event/holy-communion-service-67/
LOCATION:St John’s Church\, Liverpool Road\, Southport\, PR8 3NG\, United Kingdom
CATEGORIES:Church Events,Service
END:VEVENT
BEGIN:VEVENT
DTSTART;TZID=Europe/London:20250518T103000
DTEND;TZID=Europe/London:20250518T103000
DTSTAMP:20260423T151230
CREATED:20250501T112102Z
LAST-MODIFIED:20250501T112102Z
UID:13132-1747564200-1747564200@stjohnsainsdale.org.uk
SUMMARY:Holy Communion Service
DESCRIPTION:Easter 5 – CW
URL:https://stjohnsainsdale.org.uk/event/holy-communion-service-68/
LOCATION:St John’s Church\, Liverpool Road\, Southport\, PR8 3NG\, United Kingdom
CATEGORIES:Church Events,Service
END:VEVENT
BEGIN:VEVENT
DTSTART;TZID=Europe/London:20250522T103000
DTEND;TZID=Europe/London:20250522T103000
DTSTAMP:20260423T151230
CREATED:20250501T115142Z
LAST-MODIFIED:20250501T115142Z
UID:13148-1747909800-1747909800@stjohnsainsdale.org.uk
SUMMARY:Holy Communion Service
DESCRIPTION:BCP
URL:https://stjohnsainsdale.org.uk/event/holy-communion-service-69/
LOCATION:St John’s Church\, Liverpool Road\, Southport\, PR8 3NG\, United Kingdom
CATEGORIES:Church Events,Service
END:VEVENT
BEGIN:VEVENT
DTSTART;TZID=Europe/London:20250525T083000
DTEND;TZID=Europe/London:20250525T083000
DTSTAMP:20260423T151230
CREATED:20250501T115403Z
LAST-MODIFIED:20250501T115403Z
UID:13150-1748161800-1748161800@stjohnsainsdale.org.uk
SUMMARY:Holy Communion Service
DESCRIPTION:Easter 6 – BCP
URL:https://stjohnsainsdale.org.uk/event/holy-communion-service-70/
LOCATION:St John’s Church\, Liverpool Road\, Southport\, PR8 3NG\, United Kingdom
CATEGORIES:Church Events,Service
END:VEVENT
BEGIN:VEVENT
DTSTART;TZID=Europe/London:20250525T103000
DTEND;TZID=Europe/London:20250525T103000
DTSTAMP:20260423T151230
CREATED:20250501T115538Z
LAST-MODIFIED:20250501T115538Z
UID:13152-1748169000-1748169000@stjohnsainsdale.org.uk
SUMMARY:Holy Communion Service
DESCRIPTION:CW
URL:https://stjohnsainsdale.org.uk/event/holy-communion-service-71/
LOCATION:St John’s Church\, Liverpool Road\, Southport\, PR8 3NG\, United Kingdom
CATEGORIES:Church Events,Service
END:VEVENT
BEGIN:VEVENT
DTSTART;TZID=Europe/London:20250529T103000
DTEND;TZID=Europe/London:20250529T103000
DTSTAMP:20260423T151230
CREATED:20250501T122241Z
LAST-MODIFIED:20250501T122241Z
UID:13168-1748514600-1748514600@stjohnsainsdale.org.uk
SUMMARY:Holy Communion Service
DESCRIPTION:BCP
URL:https://stjohnsainsdale.org.uk/event/holy-communion-service-72/
LOCATION:St John’s Church\, Liverpool Road\, Southport\, PR8 3NG\, United Kingdom
CATEGORIES:Church Events,Service
END:VEVENT
BEGIN:VEVENT
DTSTART;TZID=Europe/London:20250529T190000
DTEND;TZID=Europe/London:20250529T190000
DTSTAMP:20260423T151230
CREATED:20250501T122437Z
LAST-MODIFIED:20250501T122437Z
UID:13170-1748545200-1748545200@stjohnsainsdale.org.uk
SUMMARY:Holy Communion Service
DESCRIPTION:Ascension Day
URL:https://stjohnsainsdale.org.uk/event/holy-communion-service-73/
LOCATION:St John’s Church\, Liverpool Road\, Southport\, PR8 3NG\, United Kingdom
CATEGORIES:Church Events,Service
END:VEVENT
END:VCALENDAR