BEGIN:VCALENDAR
VERSION:2.0
PRODID:-//St John&#039;s Church, Ainsdale - ECPv6.15.20//NONSGML v1.0//EN
CALSCALE:GREGORIAN
METHOD:PUBLISH
X-WR-CALNAME:St John&#039;s Church, Ainsdale
X-ORIGINAL-URL:https://stjohnsainsdale.org.uk
X-WR-CALDESC:Events for St John&#039;s Church, Ainsdale
REFRESH-INTERVAL;VALUE=DURATION:PT1H
X-Robots-Tag:noindex
X-PUBLISHED-TTL:PT1H
BEGIN:VTIMEZONE
TZID:Europe/London
BEGIN:DAYLIGHT
TZOFFSETFROM:+0000
TZOFFSETTO:+0100
TZNAME:BST
DTSTART:20240331T010000
END:DAYLIGHT
BEGIN:STANDARD
TZOFFSETFROM:+0100
TZOFFSETTO:+0000
TZNAME:GMT
DTSTART:20241027T010000
END:STANDARD
BEGIN:DAYLIGHT
TZOFFSETFROM:+0000
TZOFFSETTO:+0100
TZNAME:BST
DTSTART:20250330T010000
END:DAYLIGHT
BEGIN:STANDARD
TZOFFSETFROM:+0100
TZOFFSETTO:+0000
TZNAME:GMT
DTSTART:20251026T010000
END:STANDARD
BEGIN:DAYLIGHT
TZOFFSETFROM:+0000
TZOFFSETTO:+0100
TZNAME:BST
DTSTART:20260329T010000
END:DAYLIGHT
BEGIN:STANDARD
TZOFFSETFROM:+0100
TZOFFSETTO:+0000
TZNAME:GMT
DTSTART:20261025T010000
END:STANDARD
END:VTIMEZONE
BEGIN:VEVENT
DTSTART;TZID=Europe/London:20250803T083000
DTEND;TZID=Europe/London:20250803T083000
DTSTAMP:20260424T190214
CREATED:20250717T084343Z
LAST-MODIFIED:20250717T084343Z
UID:13335-1754209800-1754209800@stjohnsainsdale.org.uk
SUMMARY:Holy Communion Service
DESCRIPTION:Trinity 7 – BCP
URL:https://stjohnsainsdale.org.uk/event/holy-communion-service-87/
LOCATION:St John’s Church\, Liverpool Road\, Southport\, PR8 3NG\, United Kingdom
CATEGORIES:Church Events,Service
END:VEVENT
BEGIN:VEVENT
DTSTART;TZID=Europe/London:20250803T103000
DTEND;TZID=Europe/London:20250803T103000
DTSTAMP:20260424T190214
CREATED:20250717T084555Z
LAST-MODIFIED:20250717T084555Z
UID:13337-1754217000-1754217000@stjohnsainsdale.org.uk
SUMMARY:P&W Baptism
DESCRIPTION:Trinity 7
URL:https://stjohnsainsdale.org.uk/event/pw-baptism/
LOCATION:St John’s Church\, Liverpool Road\, Southport\, PR8 3NG\, United Kingdom
CATEGORIES:Church Events,Service
END:VEVENT
BEGIN:VEVENT
DTSTART;TZID=Europe/London:20250807T103000
DTEND;TZID=Europe/London:20250807T103000
DTSTAMP:20260424T190214
CREATED:20250717T084851Z
LAST-MODIFIED:20250717T084851Z
UID:13341-1754562600-1754562600@stjohnsainsdale.org.uk
SUMMARY:Holy Communion Service
DESCRIPTION:BCP
URL:https://stjohnsainsdale.org.uk/event/holy-communion-service-88/
LOCATION:St John’s Church\, Liverpool Road\, Southport\, PR8 3NG\, United Kingdom
CATEGORIES:Church Events,Service
END:VEVENT
BEGIN:VEVENT
DTSTART;TZID=Europe/London:20250810T103000
DTEND;TZID=Europe/London:20250810T103000
DTSTAMP:20260424T190214
CREATED:20250717T085123Z
LAST-MODIFIED:20250717T085123Z
UID:13343-1754821800-1754821800@stjohnsainsdale.org.uk
SUMMARY:Cafe Church
DESCRIPTION:Theme – Hospitality
URL:https://stjohnsainsdale.org.uk/event/cafe-church/
LOCATION:St John’s Church\, Liverpool Road\, Southport\, PR8 3NG\, United Kingdom
CATEGORIES:Church Events,Service
END:VEVENT
BEGIN:VEVENT
DTSTART;TZID=Europe/London:20250814T103000
DTEND;TZID=Europe/London:20250814T103000
DTSTAMP:20260424T190214
CREATED:20250717T085731Z
LAST-MODIFIED:20250717T085731Z
UID:13349-1755167400-1755167400@stjohnsainsdale.org.uk
SUMMARY:Holy Communion Service
DESCRIPTION:BCP
URL:https://stjohnsainsdale.org.uk/event/holy-communion-service-89/
LOCATION:St John’s Church\, Liverpool Road\, Southport\, PR8 3NG\, United Kingdom
CATEGORIES:Church Events,Service
END:VEVENT
BEGIN:VEVENT
DTSTART;TZID=Europe/London:20250817T083000
DTEND;TZID=Europe/London:20250817T083000
DTSTAMP:20260424T190214
CREATED:20250717T085908Z
LAST-MODIFIED:20250717T085908Z
UID:13351-1755419400-1755419400@stjohnsainsdale.org.uk
SUMMARY:Holy Communion Service
DESCRIPTION:Trinity 9 – BCP
URL:https://stjohnsainsdale.org.uk/event/holy-communion-service-90/
LOCATION:St John’s Church\, Liverpool Road\, Southport\, PR8 3NG\, United Kingdom
CATEGORIES:Church Events,Service
END:VEVENT
BEGIN:VEVENT
DTSTART;TZID=Europe/London:20250817T103000
DTEND;TZID=Europe/London:20250817T103000
DTSTAMP:20260424T190214
CREATED:20250717T090040Z
LAST-MODIFIED:20250717T090040Z
UID:13353-1755426600-1755426600@stjohnsainsdale.org.uk
SUMMARY:Cafe Church
DESCRIPTION:Theme – Service
URL:https://stjohnsainsdale.org.uk/event/cafe-church-2/
LOCATION:St John’s Church\, Liverpool Road\, Southport\, PR8 3NG\, United Kingdom
CATEGORIES:Church Events,Service
END:VEVENT
BEGIN:VEVENT
DTSTART;TZID=Europe/London:20250821T103000
DTEND;TZID=Europe/London:20250821T103000
DTSTAMP:20260424T190214
CREATED:20250717T090202Z
LAST-MODIFIED:20250717T090202Z
UID:13355-1755772200-1755772200@stjohnsainsdale.org.uk
SUMMARY:Holy Communion Service
DESCRIPTION:BCP
URL:https://stjohnsainsdale.org.uk/event/holy-communion-service-91/
LOCATION:St John’s Church\, Liverpool Road\, Southport\, PR8 3NG\, United Kingdom
CATEGORIES:Church Events,Service
END:VEVENT
BEGIN:VEVENT
DTSTART;TZID=Europe/London:20250824T083000
DTEND;TZID=Europe/London:20250824T083000
DTSTAMP:20260424T190214
CREATED:20250717T090336Z
LAST-MODIFIED:20250717T090336Z
UID:13357-1756024200-1756024200@stjohnsainsdale.org.uk
SUMMARY:Holy Communion Service
DESCRIPTION:Trinity 10 – BCP
URL:https://stjohnsainsdale.org.uk/event/holy-communion-service-92/
LOCATION:St John’s Church\, Liverpool Road\, Southport\, PR8 3NG\, United Kingdom
CATEGORIES:Church Events,Service
END:VEVENT
BEGIN:VEVENT
DTSTART;TZID=Europe/London:20250824T103000
DTEND;TZID=Europe/London:20250824T103000
DTSTAMP:20260424T190214
CREATED:20250717T090508Z
LAST-MODIFIED:20250717T090508Z
UID:13359-1756031400-1756031400@stjohnsainsdale.org.uk
SUMMARY:Cafe Church
DESCRIPTION:Theme – Creation
URL:https://stjohnsainsdale.org.uk/event/cafe-church-3/
LOCATION:St John’s Church\, Liverpool Road\, Southport\, PR8 3NG\, United Kingdom
CATEGORIES:Church Events,Service
END:VEVENT
BEGIN:VEVENT
DTSTART;TZID=Europe/London:20250828T103000
DTEND;TZID=Europe/London:20250828T103000
DTSTAMP:20260424T190214
CREATED:20250717T090633Z
LAST-MODIFIED:20250717T090633Z
UID:13361-1756377000-1756377000@stjohnsainsdale.org.uk
SUMMARY:Holy Communion Service
DESCRIPTION:BCP
URL:https://stjohnsainsdale.org.uk/event/holy-communion-service-93/
LOCATION:St John’s Church\, Liverpool Road\, Southport\, PR8 3NG\, United Kingdom
CATEGORIES:Church Events,Service
END:VEVENT
BEGIN:VEVENT
DTSTART;TZID=Europe/London:20250831T083000
DTEND;TZID=Europe/London:20250831T083000
DTSTAMP:20260424T190214
CREATED:20250717T090828Z
LAST-MODIFIED:20250717T090828Z
UID:13363-1756629000-1756629000@stjohnsainsdale.org.uk
SUMMARY:Holy Communion Service
DESCRIPTION:Trinity 11 – BCP
URL:https://stjohnsainsdale.org.uk/event/holy-communion-service-94/
LOCATION:St John’s Church\, Liverpool Road\, Southport\, PR8 3NG\, United Kingdom
CATEGORIES:Church Events,Service
END:VEVENT
BEGIN:VEVENT
DTSTART;TZID=Europe/London:20250831T103000
DTEND;TZID=Europe/London:20250831T103000
DTSTAMP:20260424T190214
CREATED:20250717T091030Z
LAST-MODIFIED:20250717T091030Z
UID:13365-1756636200-1756636200@stjohnsainsdale.org.uk
SUMMARY:Teddy Bears Picnic
DESCRIPTION:Outdoor Service
URL:https://stjohnsainsdale.org.uk/event/teddy-bears-picnic/
LOCATION:St John’s Church\, Liverpool Road\, Southport\, PR8 3NG\, United Kingdom
CATEGORIES:Church Events,Service
END:VEVENT
END:VCALENDAR