BEGIN:VCALENDAR
VERSION:2.0
PRODID:-//St John&#039;s Church, Ainsdale - ECPv6.15.20//NONSGML v1.0//EN
CALSCALE:GREGORIAN
METHOD:PUBLISH
X-ORIGINAL-URL:https://stjohnsainsdale.org.uk
X-WR-CALDESC:Events for St John&#039;s Church, Ainsdale
REFRESH-INTERVAL;VALUE=DURATION:PT1H
X-Robots-Tag:noindex
X-PUBLISHED-TTL:PT1H
BEGIN:VTIMEZONE
TZID:Europe/London
BEGIN:DAYLIGHT
TZOFFSETFROM:+0000
TZOFFSETTO:+0100
TZNAME:BST
DTSTART:20250330T010000
END:DAYLIGHT
BEGIN:STANDARD
TZOFFSETFROM:+0100
TZOFFSETTO:+0000
TZNAME:GMT
DTSTART:20251026T010000
END:STANDARD
BEGIN:DAYLIGHT
TZOFFSETFROM:+0000
TZOFFSETTO:+0100
TZNAME:BST
DTSTART:20260329T010000
END:DAYLIGHT
BEGIN:STANDARD
TZOFFSETFROM:+0100
TZOFFSETTO:+0000
TZNAME:GMT
DTSTART:20261025T010000
END:STANDARD
BEGIN:DAYLIGHT
TZOFFSETFROM:+0000
TZOFFSETTO:+0100
TZNAME:BST
DTSTART:20270328T010000
END:DAYLIGHT
BEGIN:STANDARD
TZOFFSETFROM:+0100
TZOFFSETTO:+0000
TZNAME:GMT
DTSTART:20271031T010000
END:STANDARD
END:VTIMEZONE
BEGIN:VEVENT
DTSTART;TZID=Europe/London:20260111T083000
DTEND;TZID=Europe/London:20260111T083000
DTSTAMP:20260424T004707
CREATED:20260109T091644Z
LAST-MODIFIED:20260109T091644Z
UID:13646-1768120200-1768120200@stjohnsainsdale.org.uk
SUMMARY:Holy Communion Service
DESCRIPTION:EPIPHANY 1 – BCP
URL:https://stjohnsainsdale.org.uk/event/holy-communion-service-120/
LOCATION:St John’s Church\, Liverpool Road\, Southport\, PR8 3NG\, United Kingdom
CATEGORIES:Church Events,Service
END:VEVENT
BEGIN:VEVENT
DTSTART;TZID=Europe/London:20260111T103000
DTEND;TZID=Europe/London:20260111T103000
DTSTAMP:20260424T004707
CREATED:20260109T091900Z
LAST-MODIFIED:20260109T091900Z
UID:13648-1768127400-1768127400@stjohnsainsdale.org.uk
SUMMARY:Holy Communion Service
DESCRIPTION:EPIPHANY 1 – CW
URL:https://stjohnsainsdale.org.uk/event/holy-communion-service-121/
LOCATION:St John’s Church\, Liverpool Road\, Southport\, PR8 3NG\, United Kingdom
CATEGORIES:Church Events,Service
END:VEVENT
BEGIN:VEVENT
DTSTART;TZID=Europe/London:20260115T103000
DTEND;TZID=Europe/London:20260115T103000
DTSTAMP:20260424T004707
CREATED:20260109T093153Z
LAST-MODIFIED:20260109T093153Z
UID:13664-1768473000-1768473000@stjohnsainsdale.org.uk
SUMMARY:Holy Communion Service
DESCRIPTION:BCP
URL:https://stjohnsainsdale.org.uk/event/holy-communion-service-122/
LOCATION:St John’s Church\, Liverpool Road\, Southport\, PR8 3NG\, United Kingdom
CATEGORIES:Church Events,Service
END:VEVENT
BEGIN:VEVENT
DTSTART;TZID=Europe/London:20260118T083000
DTEND;TZID=Europe/London:20260118T083000
DTSTAMP:20260424T004707
CREATED:20260109T093435Z
LAST-MODIFIED:20260109T093435Z
UID:13668-1768725000-1768725000@stjohnsainsdale.org.uk
SUMMARY:Holy Communion Service
DESCRIPTION:EPIPHANY 2 – BCP
URL:https://stjohnsainsdale.org.uk/event/holy-communion-service-123/
LOCATION:St John’s Church\, Liverpool Road\, Southport\, PR8 3NG\, United Kingdom
CATEGORIES:Church Events,Service
END:VEVENT
BEGIN:VEVENT
DTSTART;TZID=Europe/London:20260118T103000
DTEND;TZID=Europe/London:20260118T103000
DTSTAMP:20260424T004707
CREATED:20260109T093608Z
LAST-MODIFIED:20260109T093608Z
UID:13670-1768732200-1768732200@stjohnsainsdale.org.uk
SUMMARY:Praise & Worship
DESCRIPTION:Parade Service
URL:https://stjohnsainsdale.org.uk/event/praise-worship-11/
LOCATION:St John’s Church\, Liverpool Road\, Southport\, PR8 3NG\, United Kingdom
CATEGORIES:Church Events,Service,Uniformed Organisations
END:VEVENT
BEGIN:VEVENT
DTSTART;TZID=Europe/London:20260122T103000
DTEND;TZID=Europe/London:20260122T103000
DTSTAMP:20260424T004707
CREATED:20260109T094452Z
LAST-MODIFIED:20260109T094452Z
UID:13682-1769077800-1769077800@stjohnsainsdale.org.uk
SUMMARY:Holy Communion Service
DESCRIPTION:
URL:https://stjohnsainsdale.org.uk/event/holy-communion-service-124/
LOCATION:St John’s Church\, Liverpool Road\, Southport\, PR8 3NG\, United Kingdom
CATEGORIES:Church Events,Service
END:VEVENT
BEGIN:VEVENT
DTSTART;TZID=Europe/London:20260125T083000
DTEND;TZID=Europe/London:20260125T083000
DTSTAMP:20260424T004707
CREATED:20260109T094725Z
LAST-MODIFIED:20260109T094725Z
UID:13686-1769329800-1769329800@stjohnsainsdale.org.uk
SUMMARY:Holy Communion Service
DESCRIPTION:EPIPHANY 3 – BCP
URL:https://stjohnsainsdale.org.uk/event/holy-communion-service-125/
LOCATION:St John’s Church\, Liverpool Road\, Southport\, PR8 3NG\, United Kingdom
CATEGORIES:Church Events,Service
END:VEVENT
BEGIN:VEVENT
DTSTART;TZID=Europe/London:20260125T103000
DTEND;TZID=Europe/London:20260125T103000
DTSTAMP:20260424T004707
CREATED:20260109T094848Z
LAST-MODIFIED:20260109T094848Z
UID:13688-1769337000-1769337000@stjohnsainsdale.org.uk
SUMMARY:Holy Communion Service
DESCRIPTION:EPIPHANY 3 – CW
URL:https://stjohnsainsdale.org.uk/event/holy-communion-service-126/
LOCATION:St John’s Church\, Liverpool Road\, Southport\, PR8 3NG\, United Kingdom
CATEGORIES:Church Events,Service
END:VEVENT
BEGIN:VEVENT
DTSTART;TZID=Europe/London:20260129T103000
DTEND;TZID=Europe/London:20260129T103000
DTSTAMP:20260424T004707
CREATED:20260109T095708Z
LAST-MODIFIED:20260109T095708Z
UID:13700-1769682600-1769682600@stjohnsainsdale.org.uk
SUMMARY:Holy Communion Service
DESCRIPTION:
URL:https://stjohnsainsdale.org.uk/event/holy-communion-service-127/
LOCATION:St John’s Church\, Liverpool Road\, Southport\, PR8 3NG\, United Kingdom
CATEGORIES:Church Events,Service
END:VEVENT
END:VCALENDAR