BEGIN:VCALENDAR
VERSION:2.0
PRODID:-//St John&#039;s Church, Ainsdale - ECPv6.15.20//NONSGML v1.0//EN
CALSCALE:GREGORIAN
METHOD:PUBLISH
X-WR-CALNAME:St John&#039;s Church, Ainsdale
X-ORIGINAL-URL:https://stjohnsainsdale.org.uk
X-WR-CALDESC:Events for St John&#039;s Church, Ainsdale
REFRESH-INTERVAL;VALUE=DURATION:PT1H
X-Robots-Tag:noindex
X-PUBLISHED-TTL:PT1H
BEGIN:VTIMEZONE
TZID:Europe/London
BEGIN:DAYLIGHT
TZOFFSETFROM:+0000
TZOFFSETTO:+0100
TZNAME:BST
DTSTART:20250330T010000
END:DAYLIGHT
BEGIN:STANDARD
TZOFFSETFROM:+0100
TZOFFSETTO:+0000
TZNAME:GMT
DTSTART:20251026T010000
END:STANDARD
BEGIN:DAYLIGHT
TZOFFSETFROM:+0000
TZOFFSETTO:+0100
TZNAME:BST
DTSTART:20260329T010000
END:DAYLIGHT
BEGIN:STANDARD
TZOFFSETFROM:+0100
TZOFFSETTO:+0000
TZNAME:GMT
DTSTART:20261025T010000
END:STANDARD
BEGIN:DAYLIGHT
TZOFFSETFROM:+0000
TZOFFSETTO:+0100
TZNAME:BST
DTSTART:20270328T010000
END:DAYLIGHT
BEGIN:STANDARD
TZOFFSETFROM:+0100
TZOFFSETTO:+0000
TZNAME:GMT
DTSTART:20271031T010000
END:STANDARD
END:VTIMEZONE
BEGIN:VEVENT
DTSTART;TZID=Europe/London:20260201T083000
DTEND;TZID=Europe/London:20260201T083000
DTSTAMP:20260422T054340
CREATED:20260122T114430Z
LAST-MODIFIED:20260122T114430Z
UID:13705-1769934600-1769934600@stjohnsainsdale.org.uk
SUMMARY:Holy Communion Service
DESCRIPTION:EPIPHANY 4 – BCP
URL:https://stjohnsainsdale.org.uk/event/holy-communion-service-128/
LOCATION:St John’s Church\, Liverpool Road\, Southport\, PR8 3NG\, United Kingdom
CATEGORIES:Church Events,Service
END:VEVENT
BEGIN:VEVENT
DTSTART;TZID=Europe/London:20260201T103000
DTEND;TZID=Europe/London:20260201T103000
DTSTAMP:20260422T054340
CREATED:20260122T114539Z
LAST-MODIFIED:20260122T114539Z
UID:13707-1769941800-1769941800@stjohnsainsdale.org.uk
SUMMARY:Praise & Worship
DESCRIPTION:
URL:https://stjohnsainsdale.org.uk/event/praise-worship-12/
LOCATION:St John’s Church\, Liverpool Road\, Southport\, PR8 3NG\, United Kingdom
CATEGORIES:Church Events,Service
END:VEVENT
BEGIN:VEVENT
DTSTART;TZID=Europe/London:20260205T103000
DTEND;TZID=Europe/London:20260205T103000
DTSTAMP:20260422T054340
CREATED:20260122T115834Z
LAST-MODIFIED:20260122T115834Z
UID:13719-1770287400-1770287400@stjohnsainsdale.org.uk
SUMMARY:Holy Communion Service
DESCRIPTION:BCP
URL:https://stjohnsainsdale.org.uk/event/holy-communion-service-129/
LOCATION:St John’s Church\, Liverpool Road\, Southport\, PR8 3NG\, United Kingdom
CATEGORIES:Church Events,Service
END:VEVENT
BEGIN:VEVENT
DTSTART;TZID=Europe/London:20260208T083000
DTEND;TZID=Europe/London:20260208T083000
DTSTAMP:20260422T054340
CREATED:20260122T121051Z
LAST-MODIFIED:20260122T121051Z
UID:13723-1770539400-1770539400@stjohnsainsdale.org.uk
SUMMARY:Holy Communion Service
DESCRIPTION:2 BEFORE LENT – BCP
URL:https://stjohnsainsdale.org.uk/event/holy-communion-service-130/
LOCATION:St John’s Church\, Liverpool Road\, Southport\, PR8 3NG\, United Kingdom
CATEGORIES:Church Events,Service
END:VEVENT
BEGIN:VEVENT
DTSTART;TZID=Europe/London:20260208T103000
DTEND;TZID=Europe/London:20260208T103000
DTSTAMP:20260422T054340
CREATED:20260122T121228Z
LAST-MODIFIED:20260122T121228Z
UID:13725-1770546600-1770546600@stjohnsainsdale.org.uk
SUMMARY:Holy Communion Service
DESCRIPTION:2 BEFORE LENT – CW
URL:https://stjohnsainsdale.org.uk/event/holy-communion-service-131/
LOCATION:St John’s Church\, Liverpool Road\, Southport\, PR8 3NG\, United Kingdom
CATEGORIES:Church Events,Service
END:VEVENT
BEGIN:VEVENT
DTSTART;TZID=Europe/London:20260212T103000
DTEND;TZID=Europe/London:20260212T103000
DTSTAMP:20260422T054340
CREATED:20260122T122946Z
LAST-MODIFIED:20260122T122946Z
UID:13742-1770892200-1770892200@stjohnsainsdale.org.uk
SUMMARY:Holy Communion Service
DESCRIPTION:BCP
URL:https://stjohnsainsdale.org.uk/event/holy-communion-service-132/
LOCATION:St John’s Church\, Liverpool Road\, Southport\, PR8 3NG\, United Kingdom
CATEGORIES:Church Events,Service
END:VEVENT
BEGIN:VEVENT
DTSTART;TZID=Europe/London:20260215T083000
DTEND;TZID=Europe/London:20260215T083000
DTSTAMP:20260422T054340
CREATED:20260122T123611Z
LAST-MODIFIED:20260122T123611Z
UID:13746-1771144200-1771144200@stjohnsainsdale.org.uk
SUMMARY:Holy Communion
DESCRIPTION:NEXT BEFORE LENT – BCP
URL:https://stjohnsainsdale.org.uk/event/holy-communion-2/
LOCATION:St John’s Church\, Liverpool Road\, Southport\, PR8 3NG\, United Kingdom
CATEGORIES:Church Events,Service
END:VEVENT
BEGIN:VEVENT
DTSTART;TZID=Europe/London:20260215T103000
DTEND;TZID=Europe/London:20260215T103000
DTSTAMP:20260422T054340
CREATED:20260122T123728Z
LAST-MODIFIED:20260122T123728Z
UID:13748-1771151400-1771151400@stjohnsainsdale.org.uk
SUMMARY:Praise & Worship
DESCRIPTION:
URL:https://stjohnsainsdale.org.uk/event/praise-worship-13/
LOCATION:St John’s Church\, Liverpool Road\, Southport\, PR8 3NG\, United Kingdom
CATEGORIES:Church Events,Service
END:VEVENT
BEGIN:VEVENT
DTSTART;TZID=Europe/London:20260218T103000
DTEND;TZID=Europe/London:20260218T103000
DTSTAMP:20260422T054340
CREATED:20260122T124120Z
LAST-MODIFIED:20260122T124120Z
UID:13752-1771410600-1771410600@stjohnsainsdale.org.uk
SUMMARY:Holy Communion Service
DESCRIPTION:Ash Wednesday
URL:https://stjohnsainsdale.org.uk/event/holy-communion-service-133/
LOCATION:St John’s Church\, Liverpool Road\, Southport\, PR8 3NG\, United Kingdom
CATEGORIES:Church Events,Service
END:VEVENT
BEGIN:VEVENT
DTSTART;TZID=Europe/London:20260222T083000
DTEND;TZID=Europe/London:20260222T083000
DTSTAMP:20260422T054340
CREATED:20260122T124304Z
LAST-MODIFIED:20260122T124304Z
UID:13754-1771749000-1771749000@stjohnsainsdale.org.uk
SUMMARY:Holy Communion Service
DESCRIPTION:LENT 1 – BCP
URL:https://stjohnsainsdale.org.uk/event/holy-communion-service-134/
LOCATION:St John’s Church\, Liverpool Road\, Southport\, PR8 3NG\, United Kingdom
CATEGORIES:Church Events,Service
END:VEVENT
BEGIN:VEVENT
DTSTART;TZID=Europe/London:20260222T103000
DTEND;TZID=Europe/London:20260222T103000
DTSTAMP:20260422T054340
CREATED:20260122T124513Z
LAST-MODIFIED:20260122T124513Z
UID:13756-1771756200-1771756200@stjohnsainsdale.org.uk
SUMMARY:Holy Communion Service
DESCRIPTION:LENT 1 – CW
URL:https://stjohnsainsdale.org.uk/event/holy-communion-service-135/
LOCATION:St John’s Church\, Liverpool Road\, Southport\, PR8 3NG\, United Kingdom
CATEGORIES:Church Events,Service
END:VEVENT
BEGIN:VEVENT
DTSTART;TZID=Europe/London:20260226T103000
DTEND;TZID=Europe/London:20260226T103000
DTSTAMP:20260422T054340
CREATED:20260122T125425Z
LAST-MODIFIED:20260122T125425Z
UID:13768-1772101800-1772101800@stjohnsainsdale.org.uk
SUMMARY:Holy Communion Service
DESCRIPTION:BCP
URL:https://stjohnsainsdale.org.uk/event/holy-communion-service-136/
LOCATION:St John’s Church\, Liverpool Road\, Southport\, PR8 3NG\, United Kingdom
CATEGORIES:Church Events,Service
END:VEVENT
END:VCALENDAR