BEGIN:VCALENDAR
VERSION:2.0
PRODID:-//St John&#039;s Church, Ainsdale - ECPv6.15.20//NONSGML v1.0//EN
CALSCALE:GREGORIAN
METHOD:PUBLISH
X-ORIGINAL-URL:https://stjohnsainsdale.org.uk
X-WR-CALDESC:Events for St John&#039;s Church, Ainsdale
REFRESH-INTERVAL;VALUE=DURATION:PT1H
X-Robots-Tag:noindex
X-PUBLISHED-TTL:PT1H
BEGIN:VTIMEZONE
TZID:Europe/London
BEGIN:DAYLIGHT
TZOFFSETFROM:+0000
TZOFFSETTO:+0100
TZNAME:BST
DTSTART:20240331T010000
END:DAYLIGHT
BEGIN:STANDARD
TZOFFSETFROM:+0100
TZOFFSETTO:+0000
TZNAME:GMT
DTSTART:20241027T010000
END:STANDARD
BEGIN:DAYLIGHT
TZOFFSETFROM:+0000
TZOFFSETTO:+0100
TZNAME:BST
DTSTART:20250330T010000
END:DAYLIGHT
BEGIN:STANDARD
TZOFFSETFROM:+0100
TZOFFSETTO:+0000
TZNAME:GMT
DTSTART:20251026T010000
END:STANDARD
BEGIN:DAYLIGHT
TZOFFSETFROM:+0000
TZOFFSETTO:+0100
TZNAME:BST
DTSTART:20260329T010000
END:DAYLIGHT
BEGIN:STANDARD
TZOFFSETFROM:+0100
TZOFFSETTO:+0000
TZNAME:GMT
DTSTART:20261025T010000
END:STANDARD
END:VTIMEZONE
BEGIN:VEVENT
DTSTART;TZID=Europe/London:20251221T083000
DTEND;TZID=Europe/London:20251221T083000
DTSTAMP:20260424T142552
CREATED:20251127T103617Z
LAST-MODIFIED:20251127T103617Z
UID:13609-1766305800-1766305800@stjohnsainsdale.org.uk
SUMMARY:Advent 4 - Holy Communion Service
DESCRIPTION:BCP
URL:https://stjohnsainsdale.org.uk/event/advent-4-holy-communion-service/
LOCATION:St John’s Church\, Liverpool Road\, Southport\, PR8 3NG\, United Kingdom
CATEGORIES:Church Events,Service
END:VEVENT
BEGIN:VEVENT
DTSTART;TZID=Europe/London:20251221T103000
DTEND;TZID=Europe/London:20251221T103000
DTSTAMP:20260424T142552
CREATED:20251127T103742Z
LAST-MODIFIED:20251127T103742Z
UID:13611-1766313000-1766313000@stjohnsainsdale.org.uk
SUMMARY:Praise & Worship
DESCRIPTION:ADVENT 4
URL:https://stjohnsainsdale.org.uk/event/praise-worship-10/
LOCATION:St John’s Church\, Liverpool Road\, Southport\, PR8 3NG\, United Kingdom
CATEGORIES:Church Events,Service
END:VEVENT
BEGIN:VEVENT
DTSTART;TZID=Europe/London:20251221T180000
DTEND;TZID=Europe/London:20251221T180000
DTSTAMP:20260424T142552
CREATED:20251127T103932Z
LAST-MODIFIED:20251127T103932Z
UID:13613-1766340000-1766340000@stjohnsainsdale.org.uk
SUMMARY:O Come All Ye Faithful
DESCRIPTION:Carol Service
URL:https://stjohnsainsdale.org.uk/event/o-come-all-ye-faithful/
LOCATION:St John’s Church\, Liverpool Road\, Southport\, PR8 3NG\, United Kingdom
CATEGORIES:Church Events,Service
END:VEVENT
END:VCALENDAR