BEGIN:VCALENDAR
VERSION:2.0
PRODID:-//St John&#039;s Church, Ainsdale - ECPv6.15.20//NONSGML v1.0//EN
CALSCALE:GREGORIAN
METHOD:PUBLISH
X-ORIGINAL-URL:https://stjohnsainsdale.org.uk
X-WR-CALDESC:Events for St John&#039;s Church, Ainsdale
REFRESH-INTERVAL;VALUE=DURATION:PT1H
X-Robots-Tag:noindex
X-PUBLISHED-TTL:PT1H
BEGIN:VTIMEZONE
TZID:Europe/London
BEGIN:DAYLIGHT
TZOFFSETFROM:+0000
TZOFFSETTO:+0100
TZNAME:BST
DTSTART:20240331T010000
END:DAYLIGHT
BEGIN:STANDARD
TZOFFSETFROM:+0100
TZOFFSETTO:+0000
TZNAME:GMT
DTSTART:20241027T010000
END:STANDARD
BEGIN:DAYLIGHT
TZOFFSETFROM:+0000
TZOFFSETTO:+0100
TZNAME:BST
DTSTART:20250330T010000
END:DAYLIGHT
BEGIN:STANDARD
TZOFFSETFROM:+0100
TZOFFSETTO:+0000
TZNAME:GMT
DTSTART:20251026T010000
END:STANDARD
BEGIN:DAYLIGHT
TZOFFSETFROM:+0000
TZOFFSETTO:+0100
TZNAME:BST
DTSTART:20260329T010000
END:DAYLIGHT
BEGIN:STANDARD
TZOFFSETFROM:+0100
TZOFFSETTO:+0000
TZNAME:GMT
DTSTART:20261025T010000
END:STANDARD
END:VTIMEZONE
BEGIN:VEVENT
DTSTART;TZID=Europe/London:20250504T083000
DTEND;TZID=Europe/London:20250504T083000
DTSTAMP:20260425T034555
CREATED:20250501T104428Z
LAST-MODIFIED:20250501T104428Z
UID:13092-1746347400-1746347400@stjohnsainsdale.org.uk
SUMMARY:Holy Communion Service
DESCRIPTION:Easter 3 – BCP
URL:https://stjohnsainsdale.org.uk/event/holy-communion-service-62/
LOCATION:St John’s Church\, Liverpool Road\, Southport\, PR8 3NG\, United Kingdom
CATEGORIES:Church Events,Service
END:VEVENT
BEGIN:VEVENT
DTSTART;TZID=Europe/London:20250427T103000
DTEND;TZID=Europe/London:20250427T103000
DTSTAMP:20260425T034555
CREATED:20250402T114410Z
LAST-MODIFIED:20250402T114410Z
UID:13041-1745749800-1745749800@stjohnsainsdale.org.uk
SUMMARY:Holy Communion Commissioning Service
DESCRIPTION:Easter 2 – CW
URL:https://stjohnsainsdale.org.uk/event/holy-communion-commissioning-service/
LOCATION:St John’s Church\, Liverpool Road\, Southport\, PR8 3NG\, United Kingdom
CATEGORIES:Church Events,Service
END:VEVENT
BEGIN:VEVENT
DTSTART;TZID=Europe/London:20250427T083000
DTEND;TZID=Europe/London:20250427T083000
DTSTAMP:20260425T034555
CREATED:20250402T114049Z
LAST-MODIFIED:20250402T114118Z
UID:13038-1745742600-1745742600@stjohnsainsdale.org.uk
SUMMARY:Holy Communion Service
DESCRIPTION:Easter 2 – BCP
URL:https://stjohnsainsdale.org.uk/event/holy-communion-service-61/
LOCATION:St John’s Church\, Liverpool Road\, Southport\, PR8 3NG\, United Kingdom
CATEGORIES:Church Events,Service
END:VEVENT
BEGIN:VEVENT
DTSTART;TZID=Europe/London:20250424T103000
DTEND;TZID=Europe/London:20250424T103000
DTSTAMP:20260425T034555
CREATED:20250402T113833Z
LAST-MODIFIED:20250402T113833Z
UID:13034-1745490600-1745490600@stjohnsainsdale.org.uk
SUMMARY:Holy Communion Service
DESCRIPTION:BCP
URL:https://stjohnsainsdale.org.uk/event/holy-communion-service-60/
LOCATION:St John’s Church\, Liverpool Road\, Southport\, PR8 3NG\, United Kingdom
CATEGORIES:Church Events,Service
END:VEVENT
BEGIN:VEVENT
DTSTART;TZID=Europe/London:20250420T103000
DTEND;TZID=Europe/London:20250420T103000
DTSTAMP:20260425T034555
CREATED:20250402T112726Z
LAST-MODIFIED:20250402T112726Z
UID:13020-1745145000-1745145000@stjohnsainsdale.org.uk
SUMMARY:Holy Communion Service
DESCRIPTION:Easter – CW
URL:https://stjohnsainsdale.org.uk/event/holy-communion-service-59/
LOCATION:St John’s Church\, Liverpool Road\, Southport\, PR8 3NG\, United Kingdom
CATEGORIES:Church Events,Service
END:VEVENT
BEGIN:VEVENT
DTSTART;TZID=Europe/London:20250420T083000
DTEND;TZID=Europe/London:20250420T083000
DTSTAMP:20260425T034555
CREATED:20250402T112610Z
LAST-MODIFIED:20250402T112610Z
UID:13018-1745137800-1745137800@stjohnsainsdale.org.uk
SUMMARY:Holy Communion Service
DESCRIPTION:Easter – BCP
URL:https://stjohnsainsdale.org.uk/event/holy-communion-service-58/
LOCATION:St John’s Church\, Liverpool Road\, Southport\, PR8 3NG\, United Kingdom
CATEGORIES:Church Events,Service
END:VEVENT
BEGIN:VEVENT
DTSTART;TZID=Europe/London:20250418T140000
DTEND;TZID=Europe/London:20250418T150000
DTSTAMP:20260425T034555
CREATED:20250402T111711Z
LAST-MODIFIED:20250402T111711Z
UID:13013-1744984800-1744988400@stjohnsainsdale.org.uk
SUMMARY:An Hour Before the Cross
DESCRIPTION:Meditative Service
URL:https://stjohnsainsdale.org.uk/event/an-hour-before-the-cross/
LOCATION:St John’s Church\, Liverpool Road\, Southport\, PR8 3NG\, United Kingdom
CATEGORIES:Church Events,Service
END:VEVENT
BEGIN:VEVENT
DTSTART;TZID=Europe/London:20250418T103000
DTEND;TZID=Europe/London:20250418T113000
DTSTAMP:20260425T034555
CREATED:20250402T111517Z
LAST-MODIFIED:20250402T111517Z
UID:13011-1744972200-1744975800@stjohnsainsdale.org.uk
SUMMARY:Good Friday Experience
DESCRIPTION:Family Service with Crafts & Refreshments
URL:https://stjohnsainsdale.org.uk/event/good-friday-experience/
LOCATION:St John’s Church\, Liverpool Road\, Southport\, PR8 3NG\, United Kingdom
CATEGORIES:Church Events,Service
END:VEVENT
BEGIN:VEVENT
DTSTART;TZID=Europe/London:20250417T180000
DTEND;TZID=Europe/London:20250417T180000
DTSTAMP:20260425T034555
CREATED:20250402T111221Z
LAST-MODIFIED:20250402T111221Z
UID:13009-1744912800-1744912800@stjohnsainsdale.org.uk
SUMMARY:Food\, Foot & Handwashing
DESCRIPTION:Service – with Holy Communion at 7pm
URL:https://stjohnsainsdale.org.uk/event/food-foot-handwashing/
LOCATION:St John’s Church\, Liverpool Road\, Southport\, PR8 3NG\, United Kingdom
CATEGORIES:Church Events,Service
END:VEVENT
BEGIN:VEVENT
DTSTART;TZID=Europe/London:20250417T103000
DTEND;TZID=Europe/London:20250417T103000
DTSTAMP:20260425T034555
CREATED:20250402T110826Z
LAST-MODIFIED:20250402T110826Z
UID:13007-1744885800-1744885800@stjohnsainsdale.org.uk
SUMMARY:Holy Communion Service
DESCRIPTION:BCP
URL:https://stjohnsainsdale.org.uk/event/holy-communion-service-57/
LOCATION:St John’s Church\, Liverpool Road\, Southport\, PR8 3NG\, United Kingdom
CATEGORIES:Church Events,Service
END:VEVENT
BEGIN:VEVENT
DTSTART;TZID=Europe/London:20250416T190000
DTEND;TZID=Europe/London:20250416T190000
DTSTAMP:20260425T034555
CREATED:20250402T110658Z
LAST-MODIFIED:20250402T110658Z
UID:13005-1744830000-1744830000@stjohnsainsdale.org.uk
SUMMARY:Compline
DESCRIPTION:
URL:https://stjohnsainsdale.org.uk/event/compline-3/
LOCATION:St John’s Church\, Liverpool Road\, Southport\, PR8 3NG\, United Kingdom
CATEGORIES:Church Events,Service
END:VEVENT
BEGIN:VEVENT
DTSTART;TZID=Europe/London:20250415T190000
DTEND;TZID=Europe/London:20250415T190000
DTSTAMP:20260425T034555
CREATED:20250402T105847Z
LAST-MODIFIED:20250402T105847Z
UID:12999-1744743600-1744743600@stjohnsainsdale.org.uk
SUMMARY:Compline
DESCRIPTION:
URL:https://stjohnsainsdale.org.uk/event/compline-2/
LOCATION:St John’s Church\, Liverpool Road\, Southport\, PR8 3NG\, United Kingdom
CATEGORIES:Church Events,Service
END:VEVENT
BEGIN:VEVENT
DTSTART;TZID=Europe/London:20250414T190000
DTEND;TZID=Europe/London:20250414T190000
DTSTAMP:20260425T034555
CREATED:20250402T105439Z
LAST-MODIFIED:20250402T105439Z
UID:12995-1744657200-1744657200@stjohnsainsdale.org.uk
SUMMARY:Compline
DESCRIPTION:
URL:https://stjohnsainsdale.org.uk/event/compline/
LOCATION:St John’s Church\, Liverpool Road\, Southport\, PR8 3NG\, United Kingdom
CATEGORIES:Church Events,Service
END:VEVENT
BEGIN:VEVENT
DTSTART;TZID=Europe/London:20250413T103000
DTEND;TZID=Europe/London:20250413T103000
DTSTAMP:20260425T034555
CREATED:20250402T104950Z
LAST-MODIFIED:20250402T104950Z
UID:12991-1744540200-1744540200@stjohnsainsdale.org.uk
SUMMARY:Holy Communion Service
DESCRIPTION:Palm Sunday – CW
URL:https://stjohnsainsdale.org.uk/event/holy-communion-service-56/
LOCATION:St John’s Church\, Liverpool Road\, Southport\, PR8 3NG\, United Kingdom
CATEGORIES:Church Events,Service
END:VEVENT
BEGIN:VEVENT
DTSTART;TZID=Europe/London:20250413T083000
DTEND;TZID=Europe/London:20250413T083000
DTSTAMP:20260425T034555
CREATED:20250402T104827Z
LAST-MODIFIED:20250402T104827Z
UID:12989-1744533000-1744533000@stjohnsainsdale.org.uk
SUMMARY:Holy Communion Service
DESCRIPTION:Palm Sunday – BCP
URL:https://stjohnsainsdale.org.uk/event/holy-communion-service-55/
LOCATION:St John’s Church\, Liverpool Road\, Southport\, PR8 3NG\, United Kingdom
CATEGORIES:Church Events,Service
END:VEVENT
BEGIN:VEVENT
DTSTART;TZID=Europe/London:20250410T103000
DTEND;TZID=Europe/London:20250410T103000
DTSTAMP:20260425T034555
CREATED:20250402T102643Z
LAST-MODIFIED:20250402T102643Z
UID:12987-1744281000-1744281000@stjohnsainsdale.org.uk
SUMMARY:Holy Communion Service
DESCRIPTION:BCP
URL:https://stjohnsainsdale.org.uk/event/holy-communion-service-54/
LOCATION:St John’s Church\, Liverpool Road\, Southport\, PR8 3NG\, United Kingdom
CATEGORIES:Church Events,Service
END:VEVENT
BEGIN:VEVENT
DTSTART;TZID=Europe/London:20250406T103000
DTEND;TZID=Europe/London:20250406T223000
DTSTAMP:20260425T034555
CREATED:20250402T100605Z
LAST-MODIFIED:20250402T100605Z
UID:12977-1743935400-1743978600@stjohnsainsdale.org.uk
SUMMARY:Praise & Worship
DESCRIPTION:Lent 5
URL:https://stjohnsainsdale.org.uk/event/praise-worship-3/
LOCATION:St John’s Church\, Liverpool Road\, Southport\, PR8 3NG\, United Kingdom
CATEGORIES:Church Events,Service
END:VEVENT
BEGIN:VEVENT
DTSTART;TZID=Europe/London:20250406T083000
DTEND;TZID=Europe/London:20250406T083000
DTSTAMP:20260425T034555
CREATED:20250402T100325Z
LAST-MODIFIED:20250402T100325Z
UID:12975-1743928200-1743928200@stjohnsainsdale.org.uk
SUMMARY:Holy Communion Service
DESCRIPTION:Lent 5 – BCP
URL:https://stjohnsainsdale.org.uk/event/holy-communion-service-53/
LOCATION:St John’s Church\, Liverpool Road\, Southport\, PR8 3NG\, United Kingdom
CATEGORIES:Church Events,Service
END:VEVENT
BEGIN:VEVENT
DTSTART;TZID=Europe/London:20250403T103000
DTEND;TZID=Europe/London:20250403T103000
DTSTAMP:20260425T034555
CREATED:20250402T100057Z
LAST-MODIFIED:20250402T100057Z
UID:12973-1743676200-1743676200@stjohnsainsdale.org.uk
SUMMARY:Holy Communion Service
DESCRIPTION:BCP
URL:https://stjohnsainsdale.org.uk/event/holy-communion-service-44/
LOCATION:St John’s Church\, Liverpool Road\, Southport\, PR8 3NG\, United Kingdom
CATEGORIES:Church Events,Service
END:VEVENT
BEGIN:VEVENT
DTSTART;TZID=Europe/London:20250330T103000
DTEND;TZID=Europe/London:20250330T103000
DTSTAMP:20260425T034555
CREATED:20250226T102725Z
LAST-MODIFIED:20250326T151316Z
UID:12968-1743330600-1743330600@stjohnsainsdale.org.uk
SUMMARY:Mothering Sunday Service
DESCRIPTION:Lent 4 \nThere is NO 8:30am Service
URL:https://stjohnsainsdale.org.uk/event/mothering-sunday-service/
LOCATION:St John’s Church\, Liverpool Road\, Southport\, PR8 3NG\, United Kingdom
CATEGORIES:Church Events,Service
END:VEVENT
BEGIN:VEVENT
DTSTART;TZID=Europe/London:20250327T103000
DTEND;TZID=Europe/London:20250327T103000
DTSTAMP:20260425T034555
CREATED:20250226T102425Z
LAST-MODIFIED:20250226T102425Z
UID:12964-1743071400-1743071400@stjohnsainsdale.org.uk
SUMMARY:Holy Communion Service
DESCRIPTION:BCP
URL:https://stjohnsainsdale.org.uk/event/holy-communion-service-52/
LOCATION:St John’s Church\, Liverpool Road\, Southport\, PR8 3NG\, United Kingdom
CATEGORIES:Church Events,Service
END:VEVENT
BEGIN:VEVENT
DTSTART;TZID=Europe/London:20250323T103000
DTEND;TZID=Europe/London:20250323T103000
DTSTAMP:20260425T034555
CREATED:20250226T101622Z
LAST-MODIFIED:20250226T101622Z
UID:12952-1742725800-1742725800@stjohnsainsdale.org.uk
SUMMARY:Holy Communion Service
DESCRIPTION:Lent 3 – CW
URL:https://stjohnsainsdale.org.uk/event/holy-communion-service-51/
LOCATION:St John’s Church\, Liverpool Road\, Southport\, PR8 3NG\, United Kingdom
CATEGORIES:Church Events,Service
END:VEVENT
BEGIN:VEVENT
DTSTART;TZID=Europe/London:20250323T083000
DTEND;TZID=Europe/London:20250323T083000
DTSTAMP:20260425T034555
CREATED:20250226T101513Z
LAST-MODIFIED:20250226T101513Z
UID:12950-1742718600-1742718600@stjohnsainsdale.org.uk
SUMMARY:Holy Communion Service
DESCRIPTION:Lent 3 – BCP
URL:https://stjohnsainsdale.org.uk/event/holy-communion-service-50/
LOCATION:St John’s Church\, Liverpool Road\, Southport\, PR8 3NG\, United Kingdom
CATEGORIES:Church Events,Service
END:VEVENT
BEGIN:VEVENT
DTSTART;TZID=Europe/London:20250320T103000
DTEND;TZID=Europe/London:20250320T103000
DTSTAMP:20260425T034555
CREATED:20250226T101249Z
LAST-MODIFIED:20250226T101249Z
UID:12946-1742466600-1742466600@stjohnsainsdale.org.uk
SUMMARY:Holy Communion Service
DESCRIPTION:BCP
URL:https://stjohnsainsdale.org.uk/event/holy-communion-service-49/
LOCATION:St John’s Church\, Liverpool Road\, Southport\, PR8 3NG\, United Kingdom
CATEGORIES:Church Events,Service
END:VEVENT
BEGIN:VEVENT
DTSTART;TZID=Europe/London:20250316T103000
DTEND;TZID=Europe/London:20250316T103000
DTSTAMP:20260425T034555
CREATED:20250226T094808Z
LAST-MODIFIED:20250226T094808Z
UID:12932-1742121000-1742121000@stjohnsainsdale.org.uk
SUMMARY:Praise & Worship
DESCRIPTION:Lent 2
URL:https://stjohnsainsdale.org.uk/event/praise-worship-2/
LOCATION:St John’s Church\, Liverpool Road\, Southport\, PR8 3NG\, United Kingdom
CATEGORIES:Church Events,Service
END:VEVENT
BEGIN:VEVENT
DTSTART;TZID=Europe/London:20250316T083000
DTEND;TZID=Europe/London:20250316T083000
DTSTAMP:20260425T034555
CREATED:20250226T094654Z
LAST-MODIFIED:20250226T094654Z
UID:12930-1742113800-1742113800@stjohnsainsdale.org.uk
SUMMARY:Holy Communion Service
DESCRIPTION:Lent 2 – BCP
URL:https://stjohnsainsdale.org.uk/event/holy-communion-service-48/
LOCATION:St John’s Church\, Liverpool Road\, Southport\, PR8 3NG\, United Kingdom
CATEGORIES:Church Events,Service
END:VEVENT
BEGIN:VEVENT
DTSTART;TZID=Europe/London:20250313T103000
DTEND;TZID=Europe/London:20250313T103000
DTSTAMP:20260425T034555
CREATED:20250226T094425Z
LAST-MODIFIED:20250226T094425Z
UID:12926-1741861800-1741861800@stjohnsainsdale.org.uk
SUMMARY:Holy Communion Service
DESCRIPTION:BCP
URL:https://stjohnsainsdale.org.uk/event/holy-communion-service-47/
LOCATION:St John’s Church\, Liverpool Road\, Southport\, PR8 3NG\, United Kingdom
CATEGORIES:Church Events,Service
END:VEVENT
BEGIN:VEVENT
DTSTART;TZID=Europe/London:20250309T103000
DTEND;TZID=Europe/London:20250309T103000
DTSTAMP:20260425T034555
CREATED:20250226T093354Z
LAST-MODIFIED:20250226T093354Z
UID:12912-1741516200-1741516200@stjohnsainsdale.org.uk
SUMMARY:Holy Communion Service
DESCRIPTION:Lent 1 – CW
URL:https://stjohnsainsdale.org.uk/event/holy-communion-service-46/
LOCATION:St John’s Church\, Liverpool Road\, Southport\, PR8 3NG\, United Kingdom
CATEGORIES:Church Events,Service
END:VEVENT
BEGIN:VEVENT
DTSTART;TZID=Europe/London:20250309T083000
DTEND;TZID=Europe/London:20250309T083000
DTSTAMP:20260425T034555
CREATED:20250226T093237Z
LAST-MODIFIED:20250226T093237Z
UID:12910-1741509000-1741509000@stjohnsainsdale.org.uk
SUMMARY:Holy Communion Service
DESCRIPTION:Lent 1 – BCP
URL:https://stjohnsainsdale.org.uk/event/holy-communion-service-45/
LOCATION:St John’s Church\, Liverpool Road\, Southport\, PR8 3NG\, United Kingdom
CATEGORIES:Church Events,Service
END:VEVENT
BEGIN:VEVENT
DTSTART;TZID=Europe/London:20250305T103000
DTEND;TZID=Europe/London:20250305T103000
DTSTAMP:20260425T034555
CREATED:20250226T091841Z
LAST-MODIFIED:20250226T091841Z
UID:12899-1741170600-1741170600@stjohnsainsdale.org.uk
SUMMARY:Holy Communion
DESCRIPTION:Ash Wednesday
URL:https://stjohnsainsdale.org.uk/event/holy-communion/
LOCATION:St John’s Church\, Liverpool Road\, Southport\, PR8 3NG\, United Kingdom
CATEGORIES:Church Events,Service
END:VEVENT
END:VCALENDAR