BEGIN:VCALENDAR
VERSION:2.0
PRODID:-//St John&#039;s Church, Ainsdale - ECPv6.15.20//NONSGML v1.0//EN
CALSCALE:GREGORIAN
METHOD:PUBLISH
X-WR-CALNAME:St John&#039;s Church, Ainsdale
X-ORIGINAL-URL:https://stjohnsainsdale.org.uk
X-WR-CALDESC:Events for St John&#039;s Church, Ainsdale
REFRESH-INTERVAL;VALUE=DURATION:PT1H
X-Robots-Tag:noindex
X-PUBLISHED-TTL:PT1H
BEGIN:VTIMEZONE
TZID:Europe/London
BEGIN:DAYLIGHT
TZOFFSETFROM:+0000
TZOFFSETTO:+0100
TZNAME:BST
DTSTART:20220327T010000
END:DAYLIGHT
BEGIN:STANDARD
TZOFFSETFROM:+0100
TZOFFSETTO:+0000
TZNAME:GMT
DTSTART:20221030T010000
END:STANDARD
BEGIN:DAYLIGHT
TZOFFSETFROM:+0000
TZOFFSETTO:+0100
TZNAME:BST
DTSTART:20230326T010000
END:DAYLIGHT
BEGIN:STANDARD
TZOFFSETFROM:+0100
TZOFFSETTO:+0000
TZNAME:GMT
DTSTART:20231029T010000
END:STANDARD
BEGIN:DAYLIGHT
TZOFFSETFROM:+0000
TZOFFSETTO:+0100
TZNAME:BST
DTSTART:20240331T010000
END:DAYLIGHT
BEGIN:STANDARD
TZOFFSETFROM:+0100
TZOFFSETTO:+0000
TZNAME:GMT
DTSTART:20241027T010000
END:STANDARD
BEGIN:DAYLIGHT
TZOFFSETFROM:+0000
TZOFFSETTO:+0100
TZNAME:BST
DTSTART:20250330T010000
END:DAYLIGHT
BEGIN:STANDARD
TZOFFSETFROM:+0100
TZOFFSETTO:+0000
TZNAME:GMT
DTSTART:20251026T010000
END:STANDARD
END:VTIMEZONE
BEGIN:VEVENT
DTSTART;TZID=Europe/London:20241110T103000
DTEND;TZID=Europe/London:20241110T103000
DTSTAMP:20260425T125029
CREATED:20241028T105421Z
LAST-MODIFIED:20241028T105421Z
UID:12593-1731234600-1731234600@stjohnsainsdale.org.uk
SUMMARY:Remembrance Sunday
DESCRIPTION:The Service is held on the Village Green
URL:https://stjohnsainsdale.org.uk/event/remembrance-sunday/
LOCATION:Ainsdale Village Green
CATEGORIES:Service
END:VEVENT
BEGIN:VEVENT
DTSTART;TZID=Europe/London:20241110T083000
DTEND;TZID=Europe/London:20241110T083000
DTSTAMP:20260425T125029
CREATED:20241028T105159Z
LAST-MODIFIED:20241028T105159Z
UID:12591-1731227400-1731227400@stjohnsainsdale.org.uk
SUMMARY:Holy Communion Service
DESCRIPTION:3 Before Advent – BCP
URL:https://stjohnsainsdale.org.uk/event/holy-communion-service-11/
LOCATION:St John’s Church\, Liverpool Road\, Southport\, PR8 3NG\, United Kingdom
CATEGORIES:Church Events,Service
END:VEVENT
BEGIN:VEVENT
DTSTART;TZID=Europe/London:20241107T103000
DTEND;TZID=Europe/London:20241107T103000
DTSTAMP:20260425T125029
CREATED:20241028T104858Z
LAST-MODIFIED:20241028T104858Z
UID:12587-1730975400-1730975400@stjohnsainsdale.org.uk
SUMMARY:Holy Communion Service
DESCRIPTION:
URL:https://stjohnsainsdale.org.uk/event/holy-communion-service-10/
LOCATION:St John’s Church\, Liverpool Road\, Southport\, PR8 3NG\, United Kingdom
CATEGORIES:Church Events,Service
END:VEVENT
BEGIN:VEVENT
DTSTART;TZID=Europe/London:20241103T103000
DTEND;TZID=Europe/London:20241103T103000
DTSTAMP:20260425T125029
CREATED:20241028T103020Z
LAST-MODIFIED:20241028T103020Z
UID:12573-1730629800-1730629800@stjohnsainsdale.org.uk
SUMMARY:Praise & Worship Service
DESCRIPTION:4 Before Advent
URL:https://stjohnsainsdale.org.uk/event/praise-worship-service/
LOCATION:St John’s Church\, Liverpool Road\, Southport\, PR8 3NG\, United Kingdom
CATEGORIES:Church Events,Service
END:VEVENT
BEGIN:VEVENT
DTSTART;TZID=Europe/London:20241103T083000
DTEND;TZID=Europe/London:20241103T083000
DTSTAMP:20260425T125029
CREATED:20241028T102840Z
LAST-MODIFIED:20241028T102840Z
UID:12571-1730622600-1730622600@stjohnsainsdale.org.uk
SUMMARY:Holy Communion Service
DESCRIPTION:4 Before Advent – BCP
URL:https://stjohnsainsdale.org.uk/event/holy-communion-service-9/
LOCATION:St John’s Church\, Liverpool Road\, Southport\, PR8 3NG\, United Kingdom
CATEGORIES:Church Events,Service
END:VEVENT
BEGIN:VEVENT
DTSTART;TZID=Europe/London:20241031T103000
DTEND;TZID=Europe/London:20241031T103000
DTSTAMP:20260425T125029
CREATED:20241010T160714Z
LAST-MODIFIED:20241010T160714Z
UID:12555-1730370600-1730370600@stjohnsainsdale.org.uk
SUMMARY:Holy Communion Service
DESCRIPTION:BCP
URL:https://stjohnsainsdale.org.uk/event/holy-communion-service-8/
LOCATION:St John’s Church\, Liverpool Road\, Southport\, PR8 3NG\, United Kingdom
CATEGORIES:Church Events,Service
END:VEVENT
BEGIN:VEVENT
DTSTART;TZID=Europe/London:20241027T183000
DTEND;TZID=Europe/London:20241027T183000
DTSTAMP:20260425T125029
CREATED:20241010T160327Z
LAST-MODIFIED:20241010T160327Z
UID:12549-1730053800-1730053800@stjohnsainsdale.org.uk
SUMMARY:Embracing Hope Service
DESCRIPTION:Bible Sunday
URL:https://stjohnsainsdale.org.uk/event/embracing-hope-service/
LOCATION:St John’s Church\, Liverpool Road\, Southport\, PR8 3NG\, United Kingdom
CATEGORIES:Church Events,Service
END:VEVENT
BEGIN:VEVENT
DTSTART;TZID=Europe/London:20241027T103000
DTEND;TZID=Europe/London:20241027T103000
DTSTAMP:20260425T125029
CREATED:20241010T160143Z
LAST-MODIFIED:20241010T160143Z
UID:12547-1730025000-1730025000@stjohnsainsdale.org.uk
SUMMARY:Holy Communion Service
DESCRIPTION:Trinity 22 – CW
URL:https://stjohnsainsdale.org.uk/event/holy-communion-service-7/
LOCATION:St John’s Church\, Liverpool Road\, Southport\, PR8 3NG\, United Kingdom
CATEGORIES:Church Events,Service
END:VEVENT
BEGIN:VEVENT
DTSTART;TZID=Europe/London:20241027T083000
DTEND;TZID=Europe/London:20241027T083000
DTSTAMP:20260425T125029
CREATED:20241010T160023Z
LAST-MODIFIED:20241010T160023Z
UID:12545-1730017800-1730017800@stjohnsainsdale.org.uk
SUMMARY:Holy Communion Service
DESCRIPTION:Trinity 22 – BCP
URL:https://stjohnsainsdale.org.uk/event/holy-communion-service-6/
LOCATION:St John’s Church\, Liverpool Road\, Southport\, PR8 3NG\, United Kingdom
CATEGORIES:Church Events,Service
END:VEVENT
BEGIN:VEVENT
DTSTART;TZID=Europe/London:20241024T103000
DTEND;TZID=Europe/London:20241024T103000
DTSTAMP:20260425T125029
CREATED:20241010T155733Z
LAST-MODIFIED:20241010T155733Z
UID:12541-1729765800-1729765800@stjohnsainsdale.org.uk
SUMMARY:Holy Communion Service
DESCRIPTION:BCP
URL:https://stjohnsainsdale.org.uk/event/holy-communion-service-5/
LOCATION:St John’s Church\, Liverpool Road\, Southport\, PR8 3NG\, United Kingdom
CATEGORIES:Church Events,Service
END:VEVENT
BEGIN:VEVENT
DTSTART;TZID=Europe/London:20241020T103000
DTEND;TZID=Europe/London:20241020T103000
DTSTAMP:20260425T125029
CREATED:20241010T154726Z
LAST-MODIFIED:20241010T160755Z
UID:12527-1729420200-1729420200@stjohnsainsdale.org.uk
SUMMARY:Harvest Parade Service
DESCRIPTION:
URL:https://stjohnsainsdale.org.uk/event/harvest-parade-service/
LOCATION:St John’s Church\, Liverpool Road\, Southport\, PR8 3NG\, United Kingdom
CATEGORIES:Church Events,Service,Uniformed Organisations
END:VEVENT
BEGIN:VEVENT
DTSTART;TZID=Europe/London:20241020T083000
DTEND;TZID=Europe/London:20241020T083000
DTSTAMP:20260425T125029
CREATED:20241010T154514Z
LAST-MODIFIED:20241010T154514Z
UID:12525-1729413000-1729413000@stjohnsainsdale.org.uk
SUMMARY:Holy Communion Service
DESCRIPTION:Trinity 21 – BCP
URL:https://stjohnsainsdale.org.uk/event/holy-communion-service-4/
LOCATION:St John’s Church\, Liverpool Road\, Southport\, PR8 3NG\, United Kingdom
CATEGORIES:Church Events,Service
END:VEVENT
BEGIN:VEVENT
DTSTART;TZID=Europe/London:20241017T103000
DTEND;TZID=Europe/London:20241017T103000
DTSTAMP:20260425T125029
CREATED:20241010T154233Z
LAST-MODIFIED:20241010T154233Z
UID:12521-1729161000-1729161000@stjohnsainsdale.org.uk
SUMMARY:Holy Communion Service
DESCRIPTION:BCP
URL:https://stjohnsainsdale.org.uk/event/holy-communion-service-3/
LOCATION:St John’s Church\, Liverpool Road\, Southport\, PR8 3NG\, United Kingdom
CATEGORIES:Church Events,Service
END:VEVENT
BEGIN:VEVENT
DTSTART;TZID=Europe/London:20241013T103000
DTEND;TZID=Europe/London:20241013T103000
DTSTAMP:20260425T125029
CREATED:20241010T153136Z
LAST-MODIFIED:20241010T153136Z
UID:12507-1728815400-1728815400@stjohnsainsdale.org.uk
SUMMARY:Holy Communion Service
DESCRIPTION:Trinity 20 – CW
URL:https://stjohnsainsdale.org.uk/event/holy-communion-service-2/
LOCATION:St John’s Church\, Liverpool Road\, Southport\, PR8 3NG\, United Kingdom
CATEGORIES:Church Events,Service
END:VEVENT
BEGIN:VEVENT
DTSTART;TZID=Europe/London:20241013T083000
DTEND;TZID=Europe/London:20241013T083000
DTSTAMP:20260425T125029
CREATED:20241010T152956Z
LAST-MODIFIED:20241010T152956Z
UID:12505-1728808200-1728808200@stjohnsainsdale.org.uk
SUMMARY:Holy Communion Service
DESCRIPTION:Trinity 20 – BCP
URL:https://stjohnsainsdale.org.uk/event/holy-communion-service/
LOCATION:St John’s Church\, Liverpool Road\, Southport\, PR8 3NG\, United Kingdom
CATEGORIES:Church Events,Service
END:VEVENT
BEGIN:VEVENT
DTSTART;TZID=Europe/London:20230618T103000
DTEND;TZID=Europe/London:20230618T113000
DTSTAMP:20260425T125029
CREATED:20230524T054411Z
LAST-MODIFIED:20230524T054411Z
UID:323-1687084200-1687087800@stjohnsainsdale.org.uk
SUMMARY:Sunday Service In Church - Parade - Livestreamed
DESCRIPTION:
URL:https://stjohnsainsdale.org.uk/event/sunday-service-in-church-parade-livestreamed/
LOCATION:St John’s Church\, Liverpool Road\, Southport\, PR8 3NG\, United Kingdom
CATEGORIES:Church Events,Service
END:VEVENT
BEGIN:VEVENT
DTSTART;TZID=Europe/London:20230618T083000
DTEND;TZID=Europe/London:20230618T093000
DTSTAMP:20260425T125029
CREATED:20230524T054220Z
LAST-MODIFIED:20230524T054220Z
UID:321-1687077000-1687080600@stjohnsainsdale.org.uk
SUMMARY:Sunday Service In Church - Shortened Said Service with Holy Communion
DESCRIPTION:
URL:https://stjohnsainsdale.org.uk/event/sunday-service-in-church-shortened-said-service-with-holy-communion-3/
LOCATION:St John’s Church\, Liverpool Road\, Southport\, PR8 3NG\, United Kingdom
CATEGORIES:Church Events,Service
END:VEVENT
BEGIN:VEVENT
DTSTART;TZID=Europe/London:20230611T103000
DTEND;TZID=Europe/London:20230611T113000
DTSTAMP:20260425T125029
CREATED:20230524T052224Z
LAST-MODIFIED:20230524T052224Z
UID:304-1686479400-1686483000@stjohnsainsdale.org.uk
SUMMARY:Sunday Service In Church - Holy Communion - Livestreamed
DESCRIPTION:
URL:https://stjohnsainsdale.org.uk/event/sunday-service-in-church-holy-communion-livestreamed/
LOCATION:St John’s Church\, Liverpool Road\, Southport\, PR8 3NG\, United Kingdom
CATEGORIES:Church Events,Service
END:VEVENT
BEGIN:VEVENT
DTSTART;TZID=Europe/London:20230611T083000
DTEND;TZID=Europe/London:20230611T083000
DTSTAMP:20260425T125029
CREATED:20230524T052024Z
LAST-MODIFIED:20230524T052024Z
UID:302-1686472200-1686472200@stjohnsainsdale.org.uk
SUMMARY:Sunday Service In Church - Shortened Said Service with Holy Communion
DESCRIPTION:
URL:https://stjohnsainsdale.org.uk/event/sunday-service-in-church-shortened-said-service-with-holy-communion-2/
LOCATION:St John’s Church\, Liverpool Road\, Southport\, PR8 3NG\, United Kingdom
CATEGORIES:Church Events,Service
END:VEVENT
BEGIN:VEVENT
DTSTART;TZID=Europe/London:20230608T103000
DTEND;TZID=Europe/London:20230608T113000
DTSTAMP:20260425T125029
CREATED:20230524T051508Z
LAST-MODIFIED:20230524T051508Z
UID:298-1686220200-1686223800@stjohnsainsdale.org.uk
SUMMARY:Thursday Service In Church - Shortened Said Service With Holy Communion
DESCRIPTION:
URL:https://stjohnsainsdale.org.uk/event/thursday-service-in-church-shortened-said-service-with-holy-communion-2/
CATEGORIES:Church Events,Service
END:VEVENT
BEGIN:VEVENT
DTSTART;TZID=Europe/London:20230604T103000
DTEND;TZID=Europe/London:20230604T113000
DTSTAMP:20260425T125029
CREATED:20230522T180716Z
LAST-MODIFIED:20230522T180716Z
UID:279-1685874600-1685878200@stjohnsainsdale.org.uk
SUMMARY:Sunday Service In Church - P&W - Livestreamed
DESCRIPTION:
URL:https://stjohnsainsdale.org.uk/event/sunday-service-in-church-pw-livestreamed/
LOCATION:St John’s Church\, Liverpool Road\, Southport\, PR8 3NG\, United Kingdom
CATEGORIES:Church Events,Service
END:VEVENT
BEGIN:VEVENT
DTSTART;TZID=Europe/London:20230604T083000
DTEND;TZID=Europe/London:20230604T093000
DTSTAMP:20260425T125029
CREATED:20230522T180417Z
LAST-MODIFIED:20230522T180417Z
UID:277-1685867400-1685871000@stjohnsainsdale.org.uk
SUMMARY:Sunday Service In Church - Shortened Said Service with Holy Communion
DESCRIPTION:
URL:https://stjohnsainsdale.org.uk/event/sunday-service-in-church-shortened-said-service-with-holy-communion/
LOCATION:St John’s Church\, Liverpool Road\, Southport\, PR8 3NG\, United Kingdom
CATEGORIES:Church Events,Service
END:VEVENT
BEGIN:VEVENT
DTSTART;TZID=Europe/London:20230601T103000
DTEND;TZID=Europe/London:20230601T113000
DTSTAMP:20260425T125029
CREATED:20230522T180206Z
LAST-MODIFIED:20230522T180228Z
UID:274-1685615400-1685619000@stjohnsainsdale.org.uk
SUMMARY:Thursday Service In Church - Shortened Said Service With Holy Communion
DESCRIPTION:
URL:https://stjohnsainsdale.org.uk/event/thursday-service-in-church-shortened-said-service-with-holy-communion/
LOCATION:St John’s Church\, Liverpool Road\, Southport\, PR8 3NG\, United Kingdom
CATEGORIES:Church Events,Service
END:VEVENT
BEGIN:VEVENT
DTSTART;TZID=Europe/London:20230518T190000
DTEND;TZID=Europe/London:20230518T200000
DTSTAMP:20260425T125029
CREATED:20230514T192032Z
LAST-MODIFIED:20230514T195417Z
UID:200-1684436400-1684440000@stjohnsainsdale.org.uk
SUMMARY:Ascension Day Service
DESCRIPTION:
URL:https://stjohnsainsdale.org.uk/event/ascension-day-service/
LOCATION:St John’s Church\, Liverpool Road\, Southport\, PR8 3NG\, United Kingdom
CATEGORIES:Service
END:VEVENT
END:VCALENDAR