BEGIN:VCALENDAR
VERSION:2.0
PRODID:-//St John&#039;s Church, Ainsdale - ECPv6.15.20//NONSGML v1.0//EN
CALSCALE:GREGORIAN
METHOD:PUBLISH
X-WR-CALNAME:St John&#039;s Church, Ainsdale
X-ORIGINAL-URL:https://stjohnsainsdale.org.uk
X-WR-CALDESC:Events for St John&#039;s Church, Ainsdale
REFRESH-INTERVAL;VALUE=DURATION:PT1H
X-Robots-Tag:noindex
X-PUBLISHED-TTL:PT1H
BEGIN:VTIMEZONE
TZID:Europe/London
BEGIN:DAYLIGHT
TZOFFSETFROM:+0000
TZOFFSETTO:+0100
TZNAME:BST
DTSTART:20250330T010000
END:DAYLIGHT
BEGIN:STANDARD
TZOFFSETFROM:+0100
TZOFFSETTO:+0000
TZNAME:GMT
DTSTART:20251026T010000
END:STANDARD
BEGIN:DAYLIGHT
TZOFFSETFROM:+0000
TZOFFSETTO:+0100
TZNAME:BST
DTSTART:20260329T010000
END:DAYLIGHT
BEGIN:STANDARD
TZOFFSETFROM:+0100
TZOFFSETTO:+0000
TZNAME:GMT
DTSTART:20261025T010000
END:STANDARD
BEGIN:DAYLIGHT
TZOFFSETFROM:+0000
TZOFFSETTO:+0100
TZNAME:BST
DTSTART:20270328T010000
END:DAYLIGHT
BEGIN:STANDARD
TZOFFSETFROM:+0100
TZOFFSETTO:+0000
TZNAME:GMT
DTSTART:20271031T010000
END:STANDARD
END:VTIMEZONE
BEGIN:VEVENT
DTSTART;TZID=Europe/London:20260201T083000
DTEND;TZID=Europe/London:20260201T083000
DTSTAMP:20260424T171401
CREATED:20260122T114430Z
LAST-MODIFIED:20260122T114430Z
UID:13705-1769934600-1769934600@stjohnsainsdale.org.uk
SUMMARY:Holy Communion Service
DESCRIPTION:EPIPHANY 4 – BCP
URL:https://stjohnsainsdale.org.uk/event/holy-communion-service-128/
LOCATION:St John’s Church\, Liverpool Road\, Southport\, PR8 3NG\, United Kingdom
CATEGORIES:Church Events,Service
END:VEVENT
BEGIN:VEVENT
DTSTART;TZID=Europe/London:20260201T103000
DTEND;TZID=Europe/London:20260201T103000
DTSTAMP:20260424T171401
CREATED:20260122T114539Z
LAST-MODIFIED:20260122T114539Z
UID:13707-1769941800-1769941800@stjohnsainsdale.org.uk
SUMMARY:Praise & Worship
DESCRIPTION:
URL:https://stjohnsainsdale.org.uk/event/praise-worship-12/
LOCATION:St John’s Church\, Liverpool Road\, Southport\, PR8 3NG\, United Kingdom
CATEGORIES:Church Events,Service
END:VEVENT
BEGIN:VEVENT
DTSTART;TZID=Europe/London:20260205T103000
DTEND;TZID=Europe/London:20260205T103000
DTSTAMP:20260424T171401
CREATED:20260122T115834Z
LAST-MODIFIED:20260122T115834Z
UID:13719-1770287400-1770287400@stjohnsainsdale.org.uk
SUMMARY:Holy Communion Service
DESCRIPTION:BCP
URL:https://stjohnsainsdale.org.uk/event/holy-communion-service-129/
LOCATION:St John’s Church\, Liverpool Road\, Southport\, PR8 3NG\, United Kingdom
CATEGORIES:Church Events,Service
END:VEVENT
BEGIN:VEVENT
DTSTART;TZID=Europe/London:20260208T083000
DTEND;TZID=Europe/London:20260208T083000
DTSTAMP:20260424T171401
CREATED:20260122T121051Z
LAST-MODIFIED:20260122T121051Z
UID:13723-1770539400-1770539400@stjohnsainsdale.org.uk
SUMMARY:Holy Communion Service
DESCRIPTION:2 BEFORE LENT – BCP
URL:https://stjohnsainsdale.org.uk/event/holy-communion-service-130/
LOCATION:St John’s Church\, Liverpool Road\, Southport\, PR8 3NG\, United Kingdom
CATEGORIES:Church Events,Service
END:VEVENT
BEGIN:VEVENT
DTSTART;TZID=Europe/London:20260208T103000
DTEND;TZID=Europe/London:20260208T103000
DTSTAMP:20260424T171401
CREATED:20260122T121228Z
LAST-MODIFIED:20260122T121228Z
UID:13725-1770546600-1770546600@stjohnsainsdale.org.uk
SUMMARY:Holy Communion Service
DESCRIPTION:2 BEFORE LENT – CW
URL:https://stjohnsainsdale.org.uk/event/holy-communion-service-131/
LOCATION:St John’s Church\, Liverpool Road\, Southport\, PR8 3NG\, United Kingdom
CATEGORIES:Church Events,Service
END:VEVENT
BEGIN:VEVENT
DTSTART;TZID=Europe/London:20260212T103000
DTEND;TZID=Europe/London:20260212T103000
DTSTAMP:20260424T171401
CREATED:20260122T122946Z
LAST-MODIFIED:20260122T122946Z
UID:13742-1770892200-1770892200@stjohnsainsdale.org.uk
SUMMARY:Holy Communion Service
DESCRIPTION:BCP
URL:https://stjohnsainsdale.org.uk/event/holy-communion-service-132/
LOCATION:St John’s Church\, Liverpool Road\, Southport\, PR8 3NG\, United Kingdom
CATEGORIES:Church Events,Service
END:VEVENT
BEGIN:VEVENT
DTSTART;TZID=Europe/London:20260215T083000
DTEND;TZID=Europe/London:20260215T083000
DTSTAMP:20260424T171401
CREATED:20260122T123611Z
LAST-MODIFIED:20260122T123611Z
UID:13746-1771144200-1771144200@stjohnsainsdale.org.uk
SUMMARY:Holy Communion
DESCRIPTION:NEXT BEFORE LENT – BCP
URL:https://stjohnsainsdale.org.uk/event/holy-communion-2/
LOCATION:St John’s Church\, Liverpool Road\, Southport\, PR8 3NG\, United Kingdom
CATEGORIES:Church Events,Service
END:VEVENT
BEGIN:VEVENT
DTSTART;TZID=Europe/London:20260215T103000
DTEND;TZID=Europe/London:20260215T103000
DTSTAMP:20260424T171401
CREATED:20260122T123728Z
LAST-MODIFIED:20260122T123728Z
UID:13748-1771151400-1771151400@stjohnsainsdale.org.uk
SUMMARY:Praise & Worship
DESCRIPTION:
URL:https://stjohnsainsdale.org.uk/event/praise-worship-13/
LOCATION:St John’s Church\, Liverpool Road\, Southport\, PR8 3NG\, United Kingdom
CATEGORIES:Church Events,Service
END:VEVENT
BEGIN:VEVENT
DTSTART;TZID=Europe/London:20260218T103000
DTEND;TZID=Europe/London:20260218T103000
DTSTAMP:20260424T171401
CREATED:20260122T124120Z
LAST-MODIFIED:20260122T124120Z
UID:13752-1771410600-1771410600@stjohnsainsdale.org.uk
SUMMARY:Holy Communion Service
DESCRIPTION:Ash Wednesday
URL:https://stjohnsainsdale.org.uk/event/holy-communion-service-133/
LOCATION:St John’s Church\, Liverpool Road\, Southport\, PR8 3NG\, United Kingdom
CATEGORIES:Church Events,Service
END:VEVENT
BEGIN:VEVENT
DTSTART;TZID=Europe/London:20260222T083000
DTEND;TZID=Europe/London:20260222T083000
DTSTAMP:20260424T171401
CREATED:20260122T124304Z
LAST-MODIFIED:20260122T124304Z
UID:13754-1771749000-1771749000@stjohnsainsdale.org.uk
SUMMARY:Holy Communion Service
DESCRIPTION:LENT 1 – BCP
URL:https://stjohnsainsdale.org.uk/event/holy-communion-service-134/
LOCATION:St John’s Church\, Liverpool Road\, Southport\, PR8 3NG\, United Kingdom
CATEGORIES:Church Events,Service
END:VEVENT
BEGIN:VEVENT
DTSTART;TZID=Europe/London:20260222T103000
DTEND;TZID=Europe/London:20260222T103000
DTSTAMP:20260424T171401
CREATED:20260122T124513Z
LAST-MODIFIED:20260122T124513Z
UID:13756-1771756200-1771756200@stjohnsainsdale.org.uk
SUMMARY:Holy Communion Service
DESCRIPTION:LENT 1 – CW
URL:https://stjohnsainsdale.org.uk/event/holy-communion-service-135/
LOCATION:St John’s Church\, Liverpool Road\, Southport\, PR8 3NG\, United Kingdom
CATEGORIES:Church Events,Service
END:VEVENT
BEGIN:VEVENT
DTSTART;TZID=Europe/London:20260226T103000
DTEND;TZID=Europe/London:20260226T103000
DTSTAMP:20260424T171401
CREATED:20260122T125425Z
LAST-MODIFIED:20260122T125425Z
UID:13768-1772101800-1772101800@stjohnsainsdale.org.uk
SUMMARY:Holy Communion Service
DESCRIPTION:BCP
URL:https://stjohnsainsdale.org.uk/event/holy-communion-service-136/
LOCATION:St John’s Church\, Liverpool Road\, Southport\, PR8 3NG\, United Kingdom
CATEGORIES:Church Events,Service
END:VEVENT
BEGIN:VEVENT
DTSTART;TZID=Europe/London:20260301T083000
DTEND;TZID=Europe/London:20260301T083000
DTSTAMP:20260424T171401
CREATED:20260226T095150Z
LAST-MODIFIED:20260226T095150Z
UID:13775-1772353800-1772353800@stjohnsainsdale.org.uk
SUMMARY:Holy Communion Service
DESCRIPTION:Lent 2 – BCP
URL:https://stjohnsainsdale.org.uk/event/holy-communion-service-137/
LOCATION:St John’s Church\, Liverpool Road\, Southport\, PR8 3NG\, United Kingdom
CATEGORIES:Church Events,Service
END:VEVENT
BEGIN:VEVENT
DTSTART;TZID=Europe/London:20260301T103000
DTEND;TZID=Europe/London:20260301T103000
DTSTAMP:20260424T171401
CREATED:20260226T095320Z
LAST-MODIFIED:20260226T095320Z
UID:13777-1772361000-1772361000@stjohnsainsdale.org.uk
SUMMARY:Praise & Worship
DESCRIPTION:Lent 2
URL:https://stjohnsainsdale.org.uk/event/praise-worship-14/
LOCATION:St John’s Church\, Liverpool Road\, Southport\, PR8 3NG\, United Kingdom
CATEGORIES:Church Events,Service
END:VEVENT
BEGIN:VEVENT
DTSTART;TZID=Europe/London:20260305T103000
DTEND;TZID=Europe/London:20260305T103000
DTSTAMP:20260424T171401
CREATED:20260226T100350Z
LAST-MODIFIED:20260226T100350Z
UID:13791-1772706600-1772706600@stjohnsainsdale.org.uk
SUMMARY:Holy Communion Service
DESCRIPTION:BCP
URL:https://stjohnsainsdale.org.uk/event/holy-communion-service-138/
LOCATION:St John’s Church\, Liverpool Road\, Southport\, PR8 3NG\, United Kingdom
CATEGORIES:Church Events,Service
END:VEVENT
BEGIN:VEVENT
DTSTART;TZID=Europe/London:20260308T083000
DTEND;TZID=Europe/London:20260308T083000
DTSTAMP:20260424T171401
CREATED:20260226T100654Z
LAST-MODIFIED:20260226T100654Z
UID:13795-1772958600-1772958600@stjohnsainsdale.org.uk
SUMMARY:Holy Communion Service
DESCRIPTION:Lent 3 – BCP
URL:https://stjohnsainsdale.org.uk/event/holy-communion-service-139/
LOCATION:St John’s Church\, Liverpool Road\, Southport\, PR8 3NG\, United Kingdom
CATEGORIES:Church Events,Service
END:VEVENT
BEGIN:VEVENT
DTSTART;TZID=Europe/London:20260308T103000
DTEND;TZID=Europe/London:20260308T103000
DTSTAMP:20260424T171401
CREATED:20260226T100823Z
LAST-MODIFIED:20260226T100823Z
UID:13797-1772965800-1772965800@stjohnsainsdale.org.uk
SUMMARY:Holy Communion Service
DESCRIPTION:LENT 3 – CW
URL:https://stjohnsainsdale.org.uk/event/holy-communion-service-140/
LOCATION:St John’s Church\, Liverpool Road\, Southport\, PR8 3NG\, United Kingdom
CATEGORIES:Church Events,Service
END:VEVENT
BEGIN:VEVENT
DTSTART;TZID=Europe/London:20260312T103000
DTEND;TZID=Europe/London:20260312T103000
DTSTAMP:20260424T171401
CREATED:20260226T102029Z
LAST-MODIFIED:20260226T102029Z
UID:13811-1773311400-1773311400@stjohnsainsdale.org.uk
SUMMARY:Holy Communion Service
DESCRIPTION:BCP
URL:https://stjohnsainsdale.org.uk/event/holy-communion-service-141/
LOCATION:St John’s Church\, Liverpool Road\, Southport\, PR8 3NG\, United Kingdom
CATEGORIES:Church Events,Service
END:VEVENT
BEGIN:VEVENT
DTSTART;TZID=Europe/London:20260315T083000
DTEND;TZID=Europe/London:20260315T083000
DTSTAMP:20260424T171401
CREATED:20260226T102319Z
LAST-MODIFIED:20260226T102319Z
UID:13815-1773563400-1773563400@stjohnsainsdale.org.uk
SUMMARY:Holy Communion Serivce
DESCRIPTION:LENT 4 – BCP
URL:https://stjohnsainsdale.org.uk/event/holy-communion-serivce/
LOCATION:St John’s Church\, Liverpool Road\, Southport\, PR8 3NG\, United Kingdom
CATEGORIES:Church Events,Service
END:VEVENT
BEGIN:VEVENT
DTSTART;TZID=Europe/London:20260315T103000
DTEND;TZID=Europe/London:20260315T103000
DTSTAMP:20260424T171401
CREATED:20260226T102519Z
LAST-MODIFIED:20260226T102519Z
UID:13817-1773570600-1773570600@stjohnsainsdale.org.uk
SUMMARY:Mothering Sunday Parade Service
DESCRIPTION:Praise & Worship
URL:https://stjohnsainsdale.org.uk/event/mothering-sunday-parade-service/
LOCATION:St John’s Church\, Liverpool Road\, Southport\, PR8 3NG\, United Kingdom
CATEGORIES:Church Events,Service,Uniformed Organisations
END:VEVENT
BEGIN:VEVENT
DTSTART;TZID=Europe/London:20260319T103000
DTEND;TZID=Europe/London:20260319T103000
DTSTAMP:20260424T171401
CREATED:20260226T103442Z
LAST-MODIFIED:20260226T103442Z
UID:13829-1773916200-1773916200@stjohnsainsdale.org.uk
SUMMARY:Holy Communion Service
DESCRIPTION:
URL:https://stjohnsainsdale.org.uk/event/holy-communion-service-142/
LOCATION:St John’s Church\, Liverpool Road\, Southport\, PR8 3NG\, United Kingdom
CATEGORIES:Church Events,Service
END:VEVENT
BEGIN:VEVENT
DTSTART;TZID=Europe/London:20260322T083000
DTEND;TZID=Europe/London:20260322T083000
DTSTAMP:20260424T171401
CREATED:20260226T103755Z
LAST-MODIFIED:20260226T103755Z
UID:13833-1774168200-1774168200@stjohnsainsdale.org.uk
SUMMARY:Holy Communion Service
DESCRIPTION:LENT 5 – BCP
URL:https://stjohnsainsdale.org.uk/event/holy-communion-service-143/
LOCATION:St John’s Church\, Liverpool Road\, Southport\, PR8 3NG\, United Kingdom
CATEGORIES:Church Events,Service
END:VEVENT
BEGIN:VEVENT
DTSTART;TZID=Europe/London:20260322T103000
DTEND;TZID=Europe/London:20260322T103000
DTSTAMP:20260424T171401
CREATED:20260226T103931Z
LAST-MODIFIED:20260226T103931Z
UID:13835-1774175400-1774175400@stjohnsainsdale.org.uk
SUMMARY:Holy Communion Service
DESCRIPTION:LENT 5 – CW
URL:https://stjohnsainsdale.org.uk/event/holy-communion-service-144/
LOCATION:St John’s Church\, Liverpool Road\, Southport\, PR8 3NG\, United Kingdom
CATEGORIES:Church Events,Service
END:VEVENT
BEGIN:VEVENT
DTSTART;TZID=Europe/London:20260323T090000
DTEND;TZID=Europe/London:20260323T094500
DTSTAMP:20260424T171401
CREATED:20260226T104145Z
LAST-MODIFIED:20260226T104145Z
UID:13837-1774256400-1774259100@stjohnsainsdale.org.uk
SUMMARY:School Easter Service
DESCRIPTION:Families are Welcome
URL:https://stjohnsainsdale.org.uk/event/school-easter-service/
LOCATION:St John’s Church\, Liverpool Road\, Southport\, PR8 3NG\, United Kingdom
CATEGORIES:Church Events,School,Service
END:VEVENT
BEGIN:VEVENT
DTSTART;TZID=Europe/London:20260326T103000
DTEND;TZID=Europe/London:20260326T103000
DTSTAMP:20260424T171401
CREATED:20260226T105006Z
LAST-MODIFIED:20260226T105006Z
UID:13849-1774521000-1774521000@stjohnsainsdale.org.uk
SUMMARY:Holy Communion Service
DESCRIPTION:
URL:https://stjohnsainsdale.org.uk/event/holy-communion-service-145/
LOCATION:St John’s Church\, Liverpool Road\, Southport\, PR8 3NG\, United Kingdom
CATEGORIES:Church Events,Service
END:VEVENT
BEGIN:VEVENT
DTSTART;TZID=Europe/London:20260329T083000
DTEND;TZID=Europe/London:20260329T083000
DTSTAMP:20260424T171401
CREATED:20260226T105556Z
LAST-MODIFIED:20260226T105556Z
UID:13853-1774773000-1774773000@stjohnsainsdale.org.uk
SUMMARY:Holy Communion Service
DESCRIPTION:PALM SUNDAY – BCP
URL:https://stjohnsainsdale.org.uk/event/holy-communion-service-146/
LOCATION:St John’s Church\, Liverpool Road\, Southport\, PR8 3NG\, United Kingdom
CATEGORIES:Church Events,Service
END:VEVENT
BEGIN:VEVENT
DTSTART;TZID=Europe/London:20260329T103000
DTEND;TZID=Europe/London:20260329T103000
DTSTAMP:20260424T171401
CREATED:20260226T105742Z
LAST-MODIFIED:20260226T105742Z
UID:13855-1774780200-1774780200@stjohnsainsdale.org.uk
SUMMARY:Holy Communion Service
DESCRIPTION:PALM SUNDAY – CW
URL:https://stjohnsainsdale.org.uk/event/holy-communion-service-147/
LOCATION:St John’s Church\, Liverpool Road\, Southport\, PR8 3NG\, United Kingdom
CATEGORIES:Church Events,Service
END:VEVENT
BEGIN:VEVENT
DTSTART;TZID=Europe/London:20260401T190000
DTEND;TZID=Europe/London:20260401T190000
DTSTAMP:20260424T171401
CREATED:20260331T115432Z
LAST-MODIFIED:20260331T115432Z
UID:13863-1775070000-1775070000@stjohnsainsdale.org.uk
SUMMARY:Compline
DESCRIPTION:
URL:https://stjohnsainsdale.org.uk/event/compline-6/
LOCATION:St John’s Church\, Liverpool Road\, Southport\, PR8 3NG\, United Kingdom
CATEGORIES:Church Events,Service
END:VEVENT
BEGIN:VEVENT
DTSTART;TZID=Europe/London:20260402T103000
DTEND;TZID=Europe/London:20260402T103000
DTSTAMP:20260424T171401
CREATED:20260331T115714Z
LAST-MODIFIED:20260331T115714Z
UID:13865-1775125800-1775125800@stjohnsainsdale.org.uk
SUMMARY:Holy Communion Service
DESCRIPTION:Maundy Thursday Special Service
URL:https://stjohnsainsdale.org.uk/event/holy-communion-service-148/
LOCATION:St John’s Church\, Liverpool Road\, Southport\, PR8 3NG\, United Kingdom
CATEGORIES:Church Events,Service
END:VEVENT
BEGIN:VEVENT
DTSTART;TZID=Europe/London:20260403T103000
DTEND;TZID=Europe/London:20260403T103000
DTSTAMP:20260424T171401
CREATED:20260331T115909Z
LAST-MODIFIED:20260331T115909Z
UID:13867-1775212200-1775212200@stjohnsainsdale.org.uk
SUMMARY:Good Friday Experience
DESCRIPTION:
URL:https://stjohnsainsdale.org.uk/event/good-friday-experience-2/
LOCATION:St John’s Church\, Liverpool Road\, Southport\, PR8 3NG\, United Kingdom
CATEGORIES:Church Events,Service
END:VEVENT
END:VCALENDAR