BEGIN:VCALENDAR
VERSION:2.0
PRODID:-//St John&#039;s Church, Ainsdale - ECPv6.15.20//NONSGML v1.0//EN
CALSCALE:GREGORIAN
METHOD:PUBLISH
X-ORIGINAL-URL:https://stjohnsainsdale.org.uk
X-WR-CALDESC:Events for St John&#039;s Church, Ainsdale
REFRESH-INTERVAL;VALUE=DURATION:PT1H
X-Robots-Tag:noindex
X-PUBLISHED-TTL:PT1H
BEGIN:VTIMEZONE
TZID:Europe/London
BEGIN:DAYLIGHT
TZOFFSETFROM:+0000
TZOFFSETTO:+0100
TZNAME:BST
DTSTART:20240331T010000
END:DAYLIGHT
BEGIN:STANDARD
TZOFFSETFROM:+0100
TZOFFSETTO:+0000
TZNAME:GMT
DTSTART:20241027T010000
END:STANDARD
BEGIN:DAYLIGHT
TZOFFSETFROM:+0000
TZOFFSETTO:+0100
TZNAME:BST
DTSTART:20250330T010000
END:DAYLIGHT
BEGIN:STANDARD
TZOFFSETFROM:+0100
TZOFFSETTO:+0000
TZNAME:GMT
DTSTART:20251026T010000
END:STANDARD
BEGIN:DAYLIGHT
TZOFFSETFROM:+0000
TZOFFSETTO:+0100
TZNAME:BST
DTSTART:20260329T010000
END:DAYLIGHT
BEGIN:STANDARD
TZOFFSETFROM:+0100
TZOFFSETTO:+0000
TZNAME:GMT
DTSTART:20261025T010000
END:STANDARD
END:VTIMEZONE
BEGIN:VEVENT
DTSTART;TZID=Europe/London:20250918T103000
DTEND;TZID=Europe/London:20250918T103000
DTSTAMP:20260425T164651
CREATED:20250901T115738Z
LAST-MODIFIED:20250901T115738Z
UID:13416-1758191400-1758191400@stjohnsainsdale.org.uk
SUMMARY:Holy Communion Service
DESCRIPTION:BCP
URL:https://stjohnsainsdale.org.uk/event/holy-communion-service-100/
LOCATION:St John’s Church\, Liverpool Road\, Southport\, PR8 3NG\, United Kingdom
CATEGORIES:Church Events,Service
END:VEVENT
BEGIN:VEVENT
DTSTART;TZID=Europe/London:20250921T083000
DTEND;TZID=Europe/London:20250921T083000
DTSTAMP:20260425T164651
CREATED:20250901T120324Z
LAST-MODIFIED:20250901T120324Z
UID:13422-1758443400-1758443400@stjohnsainsdale.org.uk
SUMMARY:Holy Communion Service
DESCRIPTION:Trinity 14 – BCP
URL:https://stjohnsainsdale.org.uk/event/holy-communion-service-101/
LOCATION:St John’s Church\, Liverpool Road\, Southport\, PR8 3NG\, United Kingdom
CATEGORIES:Church Events,Service
END:VEVENT
BEGIN:VEVENT
DTSTART;TZID=Europe/London:20250921T103000
DTEND;TZID=Europe/London:20250921T103000
DTSTAMP:20260425T164651
CREATED:20250901T120458Z
LAST-MODIFIED:20250901T120458Z
UID:13424-1758450600-1758450600@stjohnsainsdale.org.uk
SUMMARY:Praise & Worship
DESCRIPTION:Trinity 14
URL:https://stjohnsainsdale.org.uk/event/praise-worship-8/
LOCATION:St John’s Church\, Liverpool Road\, Southport\, PR8 3NG\, United Kingdom
CATEGORIES:Church Events,Service
END:VEVENT
BEGIN:VEVENT
DTSTART;TZID=Europe/London:20250925T103000
DTEND;TZID=Europe/London:20250925T103000
DTSTAMP:20260425T164651
CREATED:20250901T121645Z
LAST-MODIFIED:20250901T121645Z
UID:13438-1758796200-1758796200@stjohnsainsdale.org.uk
SUMMARY:Holy Communion Service
DESCRIPTION:BCP
URL:https://stjohnsainsdale.org.uk/event/holy-communion-service-102/
LOCATION:St John’s Church\, Liverpool Road\, Southport\, PR8 3NG\, United Kingdom
CATEGORIES:Church Events,Service
END:VEVENT
BEGIN:VEVENT
DTSTART;TZID=Europe/London:20250928T083000
DTEND;TZID=Europe/London:20250928T083000
DTSTAMP:20260425T164651
CREATED:20250901T124734Z
LAST-MODIFIED:20250901T124734Z
UID:13444-1759048200-1759048200@stjohnsainsdale.org.uk
SUMMARY:Holy Communion Service
DESCRIPTION:Trinity 15 – BCP
URL:https://stjohnsainsdale.org.uk/event/holy-communion-service-103/
LOCATION:St John’s Church\, Liverpool Road\, Southport\, PR8 3NG\, United Kingdom
CATEGORIES:Church Events,Service
END:VEVENT
BEGIN:VEVENT
DTSTART;TZID=Europe/London:20250928T103000
DTEND;TZID=Europe/London:20250928T103000
DTSTAMP:20260425T164651
CREATED:20250901T124844Z
LAST-MODIFIED:20250901T124844Z
UID:13446-1759055400-1759055400@stjohnsainsdale.org.uk
SUMMARY:Holy Communion Service
DESCRIPTION:Trinity 15 – CW
URL:https://stjohnsainsdale.org.uk/event/holy-communion-service-104/
LOCATION:St John’s Church\, Liverpool Road\, Southport\, PR8 3NG\, United Kingdom
CATEGORIES:Church Events,Service
END:VEVENT
BEGIN:VEVENT
DTSTART;TZID=Europe/London:20251102T083000
DTEND;TZID=Europe/London:20251102T083000
DTSTAMP:20260425T164651
CREATED:20251030T145340Z
LAST-MODIFIED:20251030T145340Z
UID:13467-1762072200-1762072200@stjohnsainsdale.org.uk
SUMMARY:Holy Communion Service
DESCRIPTION:Trinity 20 – BCP
URL:https://stjohnsainsdale.org.uk/event/holy-communion-service-105/
LOCATION:St John’s Church\, Liverpool Road\, Southport\, PR8 3NG\, United Kingdom
CATEGORIES:Church Events,Service
END:VEVENT
BEGIN:VEVENT
DTSTART;TZID=Europe/London:20251102T103000
DTEND;TZID=Europe/London:20251102T103000
DTSTAMP:20260425T164651
CREATED:20251030T145501Z
LAST-MODIFIED:20251030T145501Z
UID:13469-1762079400-1762079400@stjohnsainsdale.org.uk
SUMMARY:P&W Baptism
DESCRIPTION:
URL:https://stjohnsainsdale.org.uk/event/pw-baptism-2/
LOCATION:St John’s Church\, Liverpool Road\, Southport\, PR8 3NG\, United Kingdom
CATEGORIES:Church Events,Service
END:VEVENT
BEGIN:VEVENT
DTSTART;TZID=Europe/London:20251106T103000
DTEND;TZID=Europe/London:20251106T103000
DTSTAMP:20260425T164651
CREATED:20251030T150417Z
LAST-MODIFIED:20251030T150417Z
UID:13481-1762425000-1762425000@stjohnsainsdale.org.uk
SUMMARY:Holy Communion Service
DESCRIPTION:BCP
URL:https://stjohnsainsdale.org.uk/event/holy-communion-service-106/
LOCATION:St John’s Church\, Liverpool Road\, Southport\, PR8 3NG\, United Kingdom
CATEGORIES:Church Events,Service
END:VEVENT
BEGIN:VEVENT
DTSTART;TZID=Europe/London:20251109T083000
DTEND;TZID=Europe/London:20251109T083000
DTSTAMP:20260425T164651
CREATED:20251030T151057Z
LAST-MODIFIED:20251030T151057Z
UID:13487-1762677000-1762677000@stjohnsainsdale.org.uk
SUMMARY:Hloy Communion Service
DESCRIPTION:Trinity 21 BCP
URL:https://stjohnsainsdale.org.uk/event/hloy-communion-service/
LOCATION:St John’s Church\, Liverpool Road\, Southport\, PR8 3NG\, United Kingdom
CATEGORIES:Church Events,Service
END:VEVENT
BEGIN:VEVENT
DTSTART;TZID=Europe/London:20251113T103000
DTEND;TZID=Europe/London:20251113T103000
DTSTAMP:20260425T164651
CREATED:20251030T154213Z
LAST-MODIFIED:20251030T154213Z
UID:13506-1763029800-1763029800@stjohnsainsdale.org.uk
SUMMARY:Holy Communion Service
DESCRIPTION:BCP
URL:https://stjohnsainsdale.org.uk/event/holy-communion-service-107/
LOCATION:St John’s Church\, Liverpool Road\, Southport\, PR8 3NG\, United Kingdom
CATEGORIES:Church Events,Service
END:VEVENT
BEGIN:VEVENT
DTSTART;TZID=Europe/London:20251116T083000
DTEND;TZID=Europe/London:20251116T083000
DTSTAMP:20260425T164651
CREATED:20251030T154700Z
LAST-MODIFIED:20251030T154700Z
UID:13512-1763281800-1763281800@stjohnsainsdale.org.uk
SUMMARY:Holy Communion Service
DESCRIPTION:BCP
URL:https://stjohnsainsdale.org.uk/event/holy-communion-service-108/
LOCATION:St John’s Church\, Liverpool Road\, Southport\, PR8 3NG\, United Kingdom
CATEGORIES:Church Events,Service
END:VEVENT
BEGIN:VEVENT
DTSTART;TZID=Europe/London:20251116T103000
DTEND;TZID=Europe/London:20251116T103000
DTSTAMP:20260425T164651
CREATED:20251030T154758Z
LAST-MODIFIED:20251030T154758Z
UID:13514-1763289000-1763289000@stjohnsainsdale.org.uk
SUMMARY:Praise & Worship
DESCRIPTION:
URL:https://stjohnsainsdale.org.uk/event/praise-worship-9/
LOCATION:St John’s Church\, Liverpool Road\, Southport\, PR8 3NG\, United Kingdom
CATEGORIES:Church Events,Service
END:VEVENT
BEGIN:VEVENT
DTSTART;TZID=Europe/London:20251117T180000
DTEND;TZID=Europe/London:20251117T190000
DTSTAMP:20260425T164651
CREATED:20251030T155030Z
LAST-MODIFIED:20251030T155030Z
UID:13518-1763402400-1763406000@stjohnsainsdale.org.uk
SUMMARY:Brownies
DESCRIPTION:
URL:https://stjohnsainsdale.org.uk/event/brownies-30/
LOCATION:St John’s Church\, Liverpool Road\, Southport\, PR8 3NG\, United Kingdom
CATEGORIES:Church Events,Service
END:VEVENT
BEGIN:VEVENT
DTSTART;TZID=Europe/London:20251120T103000
DTEND;TZID=Europe/London:20251120T103000
DTSTAMP:20260425T164651
CREATED:20251030T155512Z
LAST-MODIFIED:20251030T155512Z
UID:13526-1763634600-1763634600@stjohnsainsdale.org.uk
SUMMARY:Holy Communion Service
DESCRIPTION:BCP
URL:https://stjohnsainsdale.org.uk/event/holy-communion-service-109/
LOCATION:St John’s Church\, Liverpool Road\, Southport\, PR8 3NG\, United Kingdom
CATEGORIES:Church Events,Service
END:VEVENT
BEGIN:VEVENT
DTSTART;TZID=Europe/London:20251123T083000
DTEND;TZID=Europe/London:20251123T083000
DTSTAMP:20260425T164651
CREATED:20251030T155748Z
LAST-MODIFIED:20251030T155748Z
UID:13530-1763886600-1763886600@stjohnsainsdale.org.uk
SUMMARY:Holy Communion Service
DESCRIPTION:Next Before Advent – BCP
URL:https://stjohnsainsdale.org.uk/event/holy-communion-service-110/
LOCATION:St John’s Church\, Liverpool Road\, Southport\, PR8 3NG\, United Kingdom
CATEGORIES:Church Events,Service
END:VEVENT
BEGIN:VEVENT
DTSTART;TZID=Europe/London:20251123T103000
DTEND;TZID=Europe/London:20251123T103000
DTSTAMP:20260425T164651
CREATED:20251030T155912Z
LAST-MODIFIED:20251030T155912Z
UID:13532-1763893800-1763893800@stjohnsainsdale.org.uk
SUMMARY:Holy Communion Service
DESCRIPTION:Next Befoer Advent – CW
URL:https://stjohnsainsdale.org.uk/event/holy-communion-service-111/
LOCATION:St John’s Church\, Liverpool Road\, Southport\, PR8 3NG\, United Kingdom
CATEGORIES:Church Events,Service
END:VEVENT
BEGIN:VEVENT
DTSTART;TZID=Europe/London:20251127T103000
DTEND;TZID=Europe/London:20251127T103000
DTSTAMP:20260425T164651
CREATED:20251030T160630Z
LAST-MODIFIED:20251030T160630Z
UID:13544-1764239400-1764239400@stjohnsainsdale.org.uk
SUMMARY:Holy Communion Service
DESCRIPTION:BCP
URL:https://stjohnsainsdale.org.uk/event/holy-communion-service-112/
LOCATION:St John’s Church\, Liverpool Road\, Southport\, PR8 3NG\, United Kingdom
CATEGORIES:Church Events,Service
END:VEVENT
BEGIN:VEVENT
DTSTART;TZID=Europe/London:20251130T083000
DTEND;TZID=Europe/London:20251130T083000
DTSTAMP:20260425T164651
CREATED:20251030T161320Z
LAST-MODIFIED:20251030T161320Z
UID:13547-1764491400-1764491400@stjohnsainsdale.org.uk
SUMMARY:Holy Communion Service
DESCRIPTION:Advent 1 – BCP
URL:https://stjohnsainsdale.org.uk/event/holy-communion-service-113/
LOCATION:St John’s Church\, Liverpool Road\, Southport\, PR8 3NG\, United Kingdom
CATEGORIES:Church Events,Service
END:VEVENT
BEGIN:VEVENT
DTSTART;TZID=Europe/London:20251130T103000
DTEND;TZID=Europe/London:20251130T103000
DTSTAMP:20260425T164651
CREATED:20251030T161512Z
LAST-MODIFIED:20251030T161512Z
UID:13549-1764498600-1764498600@stjohnsainsdale.org.uk
SUMMARY:Pet Service
DESCRIPTION:Advent 1 \nBring Your Pets To Church \n 
URL:https://stjohnsainsdale.org.uk/event/pet-service/
LOCATION:St John’s Church\, Liverpool Road\, Southport\, PR8 3NG\, United Kingdom
CATEGORIES:Church Events,Service
END:VEVENT
BEGIN:VEVENT
DTSTART;TZID=Europe/London:20251204T103000
DTEND;TZID=Europe/London:20251204T103000
DTSTAMP:20260425T164651
CREATED:20251127T100140Z
LAST-MODIFIED:20251127T100140Z
UID:13567-1764844200-1764844200@stjohnsainsdale.org.uk
SUMMARY:Holy Communion Service
DESCRIPTION:BCP
URL:https://stjohnsainsdale.org.uk/event/holy-communion-service-114/
LOCATION:St John’s Church\, Liverpool Road\, Southport\, PR8 3NG\, United Kingdom
CATEGORIES:Church Events,Service
END:VEVENT
BEGIN:VEVENT
DTSTART;TZID=Europe/London:20251207T083000
DTEND;TZID=Europe/London:20251207T083000
DTSTAMP:20260425T164651
CREATED:20251127T100458Z
LAST-MODIFIED:20251127T100458Z
UID:13571-1765096200-1765096200@stjohnsainsdale.org.uk
SUMMARY:Advent 2 - Holy Communion Service
DESCRIPTION:BCP
URL:https://stjohnsainsdale.org.uk/event/advent-2-holy-communion-service/
LOCATION:St John’s Church\, Liverpool Road\, Southport\, PR8 3NG\, United Kingdom
CATEGORIES:Church Events,Service
END:VEVENT
BEGIN:VEVENT
DTSTART;TZID=Europe/London:20251207T103000
DTEND;TZID=Europe/London:20251207T103000
DTSTAMP:20260425T164651
CREATED:20251127T100723Z
LAST-MODIFIED:20251127T100723Z
UID:13573-1765103400-1765103400@stjohnsainsdale.org.uk
SUMMARY:Christingle & Parade Service
DESCRIPTION:ADVENT 2 \nPraise & Worship
URL:https://stjohnsainsdale.org.uk/event/christingle-parade-service/
LOCATION:St John’s Church\, Liverpool Road\, Southport\, PR8 3NG\, United Kingdom
CATEGORIES:Church Events,Service,Uniformed Organisations
END:VEVENT
BEGIN:VEVENT
DTSTART;TZID=Europe/London:20251211T103000
DTEND;TZID=Europe/London:20251211T103000
DTSTAMP:20260425T164651
CREATED:20251127T102000Z
LAST-MODIFIED:20251127T102000Z
UID:13589-1765449000-1765449000@stjohnsainsdale.org.uk
SUMMARY:Holy Communion Service
DESCRIPTION:BCP
URL:https://stjohnsainsdale.org.uk/event/holy-communion-service-115/
LOCATION:St John’s Church\, Liverpool Road\, Southport\, PR8 3NG\, United Kingdom
CATEGORIES:Church Events,Service
END:VEVENT
BEGIN:VEVENT
DTSTART;TZID=Europe/London:20251214T083000
DTEND;TZID=Europe/London:20251214T083000
DTSTAMP:20260425T164651
CREATED:20251127T102349Z
LAST-MODIFIED:20251127T102349Z
UID:13593-1765701000-1765701000@stjohnsainsdale.org.uk
SUMMARY:Advent 3 - Holy Communion Service
DESCRIPTION:BCP
URL:https://stjohnsainsdale.org.uk/event/advent-3-holy-communion-service/
LOCATION:St John’s Church\, Liverpool Road\, Southport\, PR8 3NG\, United Kingdom
CATEGORIES:Church Events,Service
END:VEVENT
BEGIN:VEVENT
DTSTART;TZID=Europe/London:20251214T103000
DTEND;TZID=Europe/London:20251214T103000
DTSTAMP:20260425T164651
CREATED:20251127T102536Z
LAST-MODIFIED:20251127T102536Z
UID:13595-1765708200-1765708200@stjohnsainsdale.org.uk
SUMMARY:Holy Communion Service
DESCRIPTION:ADVENT 3 – CW
URL:https://stjohnsainsdale.org.uk/event/holy-communion-service-116/
LOCATION:St John’s Church\, Liverpool Road\, Southport\, PR8 3NG\, United Kingdom
CATEGORIES:Church Events,Service
END:VEVENT
BEGIN:VEVENT
DTSTART;TZID=Europe/London:20251218T103000
DTEND;TZID=Europe/London:20251218T103000
DTSTAMP:20260425T164651
CREATED:20251127T103352Z
LAST-MODIFIED:20251127T103352Z
UID:13605-1766053800-1766053800@stjohnsainsdale.org.uk
SUMMARY:Holy Communion Service
DESCRIPTION:BCP
URL:https://stjohnsainsdale.org.uk/event/holy-communion-service-117/
LOCATION:St John’s Church\, Liverpool Road\, Southport\, PR8 3NG\, United Kingdom
CATEGORIES:Church Events,Service
END:VEVENT
BEGIN:VEVENT
DTSTART;TZID=Europe/London:20251221T083000
DTEND;TZID=Europe/London:20251221T083000
DTSTAMP:20260425T164651
CREATED:20251127T103617Z
LAST-MODIFIED:20251127T103617Z
UID:13609-1766305800-1766305800@stjohnsainsdale.org.uk
SUMMARY:Advent 4 - Holy Communion Service
DESCRIPTION:BCP
URL:https://stjohnsainsdale.org.uk/event/advent-4-holy-communion-service/
LOCATION:St John’s Church\, Liverpool Road\, Southport\, PR8 3NG\, United Kingdom
CATEGORIES:Church Events,Service
END:VEVENT
BEGIN:VEVENT
DTSTART;TZID=Europe/London:20251221T103000
DTEND;TZID=Europe/London:20251221T103000
DTSTAMP:20260425T164651
CREATED:20251127T103742Z
LAST-MODIFIED:20251127T103742Z
UID:13611-1766313000-1766313000@stjohnsainsdale.org.uk
SUMMARY:Praise & Worship
DESCRIPTION:ADVENT 4
URL:https://stjohnsainsdale.org.uk/event/praise-worship-10/
LOCATION:St John’s Church\, Liverpool Road\, Southport\, PR8 3NG\, United Kingdom
CATEGORIES:Church Events,Service
END:VEVENT
BEGIN:VEVENT
DTSTART;TZID=Europe/London:20251221T180000
DTEND;TZID=Europe/London:20251221T180000
DTSTAMP:20260425T164651
CREATED:20251127T103932Z
LAST-MODIFIED:20251127T103932Z
UID:13613-1766340000-1766340000@stjohnsainsdale.org.uk
SUMMARY:O Come All Ye Faithful
DESCRIPTION:Carol Service
URL:https://stjohnsainsdale.org.uk/event/o-come-all-ye-faithful/
LOCATION:St John’s Church\, Liverpool Road\, Southport\, PR8 3NG\, United Kingdom
CATEGORIES:Church Events,Service
END:VEVENT
END:VCALENDAR