BEGIN:VCALENDAR
VERSION:2.0
PRODID:-//St John&#039;s Church, Ainsdale - ECPv6.15.20//NONSGML v1.0//EN
CALSCALE:GREGORIAN
METHOD:PUBLISH
X-ORIGINAL-URL:https://stjohnsainsdale.org.uk
X-WR-CALDESC:Events for St John&#039;s Church, Ainsdale
REFRESH-INTERVAL;VALUE=DURATION:PT1H
X-Robots-Tag:noindex
X-PUBLISHED-TTL:PT1H
BEGIN:VTIMEZONE
TZID:Europe/London
BEGIN:DAYLIGHT
TZOFFSETFROM:+0000
TZOFFSETTO:+0100
TZNAME:BST
DTSTART:20250330T010000
END:DAYLIGHT
BEGIN:STANDARD
TZOFFSETFROM:+0100
TZOFFSETTO:+0000
TZNAME:GMT
DTSTART:20251026T010000
END:STANDARD
BEGIN:DAYLIGHT
TZOFFSETFROM:+0000
TZOFFSETTO:+0100
TZNAME:BST
DTSTART:20260329T010000
END:DAYLIGHT
BEGIN:STANDARD
TZOFFSETFROM:+0100
TZOFFSETTO:+0000
TZNAME:GMT
DTSTART:20261025T010000
END:STANDARD
BEGIN:DAYLIGHT
TZOFFSETFROM:+0000
TZOFFSETTO:+0100
TZNAME:BST
DTSTART:20270328T010000
END:DAYLIGHT
BEGIN:STANDARD
TZOFFSETFROM:+0100
TZOFFSETTO:+0000
TZNAME:GMT
DTSTART:20271031T010000
END:STANDARD
END:VTIMEZONE
BEGIN:VEVENT
DTSTART;TZID=Europe/London:20260403T140000
DTEND;TZID=Europe/London:20260403T150000
DTSTAMP:20260425T125706
CREATED:20260331T120045Z
LAST-MODIFIED:20260331T120045Z
UID:13869-1775224800-1775228400@stjohnsainsdale.org.uk
SUMMARY:Good Friday Service
DESCRIPTION:An Hour Before The Cross
URL:https://stjohnsainsdale.org.uk/event/good-friday-service/
LOCATION:St John’s Church\, Liverpool Road\, Southport\, PR8 3NG\, United Kingdom
CATEGORIES:Church Events,Service
END:VEVENT
BEGIN:VEVENT
DTSTART;TZID=Europe/London:20260405T083000
DTEND;TZID=Europe/London:20260405T083000
DTSTAMP:20260425T125706
CREATED:20260331T120336Z
LAST-MODIFIED:20260331T120336Z
UID:13873-1775377800-1775377800@stjohnsainsdale.org.uk
SUMMARY:Holy Communion Service
DESCRIPTION:BCP
URL:https://stjohnsainsdale.org.uk/event/holy-communion-service-149/
LOCATION:St John’s Church\, Liverpool Road\, Southport\, PR8 3NG\, United Kingdom
CATEGORIES:Church Events,Service
END:VEVENT
BEGIN:VEVENT
DTSTART;TZID=Europe/London:20260405T103000
DTEND;TZID=Europe/London:20260405T103000
DTSTAMP:20260425T125706
CREATED:20260331T120447Z
LAST-MODIFIED:20260331T120447Z
UID:13875-1775385000-1775385000@stjohnsainsdale.org.uk
SUMMARY:Praise & Worship
DESCRIPTION:With Holy Communion
URL:https://stjohnsainsdale.org.uk/event/praise-worship-15/
LOCATION:St John’s Church\, Liverpool Road\, Southport\, PR8 3NG\, United Kingdom
CATEGORIES:Church Events,Service
END:VEVENT
BEGIN:VEVENT
DTSTART;TZID=Europe/London:20260409T103000
DTEND;TZID=Europe/London:20260409T103000
DTSTAMP:20260425T125706
CREATED:20260331T120800Z
LAST-MODIFIED:20260331T120800Z
UID:13879-1775730600-1775730600@stjohnsainsdale.org.uk
SUMMARY:Holy Communion Service
DESCRIPTION:BCP
URL:https://stjohnsainsdale.org.uk/event/holy-communion-service-150/
LOCATION:St John’s Church\, Liverpool Road\, Southport\, PR8 3NG\, United Kingdom
CATEGORIES:Church Events,Service
END:VEVENT
BEGIN:VEVENT
DTSTART;TZID=Europe/London:20260412T083000
DTEND;TZID=Europe/London:20260412T083000
DTSTAMP:20260425T125706
CREATED:20260331T120921Z
LAST-MODIFIED:20260331T120921Z
UID:13881-1775982600-1775982600@stjohnsainsdale.org.uk
SUMMARY:Holy Communion Service
DESCRIPTION:EASTER 2 – BCP
URL:https://stjohnsainsdale.org.uk/event/holy-communion-service-151/
LOCATION:St John’s Church\, Liverpool Road\, Southport\, PR8 3NG\, United Kingdom
CATEGORIES:Church Events,Service
END:VEVENT
BEGIN:VEVENT
DTSTART;TZID=Europe/London:20260412T103000
DTEND;TZID=Europe/London:20260412T103000
DTSTAMP:20260425T125706
CREATED:20260331T121032Z
LAST-MODIFIED:20260331T121032Z
UID:13883-1775989800-1775989800@stjohnsainsdale.org.uk
SUMMARY:Holy Communion Service
DESCRIPTION:EASTER 2 – CW
URL:https://stjohnsainsdale.org.uk/event/holy-communion-service-152/
LOCATION:St John’s Church\, Liverpool Road\, Southport\, PR8 3NG\, United Kingdom
CATEGORIES:Church Events,Service
END:VEVENT
BEGIN:VEVENT
DTSTART;TZID=Europe/London:20260416T103000
DTEND;TZID=Europe/London:20260416T103000
DTSTAMP:20260425T125706
CREATED:20260331T121728Z
LAST-MODIFIED:20260331T121728Z
UID:13895-1776335400-1776335400@stjohnsainsdale.org.uk
SUMMARY:Holy Communion Service
DESCRIPTION:
URL:https://stjohnsainsdale.org.uk/event/holy-communion-service-153/
LOCATION:St John’s Church\, Liverpool Road\, Southport\, PR8 3NG\, United Kingdom
CATEGORIES:Church Events,Service
END:VEVENT
BEGIN:VEVENT
DTSTART;TZID=Europe/London:20260419T083000
DTEND;TZID=Europe/London:20260419T083000
DTSTAMP:20260425T125706
CREATED:20260331T122015Z
LAST-MODIFIED:20260331T122015Z
UID:13899-1776587400-1776587400@stjohnsainsdale.org.uk
SUMMARY:Holy Communion Service
DESCRIPTION:EASTER 3 – BCP
URL:https://stjohnsainsdale.org.uk/event/holy-communion-service-154/
LOCATION:St John’s Church\, Liverpool Road\, Southport\, PR8 3NG\, United Kingdom
CATEGORIES:Church Events,Service
END:VEVENT
BEGIN:VEVENT
DTSTART;TZID=Europe/London:20260419T103000
DTEND;TZID=Europe/London:20260419T103000
DTSTAMP:20260425T125707
CREATED:20260331T124237Z
LAST-MODIFIED:20260331T124237Z
UID:13901-1776594600-1776594600@stjohnsainsdale.org.uk
SUMMARY:Praise & Worship
DESCRIPTION:EASTER 3
URL:https://stjohnsainsdale.org.uk/event/praise-worship-16/
LOCATION:St John’s Church\, Liverpool Road\, Southport\, PR8 3NG\, United Kingdom
CATEGORIES:Church Events,Service
END:VEVENT
BEGIN:VEVENT
DTSTART;TZID=Europe/London:20260423T103000
DTEND;TZID=Europe/London:20260423T103000
DTSTAMP:20260425T125707
CREATED:20260331T124940Z
LAST-MODIFIED:20260331T124940Z
UID:13913-1776940200-1776940200@stjohnsainsdale.org.uk
SUMMARY:Holy Communion Service
DESCRIPTION:
URL:https://stjohnsainsdale.org.uk/event/holy-communion-service-155/
LOCATION:St John’s Church\, Liverpool Road\, Southport\, PR8 3NG\, United Kingdom
CATEGORIES:Church Events,Service
END:VEVENT
BEGIN:VEVENT
DTSTART;TZID=Europe/London:20260426T083000
DTEND;TZID=Europe/London:20260426T083000
DTSTAMP:20260425T125707
CREATED:20260331T125202Z
LAST-MODIFIED:20260331T125202Z
UID:13917-1777192200-1777192200@stjohnsainsdale.org.uk
SUMMARY:Holy Communion Service
DESCRIPTION:EASTER 4 – BCP
URL:https://stjohnsainsdale.org.uk/event/holy-communion-service-156/
LOCATION:St John’s Church\, Liverpool Road\, Southport\, PR8 3NG\, United Kingdom
CATEGORIES:Church Events,Service
END:VEVENT
BEGIN:VEVENT
DTSTART;TZID=Europe/London:20260426T103000
DTEND;TZID=Europe/London:20260426T103000
DTSTAMP:20260425T125707
CREATED:20260331T125303Z
LAST-MODIFIED:20260331T125303Z
UID:13919-1777199400-1777199400@stjohnsainsdale.org.uk
SUMMARY:Holy Communion Service
DESCRIPTION:EASTER 4 – CW
URL:https://stjohnsainsdale.org.uk/event/holy-communion-service-157/
LOCATION:St John’s Church\, Liverpool Road\, Southport\, PR8 3NG\, United Kingdom
CATEGORIES:Church Events,Service
END:VEVENT
BEGIN:VEVENT
DTSTART;TZID=Europe/London:20260430T103000
DTEND;TZID=Europe/London:20260430T103000
DTSTAMP:20260425T125707
CREATED:20260331T130152Z
LAST-MODIFIED:20260331T130152Z
UID:13933-1777545000-1777545000@stjohnsainsdale.org.uk
SUMMARY:Holy Communion Service
DESCRIPTION:BCP
URL:https://stjohnsainsdale.org.uk/event/holy-communion-service-158/
LOCATION:St John’s Church\, Liverpool Road\, Southport\, PR8 3NG\, United Kingdom
CATEGORIES:Church Events,Service
END:VEVENT
END:VCALENDAR